BEGIN:VCALENDAR
VERSION:2.0
PRODID:-//Dòng Chúa Cứu Thế Hải Ngoại - ECPv6.15.20//NONSGML v1.0//EN
CALSCALE:GREGORIAN
METHOD:PUBLISH
X-ORIGINAL-URL:https://dongchuacuuthe.us
X-WR-CALDESC:Events for Dòng Chúa Cứu Thế Hải Ngoại
REFRESH-INTERVAL;VALUE=DURATION:PT1H
X-Robots-Tag:noindex
X-PUBLISHED-TTL:PT1H
BEGIN:VTIMEZONE
TZID:America/Los_Angeles
BEGIN:DAYLIGHT
TZOFFSETFROM:-0800
TZOFFSETTO:-0700
TZNAME:PDT
DTSTART:20240310T100000
END:DAYLIGHT
BEGIN:STANDARD
TZOFFSETFROM:-0700
TZOFFSETTO:-0800
TZNAME:PST
DTSTART:20241103T090000
END:STANDARD
BEGIN:DAYLIGHT
TZOFFSETFROM:-0800
TZOFFSETTO:-0700
TZNAME:PDT
DTSTART:20250309T100000
END:DAYLIGHT
BEGIN:STANDARD
TZOFFSETFROM:-0700
TZOFFSETTO:-0800
TZNAME:PST
DTSTART:20251102T090000
END:STANDARD
BEGIN:DAYLIGHT
TZOFFSETFROM:-0800
TZOFFSETTO:-0700
TZNAME:PDT
DTSTART:20260308T100000
END:DAYLIGHT
BEGIN:STANDARD
TZOFFSETFROM:-0700
TZOFFSETTO:-0800
TZNAME:PST
DTSTART:20261101T090000
END:STANDARD
END:VTIMEZONE
BEGIN:VEVENT
DTSTART;VALUE=DATE:20251105
DTEND;VALUE=DATE:20251106
DTSTAMP:20260423T153403
CREATED:20251106T063901Z
LAST-MODIFIED:20251106T063901Z
UID:13071-1762300800-1762387199@dongchuacuuthe.us
SUMMARY:hứ Tư Tuần XXXI Thường Niên Năm I
DESCRIPTION:BÀI ĐỌC I: Rm 13\, 8-10 \n“Yêu thương là chu toàn trọn cả luật”. \nTrích thư Thánh Phaolô Tông đồ gửi tín hữu Rôma. \nAnh em thân mến\, anh em chớ mắc nợ ai ngoài việc phải yêu mến nhau. Vì ai yêu người\, thì đã giữ trọn Lề luật. Đó là: Chớ ngoại tình\, chớ giết người\, chớ trộm cắp\, chớ làm chứng gian\, chớ mê tham\, và nếu có điều luật nào khác\, thì cũng tóm lại trong lời này là: Ngươi hãy yêu mến kẻ khác như chính mình. Lòng yêu thương không làm hại kẻ khác. Vậy yêu thương là chu toàn cả lề luật.  Đó là lời Chúa. \nĐÁP CA: Tv 111\, 1-2. 4-5. 9 \nĐáp: Phúc đức cho người biết xót thương và cho vay (c. 5a). \nHoặc đọc: Alleluia.  \nXướng: 1) Phúc đức thay người tôn sợ Chúa\, người hết lòng ham mộ luật pháp của Ngài. Con cháu người sẽ hùng cường trong đất nước: thiên hạ sẽ chúc phúc cho dòng dõi hiền nhân. – Đáp. \n2) Trong u tối người xuất hiện như sự sáng soi kẻ lòng ngay\, người nhân hậu\, từ bi và công chính. Phúc đức cho người biết xót thương và cho vay\, biết quản lý tài sản mình theo đức công bình. – Đáp. \n3) Người ban phát và bố thí cho những kẻ nghèo\, lòng quảng đại của người muôn đời còn mãi\, sừng người được ngẩng lên trong vinh quang. – Đáp. \nALLELUIA: x. Cv 16\, 14b \nAlleluia\, alleluia! – Lạy Chúa\, xin hãy mở lòng chúng con\, để chúng con nghe lời của Con Chúa. – Alleluia. \nPHÚC ÂM: Lc 14\, 25-33 \n“Ai không từ bỏ tất cả của cải mình có\, thì không thể làm môn đệ Ta”. \nTin Mừng Chúa Giêsu Kitô theo Thánh Luca. \nKhi ấy\, có nhiều đám đông cùng đi với Chúa Giêsu\, Người ngoảnh lại bảo họ rằng: “Nếu ai đến với Ta mà không bỏ cha mẹ\, vợ con\, anh chị em và cả mạng sống mình\, thì không thể làm môn đệ Ta. Còn ai không vác thập giá mình mà theo Ta\, thì không thể làm môn đệ Ta. Và có ai trong các ngươi muốn xây tháp mà trước tiên không ngồi tính toán phí tổn cần thiết\, xem có đủ để hoàn tất không\, kẻo đặt móng rồi mà không thể hoàn tất\, thì mọi người xem thấy sẽ chế diễu người đó rằng: ‘Tên này khởi sự xây cất mà không hoàn thành nổi’.  \n“Hoặc có vua nào sắp đi giao chiến với một vua khác\, mà trước tiên không ngồi suy nghĩ xem mình có thể đem mười ngàn quân ra đương đầu với đối phương dẫn hai mươi ngàn quân tiến đánh mình chăng? Bằng chẳng nổi\, thì khi đối phương còn ở xa\, vua ấy sai một phái đoàn đến cầu hoà. Cũng thế\, bất kỳ ai trong các ngươi không từ bỏ tất cả của cải mình có\, thì không thể làm môn đệ Ta”. Đó là lời Chúa.
URL:https://dongchuacuuthe.us/calendar/hu-tu-tuan-xxxi-thuong-nien-nam-i/
END:VEVENT
END:VCALENDAR