BEGIN:VCALENDAR
VERSION:2.0
PRODID:-//Dòng Chúa Cứu Thế Hải Ngoại - ECPv6.15.20//NONSGML v1.0//EN
CALSCALE:GREGORIAN
METHOD:PUBLISH
X-WR-CALNAME:Dòng Chúa Cứu Thế Hải Ngoại
X-ORIGINAL-URL:https://dongchuacuuthe.us
X-WR-CALDESC:Events for Dòng Chúa Cứu Thế Hải Ngoại
REFRESH-INTERVAL;VALUE=DURATION:PT1H
X-Robots-Tag:noindex
X-PUBLISHED-TTL:PT1H
BEGIN:VTIMEZONE
TZID:America/Los_Angeles
BEGIN:DAYLIGHT
TZOFFSETFROM:-0800
TZOFFSETTO:-0700
TZNAME:PDT
DTSTART:20240310T100000
END:DAYLIGHT
BEGIN:STANDARD
TZOFFSETFROM:-0700
TZOFFSETTO:-0800
TZNAME:PST
DTSTART:20241103T090000
END:STANDARD
BEGIN:DAYLIGHT
TZOFFSETFROM:-0800
TZOFFSETTO:-0700
TZNAME:PDT
DTSTART:20250309T100000
END:DAYLIGHT
BEGIN:STANDARD
TZOFFSETFROM:-0700
TZOFFSETTO:-0800
TZNAME:PST
DTSTART:20251102T090000
END:STANDARD
BEGIN:DAYLIGHT
TZOFFSETFROM:-0800
TZOFFSETTO:-0700
TZNAME:PDT
DTSTART:20260308T100000
END:DAYLIGHT
BEGIN:STANDARD
TZOFFSETFROM:-0700
TZOFFSETTO:-0800
TZNAME:PST
DTSTART:20261101T090000
END:STANDARD
END:VTIMEZONE
BEGIN:VEVENT
DTSTART;VALUE=DATE:20251104
DTEND;VALUE=DATE:20251105
DTSTAMP:20260423T153352
CREATED:20251106T063838Z
LAST-MODIFIED:20251106T063838Z
UID:13069-1762214400-1762300799@dongchuacuuthe.us
SUMMARY:Thứ Ba Tuần XXXI Thường Niên Năm I
DESCRIPTION:BÀI ĐỌC I: Rm 12\, 5-16 \n“Kẻ này là chi thể của người kia”. \nTrích thư Thánh Phaolô Tông đồ gửi tín hữu Rôma. \nAnh em thân mến\, chúng ta tuy nhiều người\, nhưng cũng chỉ là một thân thể trong Đức Kitô\, và tương quan với mỗi người\, kẻ này là chi thể của người kia. Nhưng chúng ta được những ân huệ khác nhau tuỳ theo ân sủng đã ban cho chúng ta: nếu là ơn nói tiên tri\, thì hãy xử dụng sao cho xứng đối với đức tin; nếu là chức phận giúp việc\, thì hãy chuyên cần giúp việc; nếu là thầy dạy\, hãy lo dạy dỗ; nếu là khuyên bảo\, hãy lo khuyên bảo; nếu là người phân phát\, hãy có lòng chân thành; nếu là người cai quản\, hãy cần mẫn; nếu là kẻ thương giúp\, hãy vui vẻ.  \nĐức ái không được giả hình. Hãy chê ghét điều ác và trìu mến điều lành. Hãy thương yêu nhau trong tình bác ái huynh đệ: Hãy nhân nhượng tôn kính nhau. Hãy siêng năng\, chớ biếng nhác: hãy sốt mến trong tâm thần và phụng sự Chúa. Hãy hân hoan trong niềm cậy trông\, nhẫn nại trong gian truân và kiên tâm cầu nguyện. Hãy giúp đỡ các thánh khi họ thiếu thốn\, và ân cần tiếp khách đỗ nhà. Hãy chúc phúc cho những kẻ bắt bớ anh em: Hãy chúc phúc\, chứ đừng chúc dữ. Hãy vui mừng với kẻ vui mừng\, và khóc lóc với kẻ khóc lóc. Hãy đồng tâm hiệp ý với nhau: đừng tự cao tự đại\, một hãy ưa thích những sự hèn kém. Đừng tự đắc cho mình là khôn. Đó là lời Chúa. \nĐÁP CA: Tv 130\, 1. 2. 3 \nĐáp: Lạy Chúa\, xin giữ linh hồn con trong bình an của Chúa. \nXướng: 1) Lạy Chúa\, lòng con không tự đắc\, và mắt con chẳng liếc nhìn cao\, con cũng không lo nghĩ những việc lớn lao hay là những điều quá tầm trí mọn. – Đáp. \n2) Nhưng con lo giữ linh hồn cho thinh lặng và thanh thản. Như trẻ thơ sống trong lòng thân mẫu\, linh hồn con cũng như thế ở trong con. – Đáp. \n3) Israel hãy cậy trông vào Chúa\, tự bây giờ và cho tới muôn đời. – Đáp. \nĐÁP CA: Tv 21\, 26b-27. 28-30a. 31-32 \nĐáp: Lạy Chúa\, bởi Chúa mà lời con ca ngợi vang lên trong Đại hội (c. 26a). \nXướng: 1) Bởi Chúa mà lời con ca ngợi vang lên trong Đại hội. Con sẽ làm trọn những lời khấn hứa của con\, trước mặt những người tôn sợ Chúa. Bạn cơ bần sẽ ăn và được no nê\, những kẻ tìm kiếm Chúa sẽ ca khen Chúa: “Tâm hồn các bạn hãy vui sống tới muôn đời”. – Đáp. \n2) Thiên hạ sẽ ghi lòng và trở về với Chúa\, khắp cùng bờ cõi địa cầu; và toàn thể bá tánh chư dân sẽ phủ phục trước thiên nhan Chúa. Bao người ngủ trong lòng đất sẽ tôn thờ duy một Chúa. – Đáp. \n3) Miêu duệ con sẽ phục vụ Ngài\, sẽ tường thuật về Chúa cho thế hệ tương lai\, và chúng kể cho dân hậu sinh biết đức công minh Chúa\, rằng: “Điều đó Chúa đã làm”. – Đáp. \nALLELUIA: Tv 147\, 12a và 15a \nAlleluia\, alleluia! – Giêrusalem\, hãy ngợi khen Chúa\, Đấng đã sai lời Người xuống cõi trần ai. – Alleluia. \nPHÚC ÂM: Lc 14\, 15-24 \n“Anh hãy ra ngoài đường ngoài ngõ\, và cố ép người ta vào cho đầy nhà tôi”. \nTin Mừng Chúa Giêsu Kitô theo Thánh Luca. \nKhi ấy\, một người đồng bàn thưa cùng Chúa Giêsu rằng: “Phúc cho kẻ sẽ được ăn tiệc trong nước Thiên Chúa”. Người phán cùng kẻ ấy rằng: “Có một người kia dọn tiệc linh đình\, và đã mời nhiều thực khách. Tới giờ dự tiệc\, ông sai đầy tớ đi báo cho những kẻ được mời để họ đến\, vì mọi sự đã dọn sẵn sàng rồi. Nhưng mọi người đồng thanh xin kiếu. Người thứ nhất nói với ông rằng: ‘Tôi mới tậu một thửa ruộng\, tôi cần phải đi xem đất\, nên xin ông cho tôi kiếu’. Người thứ hai nói: ‘Tôi mới mua năm đôi bò\, và tôi phải đi thử chúng\, nên xin ông cho tôi kiếu’. Người khác lại rằng: ‘Tôi mới cưới vợ\, bởi đó tôi không thể đến được’.  \n“Người đầy tớ trở về thuật lại những điều đó cho chủ mình. Bấy giờ chủ nhà liền nổi giận\, bảo người đầy tớ rằng: ‘Anh hãy cấp tốc đi ra các công trường và các ngõ hẻm thành phố mà dẫn về đây những người hành khất\, tàn tật\, đui mù và què quặt’. Người đầy tớ trở về trình rằng: ‘Thưa ông\, lệnh ông ban đã được thi hành\, thế mà hãy còn dư chỗ’. Ông chủ lại bảo người đầy tớ rằng: ‘Anh hãy ra ngoài đường ngoài ngõ và cố ép người ta vào cho đầy nhà tôi. Vì tôi bảo cho các người biết: không một ai trong những kẻ đã được mời\, sẽ được nếm bữa tiệc của tôi'”. Đó là lời Chúa.
URL:https://dongchuacuuthe.us/calendar/thu-ba-tuan-xxxi-thuong-nien-nam-i-2/
END:VEVENT
END:VCALENDAR