BEGIN:VCALENDAR
VERSION:2.0
PRODID:-//Dòng Chúa Cứu Thế Hải Ngoại - ECPv6.15.20//NONSGML v1.0//EN
CALSCALE:GREGORIAN
METHOD:PUBLISH
X-ORIGINAL-URL:https://dongchuacuuthe.us
X-WR-CALDESC:Events for Dòng Chúa Cứu Thế Hải Ngoại
REFRESH-INTERVAL;VALUE=DURATION:PT1H
X-Robots-Tag:noindex
X-PUBLISHED-TTL:PT1H
BEGIN:VTIMEZONE
TZID:America/Los_Angeles
BEGIN:DAYLIGHT
TZOFFSETFROM:-0800
TZOFFSETTO:-0700
TZNAME:PDT
DTSTART:20240310T100000
END:DAYLIGHT
BEGIN:STANDARD
TZOFFSETFROM:-0700
TZOFFSETTO:-0800
TZNAME:PST
DTSTART:20241103T090000
END:STANDARD
BEGIN:DAYLIGHT
TZOFFSETFROM:-0800
TZOFFSETTO:-0700
TZNAME:PDT
DTSTART:20250309T100000
END:DAYLIGHT
BEGIN:STANDARD
TZOFFSETFROM:-0700
TZOFFSETTO:-0800
TZNAME:PST
DTSTART:20251102T090000
END:STANDARD
BEGIN:DAYLIGHT
TZOFFSETFROM:-0800
TZOFFSETTO:-0700
TZNAME:PDT
DTSTART:20260308T100000
END:DAYLIGHT
BEGIN:STANDARD
TZOFFSETFROM:-0700
TZOFFSETTO:-0800
TZNAME:PST
DTSTART:20261101T090000
END:STANDARD
END:VTIMEZONE
BEGIN:VEVENT
DTSTART;VALUE=DATE:20251101
DTEND;VALUE=DATE:20251102
DTSTAMP:20260423T153404
CREATED:20251106T063743Z
LAST-MODIFIED:20251106T063743Z
UID:13065-1761955200-1762041599@dongchuacuuthe.us
SUMMARY:Lễ Các Thánh Nam Nữ\, LT
DESCRIPTION:BÀI ĐỌC I: Kh 7\, 2-4\, 9-14 \n“Tôi đã nhìn thấy đoàn người đông đảo không thể đếm được\, họ thuộc đủ mọi nước\, mọi chi họ\, mọi dân tộc và mọi thứ tiếng”. \nTrích sách Khải Huyền của Thánh Gioan. \nTôi là Gioan đã nhìn thấy một thiên thần khác từ phía mặt trời mọc đi lên\, tay cầm ấn Thiên Chúa hằng sống\, và lớn tiếng kêu gọi bốn thiên thần được lệnh tàn phá đất và biển mà rằng: “Chớ có tàn phá đất\, biển và cây cối trước khi ta đóng ấn trên trán những tôi tớ của Thiên Chúa chúng ta”. Và tôi đã nghe biết số người được đóng ấn là một trăm bốn mươi bốn ngàn người\, thuộc mọi chi tộc Israel.  \nSau đó\, tôi đã nhìn thấy đoàn người đông đảo không thể đếm được\, họ thuộc đủ mọi nước\, mọi chi họ\, mọi dân tộc và mọi thứ tiếng. Họ đứng trước ngai vàng và trước mặt Con Chiên\, mình mặc áo trắng tinh\, tay cầm nhành lá thiên tuế. Họ lớn tiếng tung hô rằng: “Kính lạy Thiên Chúa chúng tôi\, Đấng ngự trên ngai vàng\, và Con Chiên”.  \nRồi tất cả các thiên thần đến đứng chung quanh ngai vàng\, và các trưởng lão cùng bốn con vật sấp mình xuống trước ngai mà thờ lạy Thiên Chúa rằng: “Amen! Chúc tụng\, vinh hiển\, khôn ngoan\, cảm tạ\, vinh dự\, uy quyền và dũng lực cho Thiên Chúa chúng tôi muôn đời. Amen”. Rồi một trong các trưởng lão lên tiếng hỏi rằng: “Những người mặc áo trắng này là ai vậy? Và họ từ đâu mà đến?” Tôi đáp lại rằng: “Thưa ngài\, hẳn ngài đã rõ”. Và người bảo tôi rằng: “Họ là những người từ đau khổ lớn lao mà đến\, họ giặt áo và tẩy áo trắng trong máu Con Chiên”. Đó là lời Chúa. \nĐÁP CA: Tv 23\, 1-2. 3-4ab. 5-6 \nĐáp: Lạy Chúa\, này là dòng dõi của những kẻ tìm Chúa (c. 6a). \nXướng: 1) Trái đất và muôn loài trên mặt đất là của Chúa\, hoàn cầu và muôn vật trên địa cầu. Vì chưng Chúa đã xây dựng nền móng trái đất trên biển cả\, và Người đã tạo dựng nó trên các sông ngòi. – Đáp. \n2) Ai sẽ được trèo lên núi Chúa? Ai sẽ được dừng bước trong thánh điện? Đó là người có bàn tay vô tội và tâm hồn trong sạch\, không để lòng xuôi theo sự giả trá. – Đáp. \n3) Người đó sẽ hưởng phúc lành của Chúa và lượng từ bi của Chúa\, Đấng giải thoát họ. Đấy là dòng dõi của những kẻ tìm Người\, những kẻ tìm tôn nhan Thiên Chúa của Giacóp. – Đáp. \nBÀI ĐỌC II: 1 Ga 3\, 1-3 \n“Người thế nào\, chúng ta sẽ thấy Người như vậy”. \nTrích thư thứ nhất của Thánh Gioan Tông đồ. \nCác con thân mến\, các con hãy coi: Tình yêu của Thiên Chúa Cha đối với chúng ta thế nào\, khiến chúng ta được gọi là con Thiên Chúa và thực sự là thế. Vì đó mà thế gian không nhận biết chúng ta\, vì thế gian không biết Người. Các con thân mến\, hiện nay\, chúng ta là con Thiên Chúa\, còn chúng ta sẽ ra sao thì vẫn chưa được tỏ ra. Chúng ta biết rằng: khi được tỏ ra\, thì chúng ta sẽ giống như Người\, vì Người thế nào\, chúng ta sẽ thấy như vậy. Và bất cứ ai đặt hy vọng nơi Người\, thì tự thánh hoá mình cũng như Người là Đấng Thánh. Đó là lời Chúa. \nALLELUIA: Mc 11\, 28 \nAlleluia\, alleluia! – Chúa phán: “Tất cả hãy đến với Ta\, hỡi những ai khó nhọc và gánh nặng\, Ta sẽ nâng đỡ bổ sức cho các con”. – Alleluia. \nPHÚC ÂM: Mt 5\, 1-12a \n“Phúc cho những ai có tinh thần nghèo khó”. \nTin Mừng Chúa Giêsu Kitô theo Thánh Matthêu. \nKhi ấy\, Chúa Giêsu thấy đoàn lũ đông đảo\, Người đi lên núi\, và lúc Người ngồi xuống\, các môn đệ đến gần Người. Bấy giờ Người mở miệng dạy họ rằng:  \n“Phúc cho những ai có tinh thần nghèo khó\, vì Nước Trời là của họ. – Phúc cho những ai hiền lành\, vì họ sẽ được Đất Nước làm cơ nghiệp. – Phúc cho những ai đau buồn\, vì họ sẽ được ủi an. – Phúc cho những ai đói khát điều công chính\, vì họ sẽ được no thoả. – Phúc cho những ai hay thương xót người\, vì họ sẽ được xót thương. – Phúc cho những ai có lòng trong sạch\, vì họ sẽ được nhìn xem Thiên Chúa. – Phúc cho những ai ăn ở thuận hoà\, vì họ sẽ được gọi là con Thiên Chúa. – Phúc cho những ai bị bách hại vì lẽ công chính\, vì Nước Trời là của họ.  \n“Phúc cho các con khi người ta ghen ghét\, bách hại các con\, và bởi ghét Thầy\, họ vu khống cho các con mọi điều gian ác. Các con hãy vui mừng hân hoan\, vì phần thưởng của các con sẽ trọng đại ở trên trời”. Đó là lời Chúa.
URL:https://dongchuacuuthe.us/calendar/le-cac-thanh-nam-nu-lt-2/
END:VEVENT
END:VCALENDAR