BEGIN:VCALENDAR
VERSION:2.0
PRODID:-//Dòng Chúa Cứu Thế Hải Ngoại - ECPv6.15.20//NONSGML v1.0//EN
CALSCALE:GREGORIAN
METHOD:PUBLISH
X-ORIGINAL-URL:https://dongchuacuuthe.us
X-WR-CALDESC:Events for Dòng Chúa Cứu Thế Hải Ngoại
REFRESH-INTERVAL;VALUE=DURATION:PT1H
X-Robots-Tag:noindex
X-PUBLISHED-TTL:PT1H
BEGIN:VTIMEZONE
TZID:America/Los_Angeles
BEGIN:DAYLIGHT
TZOFFSETFROM:-0800
TZOFFSETTO:-0700
TZNAME:PDT
DTSTART:20240310T100000
END:DAYLIGHT
BEGIN:STANDARD
TZOFFSETFROM:-0700
TZOFFSETTO:-0800
TZNAME:PST
DTSTART:20241103T090000
END:STANDARD
BEGIN:DAYLIGHT
TZOFFSETFROM:-0800
TZOFFSETTO:-0700
TZNAME:PDT
DTSTART:20250309T100000
END:DAYLIGHT
BEGIN:STANDARD
TZOFFSETFROM:-0700
TZOFFSETTO:-0800
TZNAME:PST
DTSTART:20251102T090000
END:STANDARD
BEGIN:DAYLIGHT
TZOFFSETFROM:-0800
TZOFFSETTO:-0700
TZNAME:PDT
DTSTART:20260308T100000
END:DAYLIGHT
BEGIN:STANDARD
TZOFFSETFROM:-0700
TZOFFSETTO:-0800
TZNAME:PST
DTSTART:20261101T090000
END:STANDARD
END:VTIMEZONE
BEGIN:VEVENT
DTSTART;VALUE=DATE:20251031
DTEND;VALUE=DATE:20251101
DTSTAMP:20260423T153403
CREATED:20250929T212624Z
LAST-MODIFIED:20250929T212624Z
UID:12915-1761868800-1761955199@dongchuacuuthe.us
SUMMARY:Thứ Sáu Tuần XXX Thường Niên Năm I
DESCRIPTION:BÀI ĐỌC I: Rm 9\, 1-5 \n“Tôi đã ước ao được loại khỏi Đức Kitô vì phần ích anh em của tôi”. \nTrích thư Thánh Phaolô Tông đồ gửi tín hữu Rôma. \nAnh em thân mến\, tôi xin nói thật trong Đức Kitô\, tôi không nói dối: lương tâm tôi làm chứng cho tôi trong Thánh Thần\, là tôi buồn phiền quá đỗi\, lòng tôi hằng đau đớn luôn. Chính tôi đã ao ước được loại khỏi Đức Kitô vì phần ích anh em của tôi\, là những thân nhân của tôi về phần xác. Họ đều là người Israel\, họ được quyền làm nghĩa tử\, được vinh quang\, giao ước\, lề luầt\, việc phượng tự và lời hứa; các tổ phụ cũng là của họ\, và bởi các đấng ấy mà Đức Kitô sinh ra phần xác\, Người là Thiên Chúa trên hết mọi sự\, đáng chúc tụng muôn đời. Amen. Đó là lời Chúa. \nĐÁP CA: Tv 147\, 12-13. 14-15. 19-20 \nĐáp: Hỡi Giêrusalem\, hãy ngợi khen Chúa! (c. 12a). \nXướng: 1) Hỡi Giêrusalem\, hãy ngợi khen Chúa! Hãy ngợi khen Thiên Chúa của ngươi\, hỡi Sion! vì Người giữ chặt các then cửa ngươi; Người chúc phúc cho con cái ngươi trong thành nội. – Đáp. \n2) Người giữ cho mọi bờ cõi ngươi được bình an\, Người dưỡng nuôi ngươi bằng tinh hoa của lúa mì. Người đã sai lời Người xuống cõi trần ai\, và lời Người lanh chai chạy rảo. – Đáp. \n3) Người đã loan truyền lời Người cho Giacóp\, những thánh chỉ và huấn lệnh Người cho Israel. Người đã không làm cho dân tộc nào như thế\, Người đã không công bố cho họ các huấn lệnh của Người. – Đáp. \nALLELUIA: Tv 118\, 36a và 29b \nAlleluia\, alleluia! – Lạy Chúa\, xin nghiêng lòng con theo lời Chúa răn bảo\, và xin rộng tay ban luật pháp của Chúa cho con. – Alleluia. \nPHÚC ÂM: Lc 14\, 1-6 \n“Trong ngày Sabbat\, ai trong các ông có con lừa hay con bò rơi xuống giếng mà không kéo nó lên sao?” \nTin Mừng Chúa Giêsu Kitô theo Thánh Luca. \nKhi ấy\, vào một ngày Sabbat\, Chúa Giêsu vào dùng bữa trong nhà một thủ lãnh biệt phái\, thì những người hiện diện ở đó dòm xét Người. Bấy giờ có một người mắc bệnh thuỷ thũng ở trước mặt Người. Chúa Giêsu lên tiếng hỏi các Luật sĩ và biệt phái rằng: “Trong ngày Sabbat\, có được phép chữa bệnh không?” Các ông ấy làm thinh. Bấy giờ Người kéo kẻ ấy lại\, và chữa lành\, rồi cho về. Đoạn Người bảo các ông rằng: “Trong ngày Sabbat\, ai trong các ông có con lừa hay con bò rơi xuống giếng mà không lập tức kéo nó lên sao?” Nhưng các ông không thể trả lời câu hỏi ấy. Đó là lời Chúa.
URL:https://dongchuacuuthe.us/calendar/thu-sau-tuan-xxx-thuong-nien-nam-i-2/
END:VEVENT
END:VCALENDAR