BEGIN:VCALENDAR
VERSION:2.0
PRODID:-//Dòng Chúa Cứu Thế Hải Ngoại - ECPv6.15.20//NONSGML v1.0//EN
CALSCALE:GREGORIAN
METHOD:PUBLISH
X-ORIGINAL-URL:https://dongchuacuuthe.us
X-WR-CALDESC:Events for Dòng Chúa Cứu Thế Hải Ngoại
REFRESH-INTERVAL;VALUE=DURATION:PT1H
X-Robots-Tag:noindex
X-PUBLISHED-TTL:PT1H
BEGIN:VTIMEZONE
TZID:America/Los_Angeles
BEGIN:DAYLIGHT
TZOFFSETFROM:-0800
TZOFFSETTO:-0700
TZNAME:PDT
DTSTART:20240310T100000
END:DAYLIGHT
BEGIN:STANDARD
TZOFFSETFROM:-0700
TZOFFSETTO:-0800
TZNAME:PST
DTSTART:20241103T090000
END:STANDARD
BEGIN:DAYLIGHT
TZOFFSETFROM:-0800
TZOFFSETTO:-0700
TZNAME:PDT
DTSTART:20250309T100000
END:DAYLIGHT
BEGIN:STANDARD
TZOFFSETFROM:-0700
TZOFFSETTO:-0800
TZNAME:PST
DTSTART:20251102T090000
END:STANDARD
BEGIN:DAYLIGHT
TZOFFSETFROM:-0800
TZOFFSETTO:-0700
TZNAME:PDT
DTSTART:20260308T100000
END:DAYLIGHT
BEGIN:STANDARD
TZOFFSETFROM:-0700
TZOFFSETTO:-0800
TZNAME:PST
DTSTART:20261101T090000
END:STANDARD
END:VTIMEZONE
BEGIN:VEVENT
DTSTART;VALUE=DATE:20251029
DTEND;VALUE=DATE:20251030
DTSTAMP:20260423T153405
CREATED:20250929T212531Z
LAST-MODIFIED:20250929T212531Z
UID:12911-1761696000-1761782399@dongchuacuuthe.us
SUMMARY:Thứ TưTuần XXX Thường Niên Năm I
DESCRIPTION:BÀI ĐỌC I: Rm 8\, 26-30 \n“Những kẻ yêu mến Thiên Chúa\, thì Người giúp họ được sự lành”. \nTrích thư Thánh Phaolô Tông đồ gửi tín hữu Rôma. \nAnh em thân mến\, có Thánh Thần nâng đỡ sự yếu hèn của chúng ta. Vì chúng ta không biết cầu nguyện như thế nào cho xứng hợp. Nhưng chính Thánh Thần cầu xin cho chúng ta bằng những tiếng than khôn tả. Mà Đấng thấu suốt tâm hồn\, thì biết điều Thánh Thần ước muốn. Bởi vì Thánh Thần cầu xin cho các thánh theo ý Thiên Chúa.  \nNhưng chúng ta biết rằng những kẻ yêu mến Thiên Chúa\, thì Người giúp họ được sự lành\, họ là những người theo dự định của Chúa\, được kêu gọi nên thánh. Vì chưng\, những kẻ Chúa đã biết trước\, thì Người đã tiền định cho họ nên hình ảnh giống Con Người\, để Ngài trở nên trưởng tử giữa đoàn anh em đông đúc. Những ai Người đã tiền định\, thì Người cũng kêu gọi; những ai Người đã kêu gọi\, ?thì Người cũng làm cho nên công chính; mà những ai Người đã làm cho nên công chính\, thì Người cũng cho họ được vinh quang. Đó là lời Chúa. \nĐÁP CA: Tv 12\, 4-5. 6 \nĐáp: Lạy Chúa\, con đã tin cậy vào đức từ bi của Chúa (c. 6a). \nXướng: 1) Xin đoái xem\, nhậm lời con\, lạy Chúa\, lạy Thiên Chúa. Xin soi sáng mắt con\, kẻo con thiếp ngủ trong tay tử thần\, đừng để tên thù con nói được: “Ta đã thắng nó”. Xin chớ để kẻ thù con hân hoan vì con quỵ ngã. – Đáp.  \n2) Bởi con đã tin cậy vào đức từ bi của Chúa. Xin cho lòng con hân hoan vì ơn Ngài cứu độ\, con sẽ hát mừng Chúa\, vì Ngài ban ân huệ cho con. – Đáp.  \nALLELUIA: Tv 118\, 135 \nAlleluia\, alleluia! – Xin tỏ cho tôi tớ Chúa thấy long nhan hiền hậu\, và dạy bảo con những thánh chỉ của Chúa. – Alleluia. \nPHÚC ÂM: Lc 13\, 22-30 \n“Người ta sẽ từ đông sang tây đến dự tiệc trong nước Chúa”. \nTin Mừng Chúa Giêsu Kitô theo Thánh Luca. \nKhi ấy\, Chúa Giêsu rảo qua các đô thị và làng mạc\, vừa giảng dạy vừa đi về Giêrusalem. Có kẻ hỏi Người rằng: “Lạy Thầy\, phải chăng chỉ có một số ít sẽ được cứu độ?” Nhưng Người phán cùng họ rằng: “Các ngươi hãy cố gắng vào qua cửa hẹp\, vì Ta bảo các ngươi biết: nhiều người sẽ tìm vào mà không vào được. Khi chủ nhà đã vào đóng cửa lại\, thì lúc đó các ngươi đứng ngoài mới gõ cửa mà rằng: ‘Thưa ngài\, xin mở cửa cho chúng tôi’. Chủ sẽ trả lời các ngươi rằng: ‘Ta không biết các ngươi từ đâu tới’. Bấy giờ các ngươi mới nói rằng: ‘Chúng tôi đã ăn uống trước mặt Ngài và Ngài đã giảng dạy giữa các công trường của chúng tôi’. Nhưng chủ sẽ trả lời các ngươi rằng: ‘Ta không biết các ngươi từ đâu mà tới\, hỡi những kẻ làm điều gian ác\, hãy lui ra khỏi mặt ta’.  \nKhi các ngươi sẽ thấy Abraham\, Isaac\, Giacóp và tất cả các tiên tri ở trong nước Thiên Chúa\, còn các ngươi bị loại ra ngoài\, nơi đó các ngươi sẽ khóc lóc nghiến răng. Và người ta sẽ từ đông chí tây\, từ bắc chí nam đến dự tiệc trong nước Thiên Chúa. Phải\, có những người sau hết sẽ trở nên trước hết\, và những người trước hết sẽ nên sau hết”. Đó là lời Chúa.
URL:https://dongchuacuuthe.us/calendar/thu-tutuan-xxx-thuong-nien-nam-i/
END:VEVENT
END:VCALENDAR