BEGIN:VCALENDAR
VERSION:2.0
PRODID:-//Dòng Chúa Cứu Thế Hải Ngoại - ECPv6.15.20//NONSGML v1.0//EN
CALSCALE:GREGORIAN
METHOD:PUBLISH
X-ORIGINAL-URL:https://dongchuacuuthe.us
X-WR-CALDESC:Events for Dòng Chúa Cứu Thế Hải Ngoại
REFRESH-INTERVAL;VALUE=DURATION:PT1H
X-Robots-Tag:noindex
X-PUBLISHED-TTL:PT1H
BEGIN:VTIMEZONE
TZID:America/Los_Angeles
BEGIN:DAYLIGHT
TZOFFSETFROM:-0800
TZOFFSETTO:-0700
TZNAME:PDT
DTSTART:20240310T100000
END:DAYLIGHT
BEGIN:STANDARD
TZOFFSETFROM:-0700
TZOFFSETTO:-0800
TZNAME:PST
DTSTART:20241103T090000
END:STANDARD
BEGIN:DAYLIGHT
TZOFFSETFROM:-0800
TZOFFSETTO:-0700
TZNAME:PDT
DTSTART:20250309T100000
END:DAYLIGHT
BEGIN:STANDARD
TZOFFSETFROM:-0700
TZOFFSETTO:-0800
TZNAME:PST
DTSTART:20251102T090000
END:STANDARD
BEGIN:DAYLIGHT
TZOFFSETFROM:-0800
TZOFFSETTO:-0700
TZNAME:PDT
DTSTART:20260308T100000
END:DAYLIGHT
BEGIN:STANDARD
TZOFFSETFROM:-0700
TZOFFSETTO:-0800
TZNAME:PST
DTSTART:20261101T090000
END:STANDARD
END:VTIMEZONE
BEGIN:VEVENT
DTSTART;VALUE=DATE:20251028
DTEND;VALUE=DATE:20251029
DTSTAMP:20260423T153403
CREATED:20250929T212421Z
LAST-MODIFIED:20250929T212506Z
UID:12908-1761609600-1761695999@dongchuacuuthe.us
SUMMARY:Lễ Th. Simon và Th. Giuđa\, Tông Đồ\, LK
DESCRIPTION:BÀI ĐỌC I: Ep 2\, 19-22 \n“Anh em đã được xây dựng trên nền tảng các tông đồ và các tiên tri”. \nTrích thư Thánh Phaolô Tông đồ gửi tín hữu Êphêxô. \nAnh em thân mến\, anh em không còn là khách trọ và là khách qua đường nữa\, nhưng là người đồng hương với các thánh và là người nhà của Thiên Chúa: anh em đã được xây dựng trên nền tảng của các Tông đồ và Tiên tri\, và chính Đức Kitô làm đá góc tường. Trong Người\, tất cả toà nhà được xây dựng cao lên thành đền thánh trong Chúa\, trong Người\, cả anh em cũng được xây dựng làm một với nhau\, để trở thành nơi Thiên Chúa ngự trong Thánh Thần. Đó là lời Chúa. \nĐÁP CA: Tv 18\, 2-3. 4-5 \nĐáp: Tiếng chúng đã vang cùng trái đất (c. 5a). \nXướng: 1) Trời xanh tường thuật vinh quang Thiên Chúa\, thanh không kể ra sự nghiệp của Người. Ngày này nhắc nhủ cho ngày khác\, đêm này truyện tụng cho đêm kia. – Đáp. \n2) Đây không phải lời cũng không phải tiếng\, mà âm thanh chúng không thể lọt tai. Nhưng tiếng chúng đã vang cùng trái đất\, và lời chúng truyền ra khắp cõi địa cầu. – Đáp.  \nALLELUIA:  \nAlleluia\, alleluia! – Chúng con ca ngợi Chúa là Thiên Chúa; chúng con tuyên xưng Chúa là Chúa tể; lạy Chúa\, ca đoàn vinh quang các tông đồ ca ngợi Chúa. – Alleluia. \nPHÚC ÂM: Lc 6\, 12-19 \n“Người chọn mười hai vị mà Người gọi là tông đồ”. \nTin Mừng Chúa Giêsu Kitô theo Thánh Luca. \nTrong những ngày ấy Chúa Giêsu lên núi cầu nguyện\, và suốt đêm Người cầu nguyện cùng Thiên Chúa. Sáng ngày\, Người gọi các môn đệ và chọn mười hai vị mà Người gọi là tông đồ: Đó là Simon mà Người đặt tên là Phêrô và em ông là Anrê\, Giacôbê và Gioan\, Philipphê và Bartôlômêô\, Matthêu và Tôma\, Giacôbê con ông Alphê và Simon cũng gọi là nhiệt thành\, Giuđa con ông Giacôbê và Giuđa Iscariốt\, kẻ phản bội. Người đi xuống với các ông\, và dừng lại trên một khoảng đất bằng phẳng\, có nhóm đông môn đệ cùng đoàn lũ dân chúng đông đảo từ khắp xứ Giuđêa\, Giêrusalem và miền duyên hải Tyrô và Siđôn đến nghe Người giảng và để được chữa lành mọi bệnh tật. Cả những người bị quỷ ô uế hành hạ cũng được chữa khỏi\, và tất cả đám đông tìm cách chạm tới Người\, vì tự nơi Người phát xuất một sức mạnh chữa lành mọi người.  \nĐó là lời Chúa.
URL:https://dongchuacuuthe.us/calendar/le-th-simon-va-th-giuda-tong-do-lk-2/
END:VEVENT
END:VCALENDAR