BEGIN:VCALENDAR
VERSION:2.0
PRODID:-//Dòng Chúa Cứu Thế Hải Ngoại - ECPv6.15.20//NONSGML v1.0//EN
CALSCALE:GREGORIAN
METHOD:PUBLISH
X-WR-CALNAME:Dòng Chúa Cứu Thế Hải Ngoại
X-ORIGINAL-URL:https://dongchuacuuthe.us
X-WR-CALDESC:Events for Dòng Chúa Cứu Thế Hải Ngoại
REFRESH-INTERVAL;VALUE=DURATION:PT1H
X-Robots-Tag:noindex
X-PUBLISHED-TTL:PT1H
BEGIN:VTIMEZONE
TZID:America/Los_Angeles
BEGIN:DAYLIGHT
TZOFFSETFROM:-0800
TZOFFSETTO:-0700
TZNAME:PDT
DTSTART:20240310T100000
END:DAYLIGHT
BEGIN:STANDARD
TZOFFSETFROM:-0700
TZOFFSETTO:-0800
TZNAME:PST
DTSTART:20241103T090000
END:STANDARD
BEGIN:DAYLIGHT
TZOFFSETFROM:-0800
TZOFFSETTO:-0700
TZNAME:PDT
DTSTART:20250309T100000
END:DAYLIGHT
BEGIN:STANDARD
TZOFFSETFROM:-0700
TZOFFSETTO:-0800
TZNAME:PST
DTSTART:20251102T090000
END:STANDARD
BEGIN:DAYLIGHT
TZOFFSETFROM:-0800
TZOFFSETTO:-0700
TZNAME:PDT
DTSTART:20260308T100000
END:DAYLIGHT
BEGIN:STANDARD
TZOFFSETFROM:-0700
TZOFFSETTO:-0800
TZNAME:PST
DTSTART:20261101T090000
END:STANDARD
END:VTIMEZONE
BEGIN:VEVENT
DTSTART;VALUE=DATE:20251027
DTEND;VALUE=DATE:20251028
DTSTAMP:20260423T153357
CREATED:20250929T212357Z
LAST-MODIFIED:20250929T212357Z
UID:12906-1761523200-1761609599@dongchuacuuthe.us
SUMMARY:Thứ Hai Tuần XXX Thường Niên Năm I
DESCRIPTION:BÀI ĐỌC I: Rm 8\, 12-17 \n“Anh em đã nhận lãnh tinh thần nghĩa tử\, trong tinh thần ấy\, chúng ta kêu lên rằng: Abba\, lạy Cha”. \nTrích thư Thánh Phaolô Tông đồ gửi tín hữu Rôma. \nAnh em thân mến\, chúng ta không phải là những kẻ mắc nợ xác thịt\, để chúng ta sống theo xác thịt. Vì chưng\, nếu anh em đã sống theo xác thịt\, anh em sẽ phải chết; nhưng nếu nhờ thần trí mà anh em đã giết được các hành động thân xác\, thì anh em sẽ được sống.  \nNhững ai sống theo Thánh Thần Thiên Chúa\, thì là con cái Thiên Chúa. Vì không phải anh em đã nhận tinh thần nô lệ trong sợ hãi nữa\, nhưng đã nhận tinh thần nghĩa tử; trong tinh thần ấy\, chúng ta kêu lên rằng: “Abba\, lạy Cha”. Vì chính Thánh Thần đã làm chứng cho tâm trí chúng ta rằng chúng ta là con cái Thiên Chúa. Vậy nếu là con cái\, thì cũng là những người thừa tự: nghĩa là thừa tự của Thiên Chúa\, và đồng thừa tự với Đức Kitô\, vì chúng ta đồng chịu đau khổ với Người\, để rồi chúng ta sẽ cùng hưởng vinh quang với Người. Đó là lời Chúa. \nĐÁP CA: Tv 67\, 2 và 4. 6-7ab. 20-21 \nĐáp: Thiên Chúa chúng tôi là Thiên Chúa cứu độ (c. 21a). \nXướng: 1) Thiên Chúa đứng lên\, quân thù của Người tan rã\, và những kẻ ghét Người chạy trốn khỏi long nhan. Nhưng người hiền đức mừng rỡ hỉ hoan\, trước nhan Thiên Chúa\, họ mừng vui sung sướng. – Đáp. \n2) Là Cha kẻ mồi côi\, là Đấng bênh vực người quả phụ\, Thiên Chúa ngự trong thánh điện của Người. Thiên Chúa tạo nhà cửa cho những người bị bỏ rơi\, dẫn đưa những người tù tội ra nơi thịnh đạt. – Đáp. \n3) Chúc tụng Chúa ngày nọ qua ngày kia! Thiên Chúa là Đấng cứu độ\, Người vác đỡ gánh nặng chúng tôi. Thiên Chúa chúng tôi là Thiên Chúa cứu độ\, Chúa là Thiên Chúa ban ơn giải thoát khỏi tay tử thần. – Đáp. \nALLELUIA: Tv 94\, 8ab \nAlleluia\, alleluia! – Ước chi hôm nay các bạn nghe tiếng Chúa và đừng cứng lòng. – Alleluia. \nPHÚC ÂM: Lc 13\, 10-17 \n“Chớ thì không nên tháo xiềng xích buộc người con gái của Abraham này trong ngày Sabbat sao?” \nTin Mừng Chúa Giêsu Kitô theo Thánh Luca. \nKhi ấy\, nhân ngày Sabbat\, Chúa Giêsu giảng dạy trong một hội đường. Và đây có một người đàn bà bị quỷ ám làm cho bà đau yếu đã mười tám năm. Bà bị khòm lưng\, hoàn toàn không thể trông lên được. Khi Chúa Giêsu xem thấy bà\, Người liền gọi bà đến mà bảo rằng: “Hỡi bà kia\, bà được khỏi tật của bà”. Rồi Người đặt tay trên bà ấy\, tức thì bà đứng thẳng lên và tôn vinh Thiên Chúa.  \nNhưng viên trưởng hội đường tức giận\, vì Chúa Giêsu chữa bệnh trong ngày Sabbat\, nên ông cất tiếng bảo dân chúng rằng: “Có sáu ngày người ta phải làm việc: vậy thì các người hãy đến xin chữa bệnh trong ngày đó\, chớ đừng đến trong ngày Sabbat”.  \nChúa trả lời và bảo ông ta rằng: “Hỡi những kẻ giả hình\, chớ thì trong ngày Sabbat\, mỗi người trong các ông không thả bò hay lừa của mình ra khỏi chuồng mà dẫn nó đi uống nước sao? Phương chi người con gái của Abraham này\, Satan cột trói nó đã mười tám năm nay\, chớ thì không nên tháo xiềng xích buộc nó trong ngày Sabbat sao?”  \nKhi Người nói thế\, tất cả những kẻ chống đối Người đều hổ thẹn\, và toàn dân vui mừng vì những việc lạ lùng Người đã thực hiện. Đó là lời Chúa.
URL:https://dongchuacuuthe.us/calendar/thu-hai-tuan-xxx-thuong-nien-nam-i-2/
END:VEVENT
END:VCALENDAR