BEGIN:VCALENDAR
VERSION:2.0
PRODID:-//Dòng Chúa Cứu Thế Hải Ngoại - ECPv6.15.20//NONSGML v1.0//EN
CALSCALE:GREGORIAN
METHOD:PUBLISH
X-WR-CALNAME:Dòng Chúa Cứu Thế Hải Ngoại
X-ORIGINAL-URL:https://dongchuacuuthe.us
X-WR-CALDESC:Events for Dòng Chúa Cứu Thế Hải Ngoại
REFRESH-INTERVAL;VALUE=DURATION:PT1H
X-Robots-Tag:noindex
X-PUBLISHED-TTL:PT1H
BEGIN:VTIMEZONE
TZID:America/Los_Angeles
BEGIN:DAYLIGHT
TZOFFSETFROM:-0800
TZOFFSETTO:-0700
TZNAME:PDT
DTSTART:20240310T100000
END:DAYLIGHT
BEGIN:STANDARD
TZOFFSETFROM:-0700
TZOFFSETTO:-0800
TZNAME:PST
DTSTART:20241103T090000
END:STANDARD
BEGIN:DAYLIGHT
TZOFFSETFROM:-0800
TZOFFSETTO:-0700
TZNAME:PDT
DTSTART:20250309T100000
END:DAYLIGHT
BEGIN:STANDARD
TZOFFSETFROM:-0700
TZOFFSETTO:-0800
TZNAME:PST
DTSTART:20251102T090000
END:STANDARD
BEGIN:DAYLIGHT
TZOFFSETFROM:-0800
TZOFFSETTO:-0700
TZNAME:PDT
DTSTART:20260308T100000
END:DAYLIGHT
BEGIN:STANDARD
TZOFFSETFROM:-0700
TZOFFSETTO:-0800
TZNAME:PST
DTSTART:20261101T090000
END:STANDARD
END:VTIMEZONE
BEGIN:VEVENT
DTSTART;VALUE=DATE:20251026
DTEND;VALUE=DATE:20251027
DTSTAMP:20260423T153358
CREATED:20250929T212327Z
LAST-MODIFIED:20250929T212327Z
UID:12904-1761436800-1761523199@dongchuacuuthe.us
SUMMARY:CN 30 Thường Niên
DESCRIPTION:BÀI ĐỌC I: Hc 35\, 15b-17. 20-22a (Hl 12-14. 16-18) \n“Lời cầu nguyện của người khiêm nhường vọng lên tới các tầng mây”. \nTrích sách Huấn Ca. \nChúa là quan án\, Người không xem sao vinh quang loài người. Chúa không vì nể kẻ nghịch với người nghèo khó\, và Người nhậm lời kẻ bị áp bức kêu cầu. Người không khinh rẻ kẻ mồ côi khẩn nguyện\, cũng không khinh rẻ người goá bụa\, khi nó bày tỏ lời than van.  \nNỗi hồn đắng cay\, của lễ được nhận\, và tiếng kêu oan kíp thấu tầng mây. Lời cầu nguyện của kẻ khiêm nhường vọng lên tới các tầng mây: nó sẽ không yên lòng cho đến khi lời nguyện nó đến nơi\, và nó chẳng rút lui cho đến khi Đấng Tối Cao đoái nhìn. Chúa sẽ không trì hoãn\, Người sẽ xét đoán những người công chính và sẽ ra lời phán quyết. Đó là lời Chúa. \nĐÁP CA: Tv 33\, 2-3. 17-18. 19 và 28 \nĐáp: Kìa người đau khổ cầu cứu và Chúa đã nghe (c. 7a). \nXướng: 1) Tôi chúc tụng Thiên Chúa trong mọi lúc\, miệng tôi hằng liên lỉ ngợi khen Người. Trong Thiên Chúa linh hồn tôi hãnh diện\, bạn nghèo hãy nghe và hãy mừng vui. – Đáp. \n2) Thiên Chúa ra mặt chống người làm ác\, để tẩy trừ di tích chúng nơi trần ai. Người hiền đức kêu cầu và Chúa nghe lời họ\, Người cứu họ khỏi mọi nỗi âu lo. – Đáp. \n3) Thiên Chúa gần gũi những kẻ đoạn trường\, và cứu chữa những tâm hồn đau thương giập nát. Thiên Chúa cứu chữa linh hồn tôi tớ của Người\, và phàm ai tìm đến nương tựa nơi Người\, người đó sẽ không phải đền bồi tội lỗi. – Đáp. \nBÀI ĐỌC II: 2 Tm 4\, 6-8. 16-18 \n“Từ đây triều thiên công chính đã dành cho cha”. \nTrích thư thứ hai của Thánh Phaolô Tông đồ gửi Timôthêu. \nCon thân mến\, phần cha\, cha đã già yếu\, giờ ra đi của cha đã gần rồi. Cha đã chiến đấu trong trận chiến chính nghĩa\, đã chạy đến cùng đường và đã giữ vững đức tin. Từ đây triều thiên công chính đã dành cho cha. Và trong ngày đó\, Chúa là Đấng phán xét chí công sẽ trao lại cho cha mũ triều thiên ấy; nhưng không phải cho cha mà thôi\, mà còn cho những kẻ yêu mến trông đợi Người xuất hiện.  \nLần đầu tiên cha đứng ra biện hộ cho cha\, thì chẳng ai bênh đỡ cha\, trái lại mọi người đều bỏ mặc cha: xin chớ chấp tội họ. Nhưng Chúa đã phù hộ cha và ban sức mạnh cho cha\, để nhờ cha mà lời rao giảng được hoàn tất\, và tất cả các Dân ngoại được nghe: vậy cha đã thoát khỏi miệng sư tử. Chúa đã giải thoát cha khỏi mọi sự dữ và cứu lấy cha để đưa vào nước Người trên trời. Nguyện chúc Người được vinh quang muôn đời! Amen. Đó là lời Chúa. \nALLELUIA: Ga 14\, 5 \nAlleluia\, alleluia! – Chúa phán: “Thầy là đường\, là sự thật và là sự sống; không ai đến được với Cha mà không qua Thầy”. – Alleluia. \nPHÚC ÂM: Lc 18\, 9-14 \n“Người thu thuế ra về được khỏi tội”. \nTin Mừng Chúa Giêsu Kitô theo Thánh Luca. \nKhi ấy\, Chúa Giêsu nói dụ ngôn sau đây với những ai hay tự hào mình là người công chính và hay khinh bỉ kẻ khác: “Có hai người lên đền thờ cầu nguyện\, một người biệt phái\, một người thu thuế. Người biệt phái đứng thẳng\, cầu nguyện rằng: ‘Lạy Chúa\, tôi cảm tạ Chúa vì tôi không như các người khác: tham lam\, bất công\, ngoại tình\, hay là như tên thu thuế kia; tôi ăn chay mỗi tuần hai lần và dâng một phần mười tất cả các hoa lợi của tôi’. Người thu thuế đứng xa xa\, không dám ngước mắt lên trời\, đấm ngực và nguyện rằng: ‘Lạy Chúa\, xin thương xót con là kẻ có tội’. Ta bảo các ngươi: người này ra về được khỏi tội\, còn người kia thì không. Vì tất cả những ai tự nâng mình lên\, sẽ bị hạ xuống\, và ai hạ mình xuống\, sẽ được nâng lên”. Đó là lời Chúa.
URL:https://dongchuacuuthe.us/calendar/cn-30-thuong-nien/
END:VEVENT
END:VCALENDAR