BEGIN:VCALENDAR
VERSION:2.0
PRODID:-//Dòng Chúa Cứu Thế Hải Ngoại - ECPv6.15.20//NONSGML v1.0//EN
CALSCALE:GREGORIAN
METHOD:PUBLISH
X-ORIGINAL-URL:https://dongchuacuuthe.us
X-WR-CALDESC:Events for Dòng Chúa Cứu Thế Hải Ngoại
REFRESH-INTERVAL;VALUE=DURATION:PT1H
X-Robots-Tag:noindex
X-PUBLISHED-TTL:PT1H
BEGIN:VTIMEZONE
TZID:America/Los_Angeles
BEGIN:DAYLIGHT
TZOFFSETFROM:-0800
TZOFFSETTO:-0700
TZNAME:PDT
DTSTART:20240310T100000
END:DAYLIGHT
BEGIN:STANDARD
TZOFFSETFROM:-0700
TZOFFSETTO:-0800
TZNAME:PST
DTSTART:20241103T090000
END:STANDARD
BEGIN:DAYLIGHT
TZOFFSETFROM:-0800
TZOFFSETTO:-0700
TZNAME:PDT
DTSTART:20250309T100000
END:DAYLIGHT
BEGIN:STANDARD
TZOFFSETFROM:-0700
TZOFFSETTO:-0800
TZNAME:PST
DTSTART:20251102T090000
END:STANDARD
BEGIN:DAYLIGHT
TZOFFSETFROM:-0800
TZOFFSETTO:-0700
TZNAME:PDT
DTSTART:20260308T100000
END:DAYLIGHT
BEGIN:STANDARD
TZOFFSETFROM:-0700
TZOFFSETTO:-0800
TZNAME:PST
DTSTART:20261101T090000
END:STANDARD
END:VTIMEZONE
BEGIN:VEVENT
DTSTART;VALUE=DATE:20251020
DTEND;VALUE=DATE:20251021
DTSTAMP:20260423T165843
CREATED:20250929T212053Z
LAST-MODIFIED:20250929T212053Z
UID:12892-1760918400-1761004799@dongchuacuuthe.us
SUMMARY:Thứ Hai Tuần XXIX Thường Niên Năm I
DESCRIPTION:BÀI ĐỌC I: Rm 4\, 20-25 \n“Có lời đã chép vì chúng ta là những kẻ được kể là tin vào Người”. \nTrích thư Thánh Phaolô Tông đồ gửi tín hữu Rôma. \nAnh em thân mến\, lòng tin của Abraham vào Thiên Chúa không nao núng\, mặc dầu ông nhìn đến thân xác cằn cỗi của mình\, _ vì ông đã gần trăm tuổi\, _ và tuổi già tàn tạ của Sara. Ông đã không cứng lòng hồ nghi lời hứa của Thiên Chúa; trái lại\, ông vững tin mà làm sáng danh Thiên Chúa\, ông biết chắc chắn rằng Thiên Chúa có quyền năng thi hành điều Người đã hứa. Bởi đấy\, “việc đó đã được kể cho ông là sự công chính”.  \nVà khi chép rằng “Đã được kể cho ông”\, thì không phải chỉ chép vì ông mà thôi\, mà vì chúng ta nữa\, là những kẻ tin vào Đấng đã cho Đức Giêsu Kitô\, Chúa chúng ta\, từ cõi chết sống lại\, Người đã bị nộp vì tội lỗi chúng ta\, và đã sống lại để chúng ta được công chính hoá. Đó là lời Chúa. \nĐÁP CA: Lc 1\, 69-70. 71-72. 73-75  \nĐáp: Chúc tụng Chúa là Thiên Chúa của Israel\, vì Chúa đã viếng thăm và cứu chuộc dân Người (c. 68). \nXướng: 1) Chúa đã gầy dựng cho chúng tôi một uy quyền cứu độ\, trong nhà Đavít là tôi tớ Chúa. Như Người đã phán qua miệng các thánh nhân từ ngàn xưa\, là tiên tri của Chúa. – Đáp. \n2) Để giải phóng chúng tôi khỏi quân thù\, và khỏi tay những người ghen ghét chúng tôi. Để tỏ lòng từ bi với tổ tiên chúng tôi\, và nhớ lại lời thánh ước của Người. – Đáp. \n3) Lời minh ước mà Người tuyên thệ với Abraham tổ phụ chúng tôi\, rằng Người cho chúng tôi được không sợ hãi\, sau khi thoát khỏi tay quân thù. Phục vụ Người trong thánh thiện và công chính\, trước tôn nhan Người\, trọn đời sống chúng tôi. – Đáp. \nALLELUIA: Tv 129\, 5 \nAlleluia\, alleluia! – Con hy vọng rất nhiều vào Chúa\, linh hồn con trông cậy ở lời Chúa. – Alleluia. \nPHÚC ÂM: Lc 12\, 13-21 \n“Những của ngươi tích trữ sẽ để lại cho ai?” \nTin Mừng Chúa Giêsu Kitô theo Thánh Luca. \nKhi ấy\, có người trong đám đông thưa cùng Chúa Giêsu rằng: “Lạy Thầy\, xin Thầy bảo anh tôi chia gia tài cho tôi”. Người bảo kẻ ấy rằng: “Hỡi người kia\, ai đã đặt Ta làm quan xét\, hoặc làm người chia gia tài cho các ngươi?” Rồi người bảo họ rằng: “Các ngươi hãy coi chừng\, giữ mình tránh mọi thứ tham lam: vì chẳng phải sung túc mà đời sống được của cải bảo đảm cho đâu”.  \nNgười lại nói với họ thí dụ này rằng: “Một người phú hộ kia có ruộng đất sinh nhiều hoa lợi\, nên suy tính trong lòng rằng: ‘Tôi sẽ làm gì đây\, vì tôi còn chỗ đâu mà tích trữ hoa lợi?’ Đoạn người ấy nói: ‘Tôi sẽ làm thế này\, là phá các kho lẫm của tôi\, mà xây những cái lớn hơn\, rồi chất tất cả lúa thóc và của cải tôi vào đó\, và tôi sẽ bảo linh hồn tôi rằng: “Hỡi linh hồn\, ngươi có nhiều của cải dự trữ cho nhiều năm: ngươi hãy nghỉ ngơi\, ăn uống vui chơi đi!” ‘ Nhưng Thiên Chúa bảo nó rằng: ‘Hỡi kẻ ngu dại\, đêm nay người ta sẽ đòi linh hồn ngươi\, thế thì những của ngươi tích trữ sẽ để lại cho ai?’ Vì kẻ tích trữ của cải cho mình\, mà không làm giàu trước mặt Chúa\, thì cũng vậy”. Đó là lời Chúa.
URL:https://dongchuacuuthe.us/calendar/thu-hai-tuan-xxix-thuong-nien-nam-i-2/
END:VEVENT
END:VCALENDAR