BEGIN:VCALENDAR
VERSION:2.0
PRODID:-//Dòng Chúa Cứu Thế Hải Ngoại - ECPv6.15.20//NONSGML v1.0//EN
CALSCALE:GREGORIAN
METHOD:PUBLISH
X-WR-CALNAME:Dòng Chúa Cứu Thế Hải Ngoại
X-ORIGINAL-URL:https://dongchuacuuthe.us
X-WR-CALDESC:Events for Dòng Chúa Cứu Thế Hải Ngoại
REFRESH-INTERVAL;VALUE=DURATION:PT1H
X-Robots-Tag:noindex
X-PUBLISHED-TTL:PT1H
BEGIN:VTIMEZONE
TZID:America/Los_Angeles
BEGIN:DAYLIGHT
TZOFFSETFROM:-0800
TZOFFSETTO:-0700
TZNAME:PDT
DTSTART:20240310T100000
END:DAYLIGHT
BEGIN:STANDARD
TZOFFSETFROM:-0700
TZOFFSETTO:-0800
TZNAME:PST
DTSTART:20241103T090000
END:STANDARD
BEGIN:DAYLIGHT
TZOFFSETFROM:-0800
TZOFFSETTO:-0700
TZNAME:PDT
DTSTART:20250309T100000
END:DAYLIGHT
BEGIN:STANDARD
TZOFFSETFROM:-0700
TZOFFSETTO:-0800
TZNAME:PST
DTSTART:20251102T090000
END:STANDARD
BEGIN:DAYLIGHT
TZOFFSETFROM:-0800
TZOFFSETTO:-0700
TZNAME:PDT
DTSTART:20260308T100000
END:DAYLIGHT
BEGIN:STANDARD
TZOFFSETFROM:-0700
TZOFFSETTO:-0800
TZNAME:PST
DTSTART:20261101T090000
END:STANDARD
END:VTIMEZONE
BEGIN:VEVENT
DTSTART;VALUE=DATE:20251019
DTEND;VALUE=DATE:20251020
DTSTAMP:20260423T165836
CREATED:20250929T212024Z
LAST-MODIFIED:20250929T212024Z
UID:12890-1760832000-1760918399@dongchuacuuthe.us
SUMMARY:CN 29 Thường Niên
DESCRIPTION:BÀI ĐỌC I: Xh 17\, 8-13 \n“Khi ông Môsê giơ tay lên\, thì dân Israel thắng trận”. \nTrích sách Xuất Hành. \nTrong những ngày ấy\, người Amalec đến giao chiến với Israel tại Raphiđim\, Ông Môsê nói với ông Giosuê rằng: “Ngươi hãy tuyển lựa các chiến sĩ ra chiến đấu với người Amalec: ngày mai tôi sẽ cầm gậy Thiên Chúa trong tay lên đứng trên đỉnh núi”. Ông Giosuê thực hiện như lời ông Môsê đã dạy\, và ra chiến đấu với người Amalec. Còn ông Môsê\, Aaron và Hur thì đi lên đỉnh núi. Khi ông Môsê giơ tay lên\, thì dân Israel thắng trận\, còn khi ông hạ tay xuống một chút\, thì người Amalec thắng thế. Bấy giờ tay ông Môsê mỏi mệt\, người ta liền khiêng tảng đá kê cho ông ngồi\, còn ông Aaron và ông Hur thì nâng đỡ hai tay ông. Bởi đó hai tay ông không còn mỏi mệt cho đến khi mặt trời lặn. Ông Giosuê dùng lưỡi gươm đánh đuổi người Amalec và quân dân nó. Đó là lời Chúa. \nĐÁP CA: Tv 120\, 1-2. 3-4. 5-6. 7-8 \nĐáp: Ơn phù trợ chúng tôi ở nơi danh Chúa\, là Đấng tạo thành trời đất (c. 2). \nXướng: 1) Tôi ngước mắt nhìn lên đỉnh núi cao\, ơn phù trợ cho tôi sẽ từ đâu ban tới? Ơn phù trợ chúng tôi ở nơi danh Chúa\, là Đấng tạo thành trời đất. – Đáp. \n2) Người chẳng để cho chân ngươi xiêu té; Đấng bảo vệ ngươi\, Người chẳng có ngủ say. Kìa Đấng bảo vệ Israel\, Người không thiếp giấc\, không ngủ say. – Đáp. \n3) Chúa sẽ bảo vệ thân ngươi\, Chúa là Đấng che chở ngươi ở bên tay hữu. Mặt trời sẽ không hại ngươi lúc ban ngày\, và mặt trăng cũng chẳng hại ngươi về ban đêm. – Đáp. \n4) Chúa sẽ gìn giữ ngươi khỏi mọi điều tai biến; Người sẽ bảo vệ linh hồn ngươi. Chúa sẽ bảo vệ ngươi khi đi và khi tới\, ngay tự bây giờ và cho đến muôn đời. – Đáp. \nBÀI ĐỌC II: 2 Tm 3\, 14 – 4\, 2 \n“Người của Thiên Chúa được hoàn hảo\, để sẵn sàng thực hiện mọi việc lành”. \nTrích thư thứ hai của Thánh Phaolô Tông đồ gửi Timôthêu. \nCon thân mến\, con hãy bền vững trong các điều con đã học hỏi và xác tín\, vì con biết con đã học cùng ai\, vì từ bé\, con đã học biết Sách Thánh\, và chính Sách Thánh đã dạy con sự khôn ngoan để con được cứu rỗi nhờ tin vào Đức Giêsu Kitô. Tất cả Kinh Thánh đã được Chúa linh hứng\, đều hữu ích để giảng dạy\, biện bác\, sửa dạy và giáo dục trong đàng công chính\, ngõ hầu người của Thiên Chúa được hoàn hảo để sẵn sàng thực hiện mọi việc lành.  \nCha khuyến cáo con trước tôn nhan Thiên Chúa và Đức Kitô\, Đấng sẽ thẩm phán kẻ sống và kẻ chết\, nhân danh cuộc xuất hiện của chính Người và vương quốc của Người: Con hãy rao giảng lời Phúc Âm\, hãy xúc tiến việc đó\, dầu thời thế thuận lợi hay không thuận lợi; hãy thuyết phục\, hãy khiển trách\, hãy khuyên lơn với tất cả lòng kiên nhẫn và quan tâm giáo huấn. Đó là lời Chúa. \nALLELUIA: Ga 14\, 23 \nAlleluia\, alleluia! – Chúa phán: “Nếu ai yêu mến Thầy\, thì sẽ giữ lời Thầy\, và Cha Thầy sẽ yêu mến người ấy\, và Chúng Ta sẽ đến và ở trong người ấy”. – Alleluia. \nPHÚC ÂM: Lc 18\, 1-8 \n“Thiên Chúa sẽ minh xử cho những kẻ người tuyển chọn hằng kêu cứu với Người”. \nTin Mừng Chúa Giêsu Kitô theo Thánh Luca. \nKhi ấy\, Chúa Giêsu phán cùng các môn đệ một dụ ngôn\, dạy các ông phải cầu nguyện luôn\, đừng ngã lòng\, mà rằng: “Trong thành kia\, có một vị thẩm phán không kính sợ Thiên Chúa\, cũng không kiêng nể người ta. Trong thành đó lại có một bà goá đến thưa ông ấy rằng: ‘Xin ông minh oan cho tôi khỏi tay kẻ thù’. Trong một thời gian lâu dài\, ông không chịu\, nhưng sau đó ông nghĩ rằng: ‘Mặc dầu ta không kính sợ Thiên Chúa\, mà cũng chẳng kính nể người ta\, nhưng vì bà goá này cứ quấy rầy ta mãi\, nên ta sẽ xử cho bà ấy\, kẻo bà ấy đến mãi làm ta nhức óc’ “.  \nRồi Chúa phán: “Các con hãy nghe lời vị thẩm phán bất lương nói đó. Vậy Thiên Chúa lại không minh xử cho những kẻ Người tuyển chọn\, hằng kêu cứu với Người đêm ngày\, mà khoan giãn với họ mãi sao? Thầy bảo các con\, Chúa sẽ kíp giải oan cho họ. Nhưng khi Con Người đến\, liệu sẽ còn gặp được lòng tin trên mặt đất nữa chăng?” Đó là lời Chúa.
URL:https://dongchuacuuthe.us/calendar/cn-29-thuong-nien/
END:VEVENT
END:VCALENDAR