BEGIN:VCALENDAR
VERSION:2.0
PRODID:-//Dòng Chúa Cứu Thế Hải Ngoại - ECPv6.15.20//NONSGML v1.0//EN
CALSCALE:GREGORIAN
METHOD:PUBLISH
X-ORIGINAL-URL:https://dongchuacuuthe.us
X-WR-CALDESC:Events for Dòng Chúa Cứu Thế Hải Ngoại
REFRESH-INTERVAL;VALUE=DURATION:PT1H
X-Robots-Tag:noindex
X-PUBLISHED-TTL:PT1H
BEGIN:VTIMEZONE
TZID:America/Los_Angeles
BEGIN:DAYLIGHT
TZOFFSETFROM:-0800
TZOFFSETTO:-0700
TZNAME:PDT
DTSTART:20240310T100000
END:DAYLIGHT
BEGIN:STANDARD
TZOFFSETFROM:-0700
TZOFFSETTO:-0800
TZNAME:PST
DTSTART:20241103T090000
END:STANDARD
BEGIN:DAYLIGHT
TZOFFSETFROM:-0800
TZOFFSETTO:-0700
TZNAME:PDT
DTSTART:20250309T100000
END:DAYLIGHT
BEGIN:STANDARD
TZOFFSETFROM:-0700
TZOFFSETTO:-0800
TZNAME:PST
DTSTART:20251102T090000
END:STANDARD
BEGIN:DAYLIGHT
TZOFFSETFROM:-0800
TZOFFSETTO:-0700
TZNAME:PDT
DTSTART:20260308T100000
END:DAYLIGHT
BEGIN:STANDARD
TZOFFSETFROM:-0700
TZOFFSETTO:-0800
TZNAME:PST
DTSTART:20261101T090000
END:STANDARD
END:VTIMEZONE
BEGIN:VEVENT
DTSTART;VALUE=DATE:20251018
DTEND;VALUE=DATE:20251019
DTSTAMP:20260423T165842
CREATED:20250929T211958Z
LAST-MODIFIED:20250929T211958Z
UID:12888-1760745600-1760831999@dongchuacuuthe.us
SUMMARY:Lễ Kính Thánh Luca\, Th. Sử
DESCRIPTION:BÀI ĐỌC I: 2 Tm 4\, 9-17a \n“Chỉ còn một mình Luca ở với cha”. \nTrích thư thứ hai của Thánh Phaolô Tông đồ gửi Timôthêu. \nCon thân mến\, Đêma đã lìa bỏ cha\, bởi nó yêu chuộng sự đời này\, và đã trẩy sang Thêxalônica\, còn Crescens thì đi Galata\, Titô đi Đalmatia. Chỉ còn một mình Luca ở với cha. Con hãy đem Marcô đi và dẫn tới đây với con\, vì anh ấy có thể giúp ích để cha chu toàn sứ vụ. Còn Tykicô\, thì cha đã sai đi Êphêxô rồi. Cái áo khoác cha để quên tại nhà ông Carpô ở Troa\, khi con tới\, hãy mang đến cho cha\, cả những cuốn sách và nhất là những mảnh da thuộc để viết.  \nAnh thợ đồng Alexanđrô làm cho cha phải chịu nhiều điều khốn khổ. Chúa sẽ trả báo cho nó tuỳ theo công việc nó đã làm. Cả con nữa\, con cũng phải xa lánh nó\, vì nó kịch liệt phản đối lời giảng dạy của chúng ta.  \nLần đầu tiên cha đứng ra biện hộ cho cha\, thì chẳng ai bênh đỡ cha\, trái lại mọi người đều bỏ mặc cha: xin chớ chấp tội họ. Nhưng Chúa đã phù hộ cha và ban sức mạnh cho cha\, để nhờ cha mà lời rao giảng được hoàn tất\, và tất cả các Dân Ngoại được nghe. Đó là lời Chúa. \nĐÁP CA: Tv 144\, 10-11. 12-13ab. 17-18 \nĐáp: Lạy Chúa\, con cái Chúa làm cho loài người nhận biết vinh quang cao cả nước Chúa (c. 12). \nXướng: 1) Lạy Chúa\, mọi công việc của Chúa hãy chúc tụng Chúa\, và các thánh nhân của Ngài hãy chúc tụng Ngài. Thiên hạ hãy nói lên vinh quang nước Chúa\, và hãy đề cao quyền năng. – Đáp. \n2) Để con cái loài người nhận biết quyền năng\, và vinh quang cao cả nước Chúa. Nước Chúa là nước vĩnh cửu muôn đời\, chủ quyền Chúa tồn tại qua muôn thế hệ. – Đáp. \n3) Chúa công minh trong mọi đường lối của Người\, và yêu thương trong mọi kỳ công Người tác tạo. Chúa ở gần những kẻ kêu cầu Người\, những kẻ kêu cầu Người với lòng thành thật. – Đáp. \nALLELUIA: Ga 15\, 16 \nAlleluia\, alleluia! – Chúa phán: “Chính Thầy đã chọn các con\, để các con đi và mang lại hoa trái\, và để hoa trái các con tồn tại”. – Alleluia. \nPHÚC ÂM: Lc 10\, 1-9 \n“Lúa chín đầy đồng mà thợ gặt thì ít”. \nTin Mừng Chúa Giêsu Kitô theo Thánh Luca. \nKhi ấy\, Chúa chọn thêm bảy mươi hai người nữa và sai các ông cứ từng hai người đi trước Người đến các thành và các nơi mà chính Người sẽ tới. Người bảo các ông rằng: “Lúa chín đầy đồng mà thợ gặt thì ít; vậy các con hãy xin chủ ruộng sai thợ đến gặt lúa của Người. Các con hãy đi. Này Ta sai các con như con chiên ở giữa sói rừng. Các con đừng mang theo túi tiền\, bao bị\, giày dép\, và đừng chào hỏi ai dọc đường.  \n“Vào nhà nào\, trước tiên các con hãy nói: ‘Bình an cho nhà này’. Nếu ở đấy có con cái sự bình an\, thì sự bình an của các con sẽ đến trên người ấy. Bằng không\, sự bình an lại trở về với các con. Các con ở lại trong nhà đó\, ăn uống những thứ họ có\, vì thợ đáng được trả công. Các con đừng đi nhà này sang nhà nọ. Khi vào thành nào mà người ta tiếp các con\, các con hãy ăn những thức người ta dọn cho. Hãy chữa các bệnh nhân trong thành và nói với họ rằng: Nước Thiên Chúa đã đến gần các ngươi”.  \nĐó là lời Chúa.
URL:https://dongchuacuuthe.us/calendar/le-kinh-thanh-luca-th-su-2/
END:VEVENT
END:VCALENDAR