BEGIN:VCALENDAR
VERSION:2.0
PRODID:-//Dòng Chúa Cứu Thế Hải Ngoại - ECPv6.15.20//NONSGML v1.0//EN
CALSCALE:GREGORIAN
METHOD:PUBLISH
X-ORIGINAL-URL:https://dongchuacuuthe.us
X-WR-CALDESC:Events for Dòng Chúa Cứu Thế Hải Ngoại
REFRESH-INTERVAL;VALUE=DURATION:PT1H
X-Robots-Tag:noindex
X-PUBLISHED-TTL:PT1H
BEGIN:VTIMEZONE
TZID:America/Los_Angeles
BEGIN:DAYLIGHT
TZOFFSETFROM:-0800
TZOFFSETTO:-0700
TZNAME:PDT
DTSTART:20240310T100000
END:DAYLIGHT
BEGIN:STANDARD
TZOFFSETFROM:-0700
TZOFFSETTO:-0800
TZNAME:PST
DTSTART:20241103T090000
END:STANDARD
BEGIN:DAYLIGHT
TZOFFSETFROM:-0800
TZOFFSETTO:-0700
TZNAME:PDT
DTSTART:20250309T100000
END:DAYLIGHT
BEGIN:STANDARD
TZOFFSETFROM:-0700
TZOFFSETTO:-0800
TZNAME:PST
DTSTART:20251102T090000
END:STANDARD
BEGIN:DAYLIGHT
TZOFFSETFROM:-0800
TZOFFSETTO:-0700
TZNAME:PDT
DTSTART:20260308T100000
END:DAYLIGHT
BEGIN:STANDARD
TZOFFSETFROM:-0700
TZOFFSETTO:-0800
TZNAME:PST
DTSTART:20261101T090000
END:STANDARD
END:VTIMEZONE
BEGIN:VEVENT
DTSTART;VALUE=DATE:20251016
DTEND;VALUE=DATE:20251017
DTSTAMP:20260423T165842
CREATED:20250929T211907Z
LAST-MODIFIED:20250929T211907Z
UID:12884-1760572800-1760659199@dongchuacuuthe.us
SUMMARY:Thứ Năm Tuần XXVIII Thường Niên Năm I
DESCRIPTION:BÀI ĐỌC I: Rm 3\, 21-30a (Hl 21-29) \n“Con người nhờ đức tin mà được công chính hoá\, chứ không phải bởi việc làm theo lề luật”. \nTrích thư Thánh Phaolô Tông đồ gửi tín hữu Rôma. \nAnh em thân mến\, hiện giờ sự công chính của Thiên Chúa đã tỏ hiện không tuỳ vào lề luật\, nhưng có lề luật và các tiên tri làm chứng. Sự công chính của Thiên Chúa nhờ tin vào Đức Giêsu Kitô sẽ ban cho mọi kẻ tin vào Người\, không có gì phân biệt: vì mọi người đều phạm tội và đã thiếu mất vinh quang của Thiên Chúa\, họ được công chính hoá cách nhưng không\, do ơn nghĩa của Người và nhờ sự cứu chuộc nơi Đức Giêsu Kitô\, Đấng Thiên Chúa đã đặt làm của lễ đền tội\, nhờ tin vào máu của Người\, để tỏ cho thấy đức công chính của Người\, bởi Người tha thứ những tội đã phạm khi trước\, trong thời kỳ nhịn nhục của Thiên Chúa\, ngõ hầu tỏ ra đức công chính của Người trong lúc này\, để tỏ ra chính Người là Đấng công chính và công chính hoá người tin vào Đức Giêsu Kitô.  \nVậy đâu là việc tự hào của ngươi? Nó đã bị loại đi rồi. Bởi lề luật nào? Có phải lề luật chỉ việc làm không? Không phải\, song là bởi lề luật đức tin. Quả thế\, chúng tôi thâm tín rằng: con người nhờ đức tin mà được công chính hoá\, chứ không phải bởi việc làm theo lề luật. Hay là Thiên Chúa chỉ là Thiên Chúa của người Do-thái thôi sao? Người không phải là Thiên Chúa các dân ngoại nữa sao? Ắt hẳn Người là Thiên Chúa các dân ngoại nữa: vì chỉ có một Thiên Chúa. Đó là lời Chúa. \nĐÁP CA: Tv 129\, 1-2. 3-4ab. 4c-5 \nĐáp: Bởi vì Chúa rộng lượng từ bi\, và Chúa rất giầu ơn cứu độ (c. 7). \nXướng: 1) Từ vực sâu\, lạy Chúa\, con kêu lên Chúa. Lạy Chúa\, xin nghe tiếng con cầu! Dám xin Chúa hãy lắng tai\, hầu nghe thấu tiếng van nài của con. – Đáp.  \n2) Nếu Chúa nhớ hoài sự lỗi\, lạy Chúa\, nào ai chịu nổi được ư? Nhưng Chúa thường rộng lượng thứ tha\, để cho thiên hạ tôn thờ kính yêu. – Đáp.  \n3) Con hy vọng rất nhiều vào Chúa\, linh hồn con trông cậy ở lời Ngài. Linh hồn con mong đợi Chúa\, hơn người lính gác mong trời rạng đông. Hơn lính gác mong hừng đông dậy\, Israel đang mong đợi Chúa. – Đáp.  \nALLELUIA: Ga 14\, 5 \nAlleluia\, alleluia! – Chúa phán: “Thầy là đường\, là sự thật và là sự sống\, không ai đến được với Cha mà không qua Thầy”. – Alleluia. \nPHÚC ÂM: Lc 11\, 47-54 \n“Sẽ bị đòi nợ máu của các tiên tri đã đổ ra\, kể từ máu của Abel cho đến máu của Giacaria”. \nTin Mừng Chúa Giêsu Kitô theo Thánh Luca. \nKhi ấy\, Chúa phán: “Khốn cho các ngươi! Hỡi những người xây cất mồ mả các tiên tri\, mà tổ phụ các ngươi đã giết chết. Thật\, các ngươi làm chứng và tán thành những hành động của tổ phụ các ngươi: vì thực ra họ đã giết các vị tiên tri\, còn các ngươi thì xây mồ mả cho họ. Bởi đó mà sự Khôn Ngoan của Thiên Chúa đã nói: Ta sẽ sai đến với chúng các tiên tri và các tông đồ\, trong số các vị đó\, người thì chúng giết đi\, người thì chúng bách hại\, khiến cho dòng giống này sẽ bị đòi nợ máu của tất cả các tiên tri đã đổ ra từ lúc tạo thành vũ trụ\, kể từ máu của Abel cho đến máu của Dacaria\, người đã bị sát hại giữa bàn thờ và thánh điện. Phải\, Ta bảo các ngươi\, dòng giống này sẽ bị đòi nợ máu. Khốn cho các ngươi! Hỡi những tiến sĩ luật\, vì các ngươi cất giữ chìa khoá sự hiểu biết. Chính các ngươi đã không được vào\, mà những người muốn vào\, các ngươi đã ngăn cản họ lại”.  \nKhi người phán bảo cùng các biệt phái và tiến sĩ luật những lời đó\, thì họ bắt đầu oán ghét Người một cách ghê gớm\, và chất vấn Người về nhiều vấn đề\, cố gài bẫy Người để may ra bắt bẻ được lời gì do miệng Người thốt ra chăng.  \nĐó là lời Chúa.
URL:https://dongchuacuuthe.us/calendar/thu-nam-tuan-xxviii-thuong-nien-nam-i-2/
END:VEVENT
END:VCALENDAR