BEGIN:VCALENDAR
VERSION:2.0
PRODID:-//Dòng Chúa Cứu Thế Hải Ngoại - ECPv6.15.20//NONSGML v1.0//EN
CALSCALE:GREGORIAN
METHOD:PUBLISH
X-ORIGINAL-URL:https://dongchuacuuthe.us
X-WR-CALDESC:Events for Dòng Chúa Cứu Thế Hải Ngoại
REFRESH-INTERVAL;VALUE=DURATION:PT1H
X-Robots-Tag:noindex
X-PUBLISHED-TTL:PT1H
BEGIN:VTIMEZONE
TZID:America/Los_Angeles
BEGIN:DAYLIGHT
TZOFFSETFROM:-0800
TZOFFSETTO:-0700
TZNAME:PDT
DTSTART:20240310T100000
END:DAYLIGHT
BEGIN:STANDARD
TZOFFSETFROM:-0700
TZOFFSETTO:-0800
TZNAME:PST
DTSTART:20241103T090000
END:STANDARD
BEGIN:DAYLIGHT
TZOFFSETFROM:-0800
TZOFFSETTO:-0700
TZNAME:PDT
DTSTART:20250309T100000
END:DAYLIGHT
BEGIN:STANDARD
TZOFFSETFROM:-0700
TZOFFSETTO:-0800
TZNAME:PST
DTSTART:20251102T090000
END:STANDARD
BEGIN:DAYLIGHT
TZOFFSETFROM:-0800
TZOFFSETTO:-0700
TZNAME:PDT
DTSTART:20260308T100000
END:DAYLIGHT
BEGIN:STANDARD
TZOFFSETFROM:-0700
TZOFFSETTO:-0800
TZNAME:PST
DTSTART:20261101T090000
END:STANDARD
END:VTIMEZONE
BEGIN:VEVENT
DTSTART;VALUE=DATE:20251012
DTEND;VALUE=DATE:20251013
DTSTAMP:20260423T165842
CREATED:20250929T211719Z
LAST-MODIFIED:20250929T211719Z
UID:12876-1760227200-1760313599@dongchuacuuthe.us
SUMMARY:CN 28 Thường Niên
DESCRIPTION:BÀI ĐỌC I: 2 V 5\, 14-17 \n“Naaman trở lại gặp người của Thiên Chúa và ông tuyên xưng Chúa”. \nTrích sách Các Vua quyển thứ hai. \nTrong những ngày ấy\, Naaman\, quan lãnh binh của vua xứ Syria\, xuống tắm bảy lần ở sông Giođan như lời tiên tri\, người của Thiên Chúa dạy\, da thịt ông lại trở nên tốt như da thịt của đứa trẻ\, và ông được sạch.  \nSau đó\, ông và đoàn tuỳ tùng trở lại gặp người của Thiên Chúa. Đến nơi\, ông đứng trước mặt người của Thiên Chúa và nói: “Thật tôi biết không có Thiên Chúa nào khác trên hoàn vũ\, ngoài một Thiên Chúa ở Israel. Vì thế\, tôi xin ông nhận lấy phần phúc của tôi tớ ông”.  \nTiên tri trả lời rằng: “Có Chúa hằng sống\, tôi đang đứng trước mặt Người: Thật tôi không dám nhận đâu”. Naaman cố nài ép\, nhưng tiên tri không nghe. Naaman nói thêm rằng: “Tuỳ ý ông\, nhưng tôi xin ông ban phép cho tôi\, là đầy tớ của ông\, được chở một ít đất vừa sức hai con la chở được\, vì từ nay ngoài Chúa\, tôi tớ của ông sẽ chẳng dâng của lễ toàn thiêu hoặc hy lễ cho thần minh nào khác”. Đó là lời Chúa. \nĐÁP CA: Tv 97\, 1. 2-3ab. 3cd-4 \nĐáp: Chúa đã công bố ơn cứu độ của Người trước mặt chư dân (c. 2b). \nXướng: 1) Hãy ca tụng Chúa một bài ca mới\, vì Người đã làm nên những điều huyền diệu. Tay hữu Người đã tạo cho Người cuộc chiến thắng\, cùng với cánh tay thánh thiện của Người. – Đáp  \n2) Chúa đã công bố ơn cứu độ của Người; trước mặt chư dân Người tỏ rõ đức công minh. Người đã nhớ lại lòng nhân hậu và trung thành để sủng ái nhà Israel. – Đáp.  \n3) Khắp nơi bờ cõi địa cầu đã nhìn thấy ơn cứu độ của Thiên Chúa chúng ta. Toàn thể địa cầu hãy reo mừng Chúa\, hãy hoan hỉ\, mừng vui và đàn ca! – Đáp.  \nBÀI ĐỌC II: 2 Tm 2\, 8-13 \n“Nếu chúng ta kiên tâm chịu đựng\, chúng ta sẽ cùng thống trị với Đức Kitô”. \nTrích thư thứ hai của Thánh Phaolô Tông đồ gửi Timôthêu. \nCon thân mến\, con hãy nhớ rằng Chúa Giêsu Kitô bởi dòng dõi Đavít\, đã từ cõi chết sống lại\, theo như Tin Mừng cha rao giảng. Vì Tin Mừng đó mà cha phải đau khổ đến phải chịu xiềng xích như một kẻ gian ác\, nhưng lời của Thiên Chúa đâu có bị xiềng xích! Vì thế\, cha cam chịu mọi sự vì những kẻ được tuyển chọn\, để họ được hưởng ơn cứu độ cùng với vinh quang trên trời trong Đức Giêsu Kitô.  \nĐây cha nói thật: Nếu chúng ta cùng chết với Người\, thì chúng ta cùng sống với Người. Nếu chúng ta kiên tâm chịu đựng\, chúng ta sẽ cùng thống trị với Người. Nếu chúng ta chối bỏ Người\, thì Người cũng sẽ chối bỏ chúng ta. Nếu chúng ta không tin Người\, Người vẫn trung thành\, vì Người không thể chối bỏ chính mình Người. Đó là lời Chúa. \nALLELUIA: Lc 19\, 38 \nAlleluia\, alleluia! – Chúc tụng Đức Vua\, Đấng nhân danh Chúa mà đến! Bình an trên trời và vinh quang trên các tầng trời! – Alleluia. \nPHÚC ÂM: Lc 17\, 11-19 \n“Không thấy ai trở lại tôn vinh Thiên Chúa\, mà chỉ có người ngoại bang này”. \nTin Mừng Chúa Giêsu Kitô theo Thánh Luca. \nKhi Chúa Giêsu đi lên Giêrusalem\, Người đi qua biên giới Samaria và Galilêa. Khi Người vào một làng kia\, thì gặp mười người phong cùi đang đứng ở đàng xa\, họ cất tiếng thưa rằng: “Lạy Thầy Giêsu\, xin thương xót chúng tôi”. Thấy họ\, Người bảo họ rằng: “Các ngươi hãy đi trình diện với các tư tế”. Trong lúc họ đi đường\, họ được lành sạch. Một người trong bọn họ thấy mình được lành sạch\, liền quay trở lại\, lớn tiếng ngợi khen Thiên Chúa\, rồi đến sấp mình dưới chân Chúa Giêsu và tạ ơn Người\, mà người ấy lại là người xứ Samaria.  \nNhưng Chúa Giêsu phán rằng: “Chớ thì không phải cả mười người được lành sạch sao? Còn chín người kia đâu? Không thấy ai trở lại tôn vinh Thiên Chúa\, mà chỉ có người ngoại bang này”. Rồi Người bảo kẻ ấy rằng: “Ngươi hãy đứng dậy mà về: vì lòng tin của ngươi đã cứu chữa ngươi”. Đó là lời Chúa.
URL:https://dongchuacuuthe.us/calendar/cn-28-thuong-nien/
END:VEVENT
END:VCALENDAR