BEGIN:VCALENDAR
VERSION:2.0
PRODID:-//Dòng Chúa Cứu Thế Hải Ngoại - ECPv6.15.20//NONSGML v1.0//EN
CALSCALE:GREGORIAN
METHOD:PUBLISH
X-WR-CALNAME:Dòng Chúa Cứu Thế Hải Ngoại
X-ORIGINAL-URL:https://dongchuacuuthe.us
X-WR-CALDESC:Events for Dòng Chúa Cứu Thế Hải Ngoại
REFRESH-INTERVAL;VALUE=DURATION:PT1H
X-Robots-Tag:noindex
X-PUBLISHED-TTL:PT1H
BEGIN:VTIMEZONE
TZID:America/Los_Angeles
BEGIN:DAYLIGHT
TZOFFSETFROM:-0800
TZOFFSETTO:-0700
TZNAME:PDT
DTSTART:20240310T100000
END:DAYLIGHT
BEGIN:STANDARD
TZOFFSETFROM:-0700
TZOFFSETTO:-0800
TZNAME:PST
DTSTART:20241103T090000
END:STANDARD
BEGIN:DAYLIGHT
TZOFFSETFROM:-0800
TZOFFSETTO:-0700
TZNAME:PDT
DTSTART:20250309T100000
END:DAYLIGHT
BEGIN:STANDARD
TZOFFSETFROM:-0700
TZOFFSETTO:-0800
TZNAME:PST
DTSTART:20251102T090000
END:STANDARD
BEGIN:DAYLIGHT
TZOFFSETFROM:-0800
TZOFFSETTO:-0700
TZNAME:PDT
DTSTART:20260308T100000
END:DAYLIGHT
BEGIN:STANDARD
TZOFFSETFROM:-0700
TZOFFSETTO:-0800
TZNAME:PST
DTSTART:20261101T090000
END:STANDARD
END:VTIMEZONE
BEGIN:VEVENT
DTSTART;VALUE=DATE:20251002
DTEND;VALUE=DATE:20251003
DTSTAMP:20260423T165837
CREATED:20250929T211240Z
LAST-MODIFIED:20250929T211240Z
UID:12856-1759363200-1759449599@dongchuacuuthe.us
SUMMARY:Lễ Nhớ Các Thiên Thần Hộ Thủ
DESCRIPTION:BÀI ĐỌC I:  Xh 23\, 20-23a \n“Thiên thần của Ta đi trước mặt ngươi”. \nTrích sách Xuất Hành. \nĐây Chúa phán: “Này Ta sẽ sai thiên thần Ta đi trước mặt ngươi\, gìn giữ ngươi khi đi đàng\, và dẫn đưa ngươi đến nơi Ta đã dọn sẵn cho ngươi. Ngươi hãy ăn ở cẩn thận trước mặt người\, hãy nghe lời người\, và chớ cả lòng khi dể người: vì người sẽ không tha thứ cho ngươi khi ngươi phạm lỗi\, bởi người mang lấy danh Ta trong người. Nếu ngươi nghe lời người\, và tuân giữ tất cả những gì Ta truyền dạy\, thì Ta sẽ là địch thù của những kẻ thù nghịch ngươi\, và Ta sẽ trừng phạt những kẻ uy hiếp ngươi. Thiên thần Ta sẽ đi trước mặt ngươi”.  Đó là lời Chúa. \nĐÁP CA:   Tv 90\, 1-2. 3-4. 5-6. 10-11 \nĐáp: Chúa đã lệnh cho các thiên thần săn sóc bạn\, để chư vị đó gìn giữ bạn trên khắp nẻo đường (c. 11). \nXướng: 1)   Bạn sống trong sự che chở của Đấng Tối Cao; bạn cư ngụ dưới bóng của Đấng Toàn Năng. Hãy thưa cùng Chúa: “Chúa là chiến luỹ nơi con nương náu; lạy Chúa con\, con tin cậy ở Ngài”.    – Đáp. \n2)   Vì Chính Người sẽ cứu bạn thoát lưới dò của kẻ bẫy chim\, và thoát khỏi quan ôn tác hại. Người sẽ che chở bạn trong bóng cánh của Người\, và dưới cánh Người\, bạn sẽ nương thân: lòng trung tín của Người là mã giáp và khiên thuẫn.   – Đáp. \n3)   Bạn không còn sợ hãi cảnh kinh dị ban đêm\, cũng không còn e ngại mũi tên ban ngày bay tới; không còn sợ quan ôn trong bóng tối lang thang\, cũng không còn lo dịch tễ vào buổi trưa sát hại.   – Đáp. \n4)   Tai nạn không đến gần được bạn\, và oan ương không bén bảng tới nhà bạn ở. Vì Chúa đã lệnh cho thiên thần Người săn sóc bạn\, để chư vị đó gìn giữ bạn trên khắp nẻo đường.   – Đáp. \nALLELUIA:  Tv 102\, 21 \nAlleluia\, alleluia! – Hãy chúc tụng Chúa đi\, chư binh toàn thể\, chư vị thần hạ thừa hành ý muốn của Chúa. – Alleluia. \nPHÚC ÂM:  Mt 18\, 1-5. 10 \n“Các thiên thần của họ trên trời hằng chiêm ngưỡng thánh nhan Cha Thầy\, Đấng ngự trên trời”. \nTin Mừng Chúa Giêsu Kitô theo Thánh Matthêu. \nKhi ấy\, các môn đệ đến bên Chúa Giêsu mà hỏi rằng: “Thưa Thầy\, ai là kẻ lớn nhất trong Nước Trời?” Chúa Giêsu gọi một trẻ nhỏ lại\, đặt nó giữa các ông mà phán rằng: “Thật\, Thầy bảo thật các con: nếu các con không hoá nên như trẻ nhỏ\, các con sẽ không được vào Nước Trời. Vậy ai hạ mình xuống như trẻ nhỏ này\, người ấy là kẻ lớn nhất trong Nước Trời. Và kẻ nào đón nhận một trẻ nhỏ như thế này vì danh Thầy\, tức là đón nhận Thầy. Các con hãy coi chừng\, đừng khinh rẻ một ai trong những kẻ bé mọn này\, vì Thầy bảo các con\, thiên thần của chúng trên trời hằng chiêm ngưỡng thánh nhan Cha Thầy\, Đấng ngự trên trời”. \nĐó là lời Chúa
URL:https://dongchuacuuthe.us/calendar/le-nho-cac-thien-than-ho-thu-2/
END:VEVENT
END:VCALENDAR