BEGIN:VCALENDAR
VERSION:2.0
PRODID:-//Dòng Chúa Cứu Thế Hải Ngoại - ECPv6.15.20//NONSGML v1.0//EN
CALSCALE:GREGORIAN
METHOD:PUBLISH
X-WR-CALNAME:Dòng Chúa Cứu Thế Hải Ngoại
X-ORIGINAL-URL:https://dongchuacuuthe.us
X-WR-CALDESC:Events for Dòng Chúa Cứu Thế Hải Ngoại
REFRESH-INTERVAL;VALUE=DURATION:PT1H
X-Robots-Tag:noindex
X-PUBLISHED-TTL:PT1H
BEGIN:VTIMEZONE
TZID:America/Los_Angeles
BEGIN:DAYLIGHT
TZOFFSETFROM:-0800
TZOFFSETTO:-0700
TZNAME:PDT
DTSTART:20240310T100000
END:DAYLIGHT
BEGIN:STANDARD
TZOFFSETFROM:-0700
TZOFFSETTO:-0800
TZNAME:PST
DTSTART:20241103T090000
END:STANDARD
BEGIN:DAYLIGHT
TZOFFSETFROM:-0800
TZOFFSETTO:-0700
TZNAME:PDT
DTSTART:20250309T100000
END:DAYLIGHT
BEGIN:STANDARD
TZOFFSETFROM:-0700
TZOFFSETTO:-0800
TZNAME:PST
DTSTART:20251102T090000
END:STANDARD
BEGIN:DAYLIGHT
TZOFFSETFROM:-0800
TZOFFSETTO:-0700
TZNAME:PDT
DTSTART:20260308T100000
END:DAYLIGHT
BEGIN:STANDARD
TZOFFSETFROM:-0700
TZOFFSETTO:-0800
TZNAME:PST
DTSTART:20261101T090000
END:STANDARD
END:VTIMEZONE
BEGIN:VEVENT
DTSTART;VALUE=DATE:20250929
DTEND;VALUE=DATE:20250930
DTSTAMP:20260423T170439
CREATED:20250901T060318Z
LAST-MODIFIED:20250901T060318Z
UID:12724-1759104000-1759190399@dongchuacuuthe.us
SUMMARY:Lễ T.T. Micae\, Gabrie\, Raphael\, LK
DESCRIPTION:BÀI ĐỌC I: Đn 7\, 9-10. 13-14 \n“Muôn muôn vàn kẻ chầu chực Người”. \nTrích sách Tiên tri Đaniel. \nTôi chăm chú nhìn mãi cho đến khi đặt xong các toà\, và vị Bô Lão lên ngự trên toà; áo Người trắng như tuyết\, tóc trên đầu Người tinh tuyền như lông chiên\, toà của Người như ngọn lửa\, các bánh xe như lửa cháy. Trước mặt Người có con sông lửa cuồn cuộn chảy như thác. Có hằng ngàn kẻ phụng sự Người và muôn muôn vàn kẻ chầu chực Người: Người ngự toà xét xử và các quyển sách đã được mở ra.  \nTrong một thị kiến ban đêm\, tôi đã ngắm nhìn\, và đây tôi nhìn thấy như Con Người đến trong đám mây trên trời\, Ngài tiến đến vị Bô Lão\, và người ta dẫn Ngài đến trước mặt vị Bô Lão. Vị này ban cho Ngài quyền năng\, vinh dự và vương quốc. Tất cả các dân tộc\, chi họ\, và tiếng nói đều phụng sự Ngài: Quyền năng của Ngài là quyền năng vĩnh cửu\, không khi nào bị cất mất; vương quốc của Ngài không khi nào bị phá huỷ. Đó là lời Chúa. \nHoặc đọc: Kh 12\, 7-12 \n“Michael và các thiên thần của ngài giao chiến với con Rồng”. \nTrích sách Khải Huyền của Thánh Gioan Tông đồ. \nĐã xảy ra có đại chiến trên trời: Michael và các thiên thần của Ngài giao chiến với con Rồng. Con Rồng và các thiên thần phe nó nghinh chiến. Nhưng nó không có sức cự lại; chỗ của chúng không còn gặp thấy trên trời. Và nó bị xô nhào xuống\, con Rồng lớn\, con Rắn thái sơ\, gọi là quỷ hay Satan\, kẻ mê hoặc toàn thể thiên hạ. Nó đã bị xô nhào xuống đất\, và các thiên thần phe nó cũng bị xô nhào xuống làm một với nó.  \nVà tôi đã nghe có tiếng lớn trên trời rằng: “Nay đã thành sự: toàn thắng\, quyền năng\, vương quyền của Thiên Chúa chúng ta\, và quyền bính của Đức Kitô của Người\, vì nó đã bị xô nhào xuống\, kẻ cáo tội anh em ta\, kẻ tố cáo họ ngày đêm trước nhan Thiên Chúa. Và họ đã thắng được nó nhờ máu Chiên Con\, và nhờ lời đoan chứng của họ\, họ đã không ham sống sợ chết. Vì lẽ ấy\, hãy hân hoan\, hỡi các tầng trời\, và các người ở nơi ấy!” Đó là lời Chúa. \nĐÁP CA: Tv 137\, 1-2a. 2bc-3. 4-5 \nĐáp: Lạy Chúa\, trước mặt các thiên thần\, con đàn ca mừng Chúa (c. 1c). \nXướng: 1) Lạy Chúa\, con sẽ ca tụng Chúa hết lòng\, vì Chúa đã nghe lời miệng con xin; trước mặt các thiên thần\, con đàn ca mừng Chúa\, con sấp mình thờ lạy bên thánh điện Ngài. – Đáp. \n2) Và con sẽ ca tụng uy danh Chúa\, vì lòng nhân hậu và trung thành của Chúa. Khi con kêu cầu\, Chúa nhậm lời con; Chúa đã ban cho tâm hồn con nhiều sức mạnh. – Đáp. \n3) Lạy Chúa\, các vua địa cầu sẽ ca ngợi Chúa\, khi họ nghe những lời miệng Chúa phán ra; và họ sẽ ca ngợi đường lối Chúa: “Thực vinh quang của Chúa lớn lao!” – Đáp. \nALLELUIA: Tv 102\, 21 \nAlleluia\, alleluia! – Hãy chúc tụng Chúa đi\, chư binh toàn thể\, chư vị thần hạ thừa hành ý muốn của Chúa. – Alleluia. \nPHÚC ÂM: Ga 1\, 47-51 \nCác ngươi sẽ thấy các thiên thần Chúa lên xuống trên Con Người”. \nTin Mừng Chúa Giêsu Kitô theo Thánh Gioan. \nKhi ấy\, Chúa Giêsu thấy Nathanael đi tới Mình\, thì nói về ông rằng: “Đây thật là người Israel\, nơi ông không có gì gian dối”. Nathanaen đáp: “Sao Ngài biết tôi?” Chúa Giêsu trả lời rằng: “Trước khi Philipphê gọi ngươi\, lúc ngươi còn ở dưới cây vả\, thì Ta đã thấy ngươi”. Nathanael thưa lại rằng: “Lạy Thầy\, Thầy là Con Thiên Chúa\, là Vua Israel”. Chúa Giêsu trả lời: “Vì Ta đã nói với ngươi rằng: Ta đã thấy ngươi dưới cây vả\, nên ngươi tin. Ngươi sẽ thấy việc cao trọng hơn thế nữa”. Và Người nói với ông: “Thật\, Ta nói thật với các ngươi\, các ngươi sẽ thấy trời mở ra\, và các thiên thần Chúa lên xuống trên Con Người”.  \nĐó là lời Chúa.
URL:https://dongchuacuuthe.us/calendar/le-t-t-micae-gabrie-raphael-lk-2/
END:VEVENT
END:VCALENDAR