BEGIN:VCALENDAR
VERSION:2.0
PRODID:-//Dòng Chúa Cứu Thế Hải Ngoại - ECPv6.15.20//NONSGML v1.0//EN
CALSCALE:GREGORIAN
METHOD:PUBLISH
X-WR-CALNAME:Dòng Chúa Cứu Thế Hải Ngoại
X-ORIGINAL-URL:https://dongchuacuuthe.us
X-WR-CALDESC:Events for Dòng Chúa Cứu Thế Hải Ngoại
REFRESH-INTERVAL;VALUE=DURATION:PT1H
X-Robots-Tag:noindex
X-PUBLISHED-TTL:PT1H
BEGIN:VTIMEZONE
TZID:America/Los_Angeles
BEGIN:DAYLIGHT
TZOFFSETFROM:-0800
TZOFFSETTO:-0700
TZNAME:PDT
DTSTART:20240310T100000
END:DAYLIGHT
BEGIN:STANDARD
TZOFFSETFROM:-0700
TZOFFSETTO:-0800
TZNAME:PST
DTSTART:20241103T090000
END:STANDARD
BEGIN:DAYLIGHT
TZOFFSETFROM:-0800
TZOFFSETTO:-0700
TZNAME:PDT
DTSTART:20250309T100000
END:DAYLIGHT
BEGIN:STANDARD
TZOFFSETFROM:-0700
TZOFFSETTO:-0800
TZNAME:PST
DTSTART:20251102T090000
END:STANDARD
BEGIN:DAYLIGHT
TZOFFSETFROM:-0800
TZOFFSETTO:-0700
TZNAME:PDT
DTSTART:20260308T100000
END:DAYLIGHT
BEGIN:STANDARD
TZOFFSETFROM:-0700
TZOFFSETTO:-0800
TZNAME:PST
DTSTART:20261101T090000
END:STANDARD
END:VTIMEZONE
BEGIN:VEVENT
DTSTART;VALUE=DATE:20250927
DTEND;VALUE=DATE:20250928
DTSTAMP:20260423T181955
CREATED:20250910T021926Z
LAST-MODIFIED:20250910T021926Z
UID:12824-1758931200-1759017599@dongchuacuuthe.us
SUMMARY:Thứ Bảy Tuần XXV Thường Niên Năm I
DESCRIPTION:BÀI ĐỌC I: Dcr 2\, 1-5. 10-11a (Hr 5-9a. 14-15a) \n“Này đây Ta đến và ngự giữa ngươi”. \nTrích sách Tiên tri Dacaria. \nTôi đã ngước mắt lên và đã nhìn thấy: Kìa\, có người cầm dây đo trong tay. Tôi đã hỏi rằng: “Ông đi đâu?” Người ấy đáp: “Tôi đi đo Giêrusalem\, coi nó rộng bao nhiêu và dài bao nhiêu”. Và đây vị thiên thần đang nói chuyện với tôi ra đi\, một thiên thần khác đến đón người và nói: “Hãy chạy lại nói với đứa trẻ ấy rằng: Giêrusalem là nơi trú ngụ không có tường thành\, vì trong đó có đông dân cư và súc vật. Chúa phán: “Phần Ta\, Ta sẽ nên tường thành lửa đỏ chung quanh nó\, và Ta sẽ tỏ vinh quang Ta giữa nó”. Chúa lại phán: “Hỡi thiếu nữ Sion\, hãy ca tụng và hân hoan: vì này đây Ta đến ngự giữa ngươi. Trong ngày ấy\, sẽ có nhiều dân tộc quy phục Chúa\, họ sẽ là dân Ta\, và Ta sẽ ngự giữa ngươi”. Đó là lời Chúa. \nĐÁP CA: Gr 31\, 10. 11-12ab. 13 \nĐáp: Chúa sẽ gìn giữ chúng ta như mục tử chăn dắt đoàn chiên mình (c. 10d).  \nXướng: 1) Hỡi các dân tộc\, hãy nghe lời Chúa\, hãy công bố lời Chúa trên các đảo xa xăm; hãy nói rằng: Đấng đã phân tán Israel sẽ quy tụ nó lại\, và sẽ giữ nó như mục tử chăn dắt đoàn chiên mình. – Đáp. \n2) Vì Chúa đã giải phóng Giacóp\, giờ đây với cánh tay mạnh mẽ hơn\, Người cứu thoát nó. Chúng sẽ đến và ca hát trên núi Sion\, chúng sẽ đổ xô về phía hạnh phúc của Người. – Đáp. \n3) Bấy giờ người trinh nữ sẽ hân hoan nhảy mừng\, các thanh niên và các cụ già cũng làm y như thế; Ta sẽ biến đổi tang chế của chúng thành niềm hân hoan\, sẽ an ủi chúng và cho chúng hết đau khổ. – Đáp. \nALLELUIA: Tv 114\, 13cd \nAlleluia\, alleluia! – Chúa trung thành trong mọi lời Chúa phán\, và thánh thiện trong mọi việc Chúa làm. – Alleluia. \nPHÚC ÂM: Lc 9\, 44b-45 (Hl 43b-45) \n“Con Người sẽ phải bị nộp. Các ông không đám hỏi Người về lời ấy”. \nTin Mừng Chúa Giêsu Kitô theo Thánh Luca. \nĐang lúc mọi người thán phục về tất cả các việc Chúa Giêsu làm\, thì Người phán cùng các mộn đệ rằng: “Phần các con\, các con hãy ghi vào lòng những lời này là: Con Người sẽ phải bị nộp vào tay người đời”. Nhưng các ông không hiểu lời đó\, vì nó còn bị che khuất\, nên các ông không lĩnh hội được ý nghĩa\, và các ông không dám hỏi Người về lời ấy. Đó là lời Chúa.
URL:https://dongchuacuuthe.us/calendar/thu-bay-tuan-xxv-thuong-nien-nam-i-2/
END:VEVENT
END:VCALENDAR