BEGIN:VCALENDAR
VERSION:2.0
PRODID:-//Dòng Chúa Cứu Thế Hải Ngoại - ECPv6.15.20//NONSGML v1.0//EN
CALSCALE:GREGORIAN
METHOD:PUBLISH
X-WR-CALNAME:Dòng Chúa Cứu Thế Hải Ngoại
X-ORIGINAL-URL:https://dongchuacuuthe.us
X-WR-CALDESC:Events for Dòng Chúa Cứu Thế Hải Ngoại
REFRESH-INTERVAL;VALUE=DURATION:PT1H
X-Robots-Tag:noindex
X-PUBLISHED-TTL:PT1H
BEGIN:VTIMEZONE
TZID:America/Los_Angeles
BEGIN:DAYLIGHT
TZOFFSETFROM:-0800
TZOFFSETTO:-0700
TZNAME:PDT
DTSTART:20240310T100000
END:DAYLIGHT
BEGIN:STANDARD
TZOFFSETFROM:-0700
TZOFFSETTO:-0800
TZNAME:PST
DTSTART:20241103T090000
END:STANDARD
BEGIN:DAYLIGHT
TZOFFSETFROM:-0800
TZOFFSETTO:-0700
TZNAME:PDT
DTSTART:20250309T100000
END:DAYLIGHT
BEGIN:STANDARD
TZOFFSETFROM:-0700
TZOFFSETTO:-0800
TZNAME:PST
DTSTART:20251102T090000
END:STANDARD
BEGIN:DAYLIGHT
TZOFFSETFROM:-0800
TZOFFSETTO:-0700
TZNAME:PDT
DTSTART:20260308T100000
END:DAYLIGHT
BEGIN:STANDARD
TZOFFSETFROM:-0700
TZOFFSETTO:-0800
TZNAME:PST
DTSTART:20261101T090000
END:STANDARD
END:VTIMEZONE
BEGIN:VEVENT
DTSTART;VALUE=DATE:20250926
DTEND;VALUE=DATE:20250927
DTSTAMP:20260423T181955
CREATED:20250910T021853Z
LAST-MODIFIED:20250910T021853Z
UID:12822-1758844800-1758931199@dongchuacuuthe.us
SUMMARY:Thứ Sáu Tuần XXV Thường Niên Năm I
DESCRIPTION:BÀI ĐỌC I: Kg 2\, 1b-10 (Hr 1\, 15b – 2\, 9) \n“Còn một ít lâu nữa\, Ta sẽ làm cho đền thờ này đầy vinh quang”. \nTrích sách Tiên tri Khác-gai. \nNăm thứ hai triều đại vua Đariô\, đến ngày hai mươi mốt tháng bảy\, có lời Chúa dùng tiên tri Khác-gai mà phán rằng: “Ngươi hãy nói với Giorôbabel\, con trai tướng lãnh Giuđa\, là Saluthiel\, nói với Giosua\, con trai thượng tế Giosêđec\, và với những kẻ sống sót lại trong dân rằng: ‘Ai trong các ngươi là kẻ sống sót lại đã nhìn thấy vinh quang thuở xưa của đền thờ này: và giờ đây các ngươi xem thấy nó thế nào? Chớ thì nó chẳng là không trước mắt các ngươi sao? Và Chúa lại phán: Hỡi Giorôbabel\, giờ đây hãy can đảm. Hỡi Giosua\, con trai thượng tế Giosêđêc\, hãy can đảm; và toàn dân trên lãnh thổ\, hãy can đảm\, đây Chúa các đạo binh phán: Các ngươi hãy khởi công\, vì Ta ở cùng các ngươi\, Chúa các đạo binh phán như vậy. Có lời Ta đã giao ước với các ngươi\, khi các ngươi ra khỏi đất Ai-cập\, là thần linh Ta sẽ ở giữa các ngươi\, nên các ngươi đừng sợ’ “.  \nVì Chúa các đạo binh phán như thế này: “Còn ít lâu nữa\, Ta sẽ khiến trời đất\, biển khơi và đất cạn chuyển động. Ta cũng sẽ khiến mọi dân tộc chuyển động; và Đấng mọi dân tộc trông đợi sẽ đến: Ta sẽ làm cho đền thờ đầy vinh quang\, Chúa các đạo binh phán như vậy. Vàng bạc đều là của Ta\, Chúa các đạo binh phán như vậy. Vinh quang đền thờ sau hết này sẽ cao trọng hơn vinh quang đền thờ trước\, Chúa các đạo binh phán như vậy: trong nơi này\, Ta sẽ ban hoà bình\, Chúa các đạo binh phán như vậy”. Đó là lời Chúa. \nĐÁP CA: Tv 42\, 1. 2. 3. 4 \nĐáp: Hãy cậy trông Đức Chúa Trời\, vì con còn ca tụng Chúa\, Đấng cứu thể diện và là Thiên Chúa của con (c. 5bc). \nXướng: 1) Xin Chúa minh xét cho con\, ôi Thiên Chúa\, xin bênh vực quyền lợi con đối nghịch với dân vô đạo\, xin cứu con khỏi tay người độc ác\, điêu gian! – Đáp. \n2) Vì lạy Chúa\, Chúa là sức mạnh con\, cớ chi Chúa bỏ con? Cớ chi con phải sống ngậm ngùi vì bị quân thù áp bức? – Đáp. \n3) Xin chiếu giãi quang minh và chân thật của Chúa\, để những điều đó hướng dẫn con\, đưa con lên núi thánh và cung lâu của Ngài. – Đáp. \n4) Con sẽ tiến tới bàn thờ Thiên Chúa\, đến cùng Thiên Chúa làm cho con được hoan hỉ mừng vui. Với cây cầm thụ con sẽ ca ngợi Chúa\, ôi Thiên Chúa\, Thiên Chúa của con. – Đáp. \nALLELUIA: Tv 94\, 8ab \nAlleluia\, alleluia! – Ước chi hôm nay các bạn nghe tiếng Chúa\, và đừng cứng lòng. – Alleluia. \nPHÚC ÂM: Lc 9\, 18-22 \n” Thầy là Đấng Kitô của Thiên Chúa. Con Người phải chịu nhiều đau khổ”. \nTin Mừng Chúa Giêsu Kitô theo Thánh Luca. \nViệc xảy ra là khi Chúa Giêsu cầu nguyện riêng một nơi\, và có các môn đệ ở với Người\, thì Người hỏi các ông rằng: “Những đám dân chúng bảo Thầy là ai?” Các ông thưa rằng: “Người thì bảo là Gioan Tẩy giả\, kẻ khác lại cho là Êlia\, còn người khác thì cho là một trong các tiên tri thời xưa\, đã sống lại”. Người lại hỏi các ông rằng: “Phần các con\, các con bảo Thầy là ai?” Simon Phêrô thưa rằng: “Thầy là Đấng Kitô của Thiên Chúa”. Và Người ngăn cấm các ông không được nói điều đó với ai mà rằng: “Con Người phải chịu nhiều đau khổ\, bị các kỳ lão\, các thượng tế\, và các luật sĩ từ bỏ và giết chết\, nhưng ngày thứ ba sẽ sống lại”. Đó là lời Chúa.
URL:https://dongchuacuuthe.us/calendar/thu-sau-tuan-xxv-thuong-nien-nam-i/
END:VEVENT
END:VCALENDAR