BEGIN:VCALENDAR
VERSION:2.0
PRODID:-//Dòng Chúa Cứu Thế Hải Ngoại - ECPv6.15.20//NONSGML v1.0//EN
CALSCALE:GREGORIAN
METHOD:PUBLISH
X-ORIGINAL-URL:https://dongchuacuuthe.us
X-WR-CALDESC:Events for Dòng Chúa Cứu Thế Hải Ngoại
REFRESH-INTERVAL;VALUE=DURATION:PT1H
X-Robots-Tag:noindex
X-PUBLISHED-TTL:PT1H
BEGIN:VTIMEZONE
TZID:America/Los_Angeles
BEGIN:DAYLIGHT
TZOFFSETFROM:-0800
TZOFFSETTO:-0700
TZNAME:PDT
DTSTART:20240310T100000
END:DAYLIGHT
BEGIN:STANDARD
TZOFFSETFROM:-0700
TZOFFSETTO:-0800
TZNAME:PST
DTSTART:20241103T090000
END:STANDARD
BEGIN:DAYLIGHT
TZOFFSETFROM:-0800
TZOFFSETTO:-0700
TZNAME:PDT
DTSTART:20250309T100000
END:DAYLIGHT
BEGIN:STANDARD
TZOFFSETFROM:-0700
TZOFFSETTO:-0800
TZNAME:PST
DTSTART:20251102T090000
END:STANDARD
BEGIN:DAYLIGHT
TZOFFSETFROM:-0800
TZOFFSETTO:-0700
TZNAME:PDT
DTSTART:20260308T100000
END:DAYLIGHT
BEGIN:STANDARD
TZOFFSETFROM:-0700
TZOFFSETTO:-0800
TZNAME:PST
DTSTART:20261101T090000
END:STANDARD
END:VTIMEZONE
BEGIN:VEVENT
DTSTART;VALUE=DATE:20250925
DTEND;VALUE=DATE:20250926
DTSTAMP:20260423T182050
CREATED:20250910T021821Z
LAST-MODIFIED:20250910T021821Z
UID:12820-1758758400-1758844799@dongchuacuuthe.us
SUMMARY:Thứ Năm Tuần XXV Thường Niên Năm I
DESCRIPTION:BÀI ĐỌC I: Kg 1\, 1-8 \n“Các ngươi hãy xây cất đền thờ và như thế sẽ đẹp lòng Ta”.  \nKhởi đầu sách Tiên tri Khác-gai. \nNgày mồng một tháng sáu năm thứ hai triều đại vua Đariô\, có lời Chúa sai tiên tri Khác-gai đến nói với Giorôbabel\, con trai ông Giosêđec\, thầy cả thượng phẩm những lời sau đây: “Đây Chúa các đạo binh phán: Dân này nói: ‘Chưa đến lúc xây cất đền thờ Chúa’. Và có lời Chúa dùng tiên tri Khác-gai phán rằng: ‘Chớ thì đến lúc các ngươi cư ngụ trong nhà ấm cúng\, và để đền thờ này hoang vu sao?’ Giờ đây Chúa các đạo binh phán như thế này: “Các ngươi hãy lưu tâm đến đường lối các ngươi. Các ngươi đã gieo nhiều mà thu vào ít: các ngươi đã ăn không no\, đã uống không say\, đã mặc không ấm\, kẻ nhận tiền công lại bỏ vào túi lủng”. Chúa các đạo binh phán như thế này: “Các ngươi hãy lưu tâm đến đường lối các ngươi: Hãy lên núi mang gỗ về xây cất đền thờ\, như thế sẽ đẹp lòng Ta và Ta sẽ được tôn vinh”. Chúa phán như vậy. Đó là lời Chúa. \nĐÁP CA: Tv 149\, 1-2. 3-4. 5-6a và 9b \nĐáp: Chúa yêu thương dân Người (c. 4a). \nXướng: 1) Hãy ca mừng Chúa một bài ca mới\, hãy vang lên lời khen ngợi trong công hội các tín đồ. Israel hãy mừng vui vì Đấng tạo tác bản thân\, con cái Sion hãy hân hoan vì vua của họ. – Đáp.  \n2) Họ hãy hoà nhạc để ngợi khen Người\, hãy hát mừng Người với cây đàn cầm\, với trống con\, bởi vì Chúa yêu thương dân Người\, và ban cho kẻ khiêm nhường chiến thắng vẻ vang. – Đáp. \n3) Các tín đồ hãy mừng rỡ trong vinh quang\, hãy hoan hỉ trong những nơi khu phố. Miệng họ hãy reo lên lời hoan hô Thiên Chúa. Đó là vinh quang cho mọi tín đồ của Chúa. – Đáp. \nALLELUIA: Tv 24\, 4c và 5a \nAlleluia\, alleluia! – Lạy Chúa\, xin dạy bảo con về lối bước của Chúa và xin hướng dẫn con trong chân lý của Ngài. – Alleluia. \nPHÚC ÂM: Lc 9\, 7-9 \n“Ông Gioan đã bị trẫm chém đầu rồi\, ông này là ai mà trẫm nghe đồn làm những điều như thế”. \nTin Mừng Chúa Giêsu Kitô theo Thánh Luca. \nKhi ấy\, quận vương Hêrôđê nghe biết tất cả các việc Chúa Giêsu đã làm thì phân vân\, vì có kẻ nói rằng: “Ông Gioan đã từ cõi chết sống lại”; còn kẻ khác lại nói: “Ông Êlia đã hiện ra”; kẻ khác nữa nói rằng: “Một tiên tri thời xưa đã sống lại”. Nhưng Hêrôđê thì nói: “Ông Gioan trẫm đã chém đầu rồi. Ông này là ai mà trẫm nghe đồn làm những điều như thế?” và vua tìm cách gặp Người. Đó là lời Chúa.
URL:https://dongchuacuuthe.us/calendar/thu-nam-tuan-xxv-thuong-nien-nam-i-2/
END:VEVENT
END:VCALENDAR