BEGIN:VCALENDAR
VERSION:2.0
PRODID:-//Dòng Chúa Cứu Thế Hải Ngoại - ECPv6.15.20//NONSGML v1.0//EN
CALSCALE:GREGORIAN
METHOD:PUBLISH
X-ORIGINAL-URL:https://dongchuacuuthe.us
X-WR-CALDESC:Events for Dòng Chúa Cứu Thế Hải Ngoại
REFRESH-INTERVAL;VALUE=DURATION:PT1H
X-Robots-Tag:noindex
X-PUBLISHED-TTL:PT1H
BEGIN:VTIMEZONE
TZID:America/Los_Angeles
BEGIN:DAYLIGHT
TZOFFSETFROM:-0800
TZOFFSETTO:-0700
TZNAME:PDT
DTSTART:20240310T100000
END:DAYLIGHT
BEGIN:STANDARD
TZOFFSETFROM:-0700
TZOFFSETTO:-0800
TZNAME:PST
DTSTART:20241103T090000
END:STANDARD
BEGIN:DAYLIGHT
TZOFFSETFROM:-0800
TZOFFSETTO:-0700
TZNAME:PDT
DTSTART:20250309T100000
END:DAYLIGHT
BEGIN:STANDARD
TZOFFSETFROM:-0700
TZOFFSETTO:-0800
TZNAME:PST
DTSTART:20251102T090000
END:STANDARD
BEGIN:DAYLIGHT
TZOFFSETFROM:-0800
TZOFFSETTO:-0700
TZNAME:PDT
DTSTART:20260308T100000
END:DAYLIGHT
BEGIN:STANDARD
TZOFFSETFROM:-0700
TZOFFSETTO:-0800
TZNAME:PST
DTSTART:20261101T090000
END:STANDARD
END:VTIMEZONE
BEGIN:VEVENT
DTSTART;VALUE=DATE:20250923
DTEND;VALUE=DATE:20250924
DTSTAMP:20260423T182050
CREATED:20250910T021725Z
LAST-MODIFIED:20250910T021725Z
UID:12816-1758585600-1758671999@dongchuacuuthe.us
SUMMARY:Thứ Ba Tuần XXV Thường Niên Năm I
DESCRIPTION:BÀI ĐỌC I: Esd 6\, 7-8. 12b. 14-20 \n“Họ hoàn tất việc xây cất nhà Chúa và mừng lễ Vượt Qua”. \nBài tích sách Esdra. \nTrong những ngày ấy\, (Vua Đariô viết thư cho các vị tư lệnh vùng ở bên kia sông Euphrate mà nói rằng:) “Hãy để cho vị thủ lãnh người Do-thái và các kỳ lão của họ xây cất đền thờ của Thiên Chúa\, để đền thờ của Thiên Chúa được xây cất chính nơi cũ. Ta cũng ra lệnh về việc các ngươi phải làm với các bậc Kỳ cựu Do-thái\, để tái thiết nhà Thiên Chúa: là phải lấy của trong kho nhà vua\, nghĩa là tiền nộp thuế của miền bên kia sông Euphrate\, và cẩn thận phân phát cho những người ấy\, để công việc không bị trì hoãn. Ta là Đariô ra sắc chỉ này\, ta muốn mọi người ân cần tuân giữ”. \nCác kỳ lão người Do-thái xây cất đền thờ và công việc tiến hành nhanh chóng\, nhờ lời sấm của tiên tri Khác-gai và tiên tri Dacaria\, con ông Ađđô: họ xây cất và hoàn thành theo lệnh Chúa Israel truyền dạy\, và theo lệnh các vua nước Ba-tư là Kyrô\, Đariô và Artaxerxê. Họ hoàn tất việc xây cất nhà Thiên Chúa ngày mồng ba tháng Ađar\, năm thứ sáu triều vua Đariô. Vậy con cháu Israel\, các tư tế\, các thầy Lêvi\, và những người lưu đày còn sống sót\, đều vui mừng hiến thánh nhà Thiên Chúa. Trong lễ cung hiến nhà Thiên Chúa\, họ dâng một trăm con bò\, hai trăm con cừu\, bốn trăm con chiên\, và để làm lễ đền tội cho cả dân Israel\, họ cũng dâng mười hai con dê theo số các chi tộc Israel. Rồi họ cắt đặt các thầy tư tế theo phẩm trật và các thầy Lêvi theo cấp bậc\, để giúp việc đền thờ Thiên Chúa ở Giêrusalem\, như đã chép trong sách của Môsê.  \nNhững con cái Israel lưu đày về mừng lễ Vượt Qua ngày mười bốn tháng thứ nhất. Các thầy tư tế và Lêvi\, tất cả như một\, đều được thanh tẩy\, tất cả đều trong sạch\, để sát tế mừng lễ Vượt Qua cho toàn thể dân lưu đày và cho anh em tư tế của họ và chính mình họ. Đó là lời Chúa. \nĐÁP CA: Tv 121\, 1-2. 3-4a. 4b-5 \nĐáp: Tôi vui mừng khi người ta nói với tôi: “Chúng ta sẽ tiến vào nhà Chúa” (c. 1). \nXướng: 1) Tôi vui mừng khi người ta nói với tôi: “Chúng ta sẽ tiến vào nhà Chúa”. Hỡi Giêrusalem\, chân chúng tôi đang đứng nơi cửa thành rồi. – Đáp.  \n2) Giêrusalem được kiến thiết như thành trì\, được cấu tạo kiên cố trong toàn thể. Nơi đây các bộ lạc của Chúa tiến lên. – Đáp. \n3) Theo luật pháp của Israel\, để ngợi khen danh Chúa. Tại đây đã đặt ngai toà thẩm phán\, ngai toà của nhà Đavit. – Đáp.  \nALLELUIA: Tv 118\, 18 \nAlleluia\, alleluia! – Lạy Chúa\, xin giáo huấn con\, để con tuân cứ luật pháp của Chúa và để con hết lòng vâng theo luật đó. – Alleluia. \nPHÚC ÂM: Lc 8\, 19-21 \n“Mẹ và anh em Ta là những người nghe lời Thiên Chúa và đem ra thực hành”. \nTin Mừng Chúa Giêsu Kitô theo Thánh Luca. \nKhi ấy\, mẹ và anh em Chúa Giêsu đến tìm Người\, nhưng vì đám đông\, nên không thể đến gần Người được. Người ta báo tin cho Người rằng: “Có mẹ và anh em Thầy đứng ở ngoài muốn gặp Thầy”. Người trả lời với họ rằng: “Mẹ và anh em Ta là những người nghe lời Thiên Chúa và đem ra thực hành”. Đó là lời Chúa.
URL:https://dongchuacuuthe.us/calendar/thu-ba-tuan-xxv-thuong-nien-nam-i-2/
END:VEVENT
END:VCALENDAR