BEGIN:VCALENDAR
VERSION:2.0
PRODID:-//Dòng Chúa Cứu Thế Hải Ngoại - ECPv6.15.20//NONSGML v1.0//EN
CALSCALE:GREGORIAN
METHOD:PUBLISH
X-ORIGINAL-URL:https://dongchuacuuthe.us
X-WR-CALDESC:Events for Dòng Chúa Cứu Thế Hải Ngoại
REFRESH-INTERVAL;VALUE=DURATION:PT1H
X-Robots-Tag:noindex
X-PUBLISHED-TTL:PT1H
BEGIN:VTIMEZONE
TZID:America/Los_Angeles
BEGIN:DAYLIGHT
TZOFFSETFROM:-0800
TZOFFSETTO:-0700
TZNAME:PDT
DTSTART:20240310T100000
END:DAYLIGHT
BEGIN:STANDARD
TZOFFSETFROM:-0700
TZOFFSETTO:-0800
TZNAME:PST
DTSTART:20241103T090000
END:STANDARD
BEGIN:DAYLIGHT
TZOFFSETFROM:-0800
TZOFFSETTO:-0700
TZNAME:PDT
DTSTART:20250309T100000
END:DAYLIGHT
BEGIN:STANDARD
TZOFFSETFROM:-0700
TZOFFSETTO:-0800
TZNAME:PST
DTSTART:20251102T090000
END:STANDARD
BEGIN:DAYLIGHT
TZOFFSETFROM:-0800
TZOFFSETTO:-0700
TZNAME:PDT
DTSTART:20260308T100000
END:DAYLIGHT
BEGIN:STANDARD
TZOFFSETFROM:-0700
TZOFFSETTO:-0800
TZNAME:PST
DTSTART:20261101T090000
END:STANDARD
END:VTIMEZONE
BEGIN:VEVENT
DTSTART;VALUE=DATE:20250920
DTEND;VALUE=DATE:20250921
DTSTAMP:20260423T182051
CREATED:20250909T185900Z
LAST-MODIFIED:20250909T185900Z
UID:12812-1758326400-1758412799@dongchuacuuthe.us
SUMMARY:Thứ Bảy Tuần XXIV Thường Niên Năm I
DESCRIPTION:BÀI ĐỌC I: 1 Tm 6\, 13-16 \n“Con hãy gìn giữ huấn lệnh cho tinh tuyền\, cho tới ngày Chúa lại đến”. \nTrích thư thứ nhất của Thánh Phaolô Tông đồ gửi Timôthêu. \nCon thân mến\, cha chỉ thị cho con trước mặt Thiên Chúa\, Đấng làm cho muôn vật được sống\, và trước mặt Đức Giêsu Kitô\, Đấng đã làm trước mặt Phongxiô Philatô lời tuyên xưng thẳng thắn\, con hãy giữ gìn huấn lệnh đó cho tinh tuyền và không thể trách được cho tới ngày Chúa chúng ta là Đức Giêsu Kitô lại đến\, mà tới thời đã định\, Đấng phúc lộc và quyền năng duy nhất sẽ tỏ ra Người là Thiên Chúa\, Vua các vua và Chúa các chúa\, Đấng độc nhất trường sinh bất tử\, Người ngự trong ánh sáng siêu phàm\, không một ai trong loài người đã xem thấy\, hay có thể xem thấy: Vinh dự và quyền năng (xin kính dâng) cho Người muôn đời. Amen! Đó là lời Chúa. \nĐÁP CA: Tv 99\, 2. 3. 4. 5 \nĐáp: Hãy vào trước thiên nhan với lòng hân hoan khoái trá (c. 2c). \nXướng: 1) Toàn thể địa cầu\, hãy reo mừng Thiên Chúa\, hãy phụng sự Thiên Chúa với niềm vui vẻ! Hãy vào trước thiên nhan với lòng hân hoan khoái trá. – Đáp. \n2) Hãy biết rằng Chúa là Thiên Chúa; chính Người đã tạo tác thân ta\, và ta thuộc quyền sở hữu của Người; ta là dân tộc\, là đoàn chiên Chúa chăn nuôi. – Đáp. \n3) Hãy vào trụ quan nhà Người với lời khen ngợi\, vào hành lang với khúc ca vui; hãy tán dương\, hãy chúc tụng danh Người. – Đáp. \n4) Vì Thiên Chúa\, Người thiện hảo\, lòng từ bi Người tồn tại muôn đời\, và lòng trung tín Người còn tới muôn muôn thế hệ. – Đáp. \nALLELUIA: Tv 118\, 34 \nAlleluia\, alleluia! – Lạy Chúa\, xin giáo huấn con\, để con tuân cứ luật pháp của Chúa\, và để con hết lòng vâng theo luật đó. – Alleluia. \nPHÚC ÂM: Lc 8\, 4-15 \n“Hạt rơi trong đất tốt\, là những người giữ lấy lời và nhờ kiên nhẫn\, họ sinh được hoa trái”. \nTin Mừng Chúa Giêsu Kitô theo Thánh Luca. \nKhi ấy\, có đông dân chúng tụ họp lại\, và người ta từ các thị trấn đến cùng Chúa Giêsu. Người dùng dụ ngôn mà nói rằng: “Người gieo hạt giống ra đi gieo hạt giống mình. Và đang khi gieo\, có hạt rơi xuống bên vệ đường\, bị người ta chà đạp và chim trời đến ăn đi. Hạt khác rơi trên đá sỏi\, vừa mọc lên liền héo đi\, vì không có đất ẩm. Hạt khác rơi vào bụi gai\, và gai góc cùng mọc lên\, bóp nghẹt nó. Hạt khác rơi vào đất tốt\, đã mọc lên và kết quả gấp trăm”.  \nKhi nói những lời đó\, Người kêu lên rằng: “Ai có tai để nghe thì hãy nghe!”. Bấy giờ các môn đệ hỏi Người dụ ngôn đó ý nghĩa thế nào. Người nói rằng: “Phần các con\, thì cho các con biết những mầu nhiệm Nước Thiên Chúa; đối với người khác\, thì dùng dụ ngôn\, để chúng xem mà không thấy\, nghe mà không hiểu. Dụ ngôn đó có nghĩa thế này: Hạt giống là lời Thiên Chúa. Những hạt rơi bên vệ đường\, tức là những người đã nghe\, nhưng rồi quỷ tới và cướp lời khỏi lòng họ\, kẻo họ tin mà được cứu độ. Những hạt rơi trên đá sỏi là những người\, khi nghe thì vui vẻ đón nhận lời Chúa\, nhưng họ không đâm rễ\, họ chỉ tin tưởng nhất thời\, và khi đến giờ thử thách\, thì tháo lui. Hạt rơi vào bụi gai\, là những người đã nghe\, nhưng khi đi đường\, những mối lo nghĩ\, sự giàu có và thú vui của đời sống bóp nghẹt và họ không sinh hoa kết quả. Còn như hạt rơi trong đất tốt\, là những người nghe lời với tấm lòng tốt lành và thiện hảo\, họ giữ lấy và nhờ kiên nhẫn\, họ sinh được hoa trái”. Đó là lời Chúa.
URL:https://dongchuacuuthe.us/calendar/thu-bay-tuan-xxiv-thuong-nien-nam-i-2/
END:VEVENT
END:VCALENDAR