BEGIN:VCALENDAR
VERSION:2.0
PRODID:-//Dòng Chúa Cứu Thế Hải Ngoại - ECPv6.15.20//NONSGML v1.0//EN
CALSCALE:GREGORIAN
METHOD:PUBLISH
X-WR-CALNAME:Dòng Chúa Cứu Thế Hải Ngoại
X-ORIGINAL-URL:https://dongchuacuuthe.us
X-WR-CALDESC:Events for Dòng Chúa Cứu Thế Hải Ngoại
REFRESH-INTERVAL;VALUE=DURATION:PT1H
X-Robots-Tag:noindex
X-PUBLISHED-TTL:PT1H
BEGIN:VTIMEZONE
TZID:America/Los_Angeles
BEGIN:DAYLIGHT
TZOFFSETFROM:-0800
TZOFFSETTO:-0700
TZNAME:PDT
DTSTART:20240310T100000
END:DAYLIGHT
BEGIN:STANDARD
TZOFFSETFROM:-0700
TZOFFSETTO:-0800
TZNAME:PST
DTSTART:20241103T090000
END:STANDARD
BEGIN:DAYLIGHT
TZOFFSETFROM:-0800
TZOFFSETTO:-0700
TZNAME:PDT
DTSTART:20250309T100000
END:DAYLIGHT
BEGIN:STANDARD
TZOFFSETFROM:-0700
TZOFFSETTO:-0800
TZNAME:PST
DTSTART:20251102T090000
END:STANDARD
BEGIN:DAYLIGHT
TZOFFSETFROM:-0800
TZOFFSETTO:-0700
TZNAME:PDT
DTSTART:20260308T100000
END:DAYLIGHT
BEGIN:STANDARD
TZOFFSETFROM:-0700
TZOFFSETTO:-0800
TZNAME:PST
DTSTART:20261101T090000
END:STANDARD
END:VTIMEZONE
BEGIN:VEVENT
DTSTART;VALUE=DATE:20250919
DTEND;VALUE=DATE:20250920
DTSTAMP:20260423T181956
CREATED:20250909T185832Z
LAST-MODIFIED:20250909T185832Z
UID:12810-1758240000-1758326399@dongchuacuuthe.us
SUMMARY:Thứ Sáu Tuần XXIV Thường Niên Năm I
DESCRIPTION:BÀI ĐỌC I: 1 Tm 6\, 2c-12 \n“Phần con\, hỡi con người của Thiên Chúa\, hãy theo đuổi đức công chính”. \nTrích thư thứ nhất của Thánh Phaolô Tông đồ gửi Timôthêu. \nCon thân mến\, con hãy giảng dạy và khuyên nhủ những điều này. Nếu ai giảng dạy điều chi khác lạ và không thành tín nắm giữ những lời giáo huấn lành mạnh của Chúa chúng ta\, là Đức Giêsu\, và giáo lý phù hợp với đạo đức\, thì người đó là kẻ mù quáng vì kiêu ngạo\, không hiểu biết gì\, nhưng mải mê về những chuyện bàn cãi và tranh chấp danh từ. Do đó phát sinh ra sự ghen tương\, tranh chấp\, lăng nhục\, nghi ngờ với ác tâm\, và những cuộc cãi cọ dai dẳng của những người hư hỏng tinh thần và thiếu thốn chân lý. Họ coi đạo đức là một nguồn lợi. Thực ra đạo đức là nguồn lợi lớn cho những ai biết bằng lòng với số phận mình. Bởi vì chúng ta đã không mang gì vào thế gian này\, và chắc chắn chúng ta cũng không thể lấy ra được gì. Khi có cơm ăn và áo mặc\, chúng ta hãy lấy thế làm bằng lòng. Còn như những kẻ muốn làm giàu\, họ sa vào cơn cám dỗ\, vào cậm bẫy và nhiều dục vọng điên rồ tác hại. Những cái đó làm con người ta chìm đắm vào chỗ điêu tàn và hư hỏng. Bởi chưng gốc rễ mọi sự dữ là lòng tham tiền bạc. Một số người vì đeo đuổi lòng tham này đã lạc mất đức tin và tự chuốc vào thân nhiều nỗi khổ đau.  \nPhần con\, hỡi người của Thiên Chúa\, hãy trốn xa những chuyện đó. Hãy theo đuổi đức công chính\, lòng đạo hạnh\, đức tin\, đức ái\, đức nhẫn nại\, đức hiền lành. Con hãy chiến đấu trong cuộc chiến đấu chính nghĩa của đức tin. Hãy cố đoạt lấy sự sống đời đời mà con đã được kêu gọi tới\, và cũng vì đó\, con đã mạnh dạn tuyên xưng đức tin trước mặt nhiều nhân chứng. Đó là lời Chúa. \nĐÁP CA: Tv 48\, 6-7. 8-10. 17-18. 19-20 \nĐáp: Phúc cho những ai có tinh thần nghèo khó\, vì Nước Trời là của họ (Mt 5\, 3). \nXướng: 1) Tại sao tôi phải kinh hãi trong ngày tai hoạ\, khi ác tâm quân thù mưu hại bao bọc quanh tôi? Bọn người này tin cậy vào tài sản\, chúng tự hào vì có bạc vạn tiền muôn. – Đáp. \n2) Nhưng thực ra không ai tự cứu được bản thân\, cũng không ai dâng được lên Chúa giá tiền thục mạng. Giá thục mạng quá đắt\, không bao giờ có đủ\, hầu mong sống mãi đời đời\, không phải nhìn coi sự chết. – Đáp. \n3) Đừng e ngại khi thấy ai giàu có\, khi thấy tài sản nhà họ gia tăng: bởi lúc lâm chung\, họ chẳng mang theo gì hết\, và tài sản cũng không cùng họ chui xuống nấm mồ. – Đáp. \n4) Dầu khi còn sống họ ca tụng mình rằng: “Thiên hạ sẽ khen ngươi\, vì ngươi biết khôn ngoan tự liệu”\, họ sẽ tìm đến nơi đoàn tụ của tổ tiên\, những người muôn thuở không được nhìn xem sự sáng. – Đáp. \nALLELUIA: Tv 118\, 36a và 29b \nAlleluia\, alleluia! – Lạy Chúa\, xin nghiêng lòng con theo lời Chúa răn bảo\, và xin rộng tay ban luật pháp của Chúa cho con. – Alleluia. \nPHÚC ÂM: Lc 8\, 1-3 \n“Có mấy phụ nữ đi với Người và họ đã lấy của cải mình mà giúp Người”. \nTin Mừng Chúa Giêsu Kitô theo Thánh Luca. \nKhi ấy\, Chúa rảo qua các thành thị và xóm làng\, giảng dạy và loan báo Tin Mừng nước Thiên Chúa. Có nhóm Mười Hai cùng đi với Người\, cũng có cả mấy người phụ nữ đã được chữa khỏi tà thần và bệnh tật: là bà Maria cũng gọi là Mađalêna\, người đã được trừ khỏi bảy quỷ ám\, bà Gioanna vợ của Chusa\, viên quản lý của Hêrôđê\, bà Susanna và nhiều bà khác; những bà này đã lấy của cải mình mà giúp Người. Đó là lời Chúa.
URL:https://dongchuacuuthe.us/calendar/thu-sau-tuan-xxiv-thuong-nien-nam-i-2/
END:VEVENT
END:VCALENDAR