BEGIN:VCALENDAR
VERSION:2.0
PRODID:-//Dòng Chúa Cứu Thế Hải Ngoại - ECPv6.15.20//NONSGML v1.0//EN
CALSCALE:GREGORIAN
METHOD:PUBLISH
X-WR-CALNAME:Dòng Chúa Cứu Thế Hải Ngoại
X-ORIGINAL-URL:https://dongchuacuuthe.us
X-WR-CALDESC:Events for Dòng Chúa Cứu Thế Hải Ngoại
REFRESH-INTERVAL;VALUE=DURATION:PT1H
X-Robots-Tag:noindex
X-PUBLISHED-TTL:PT1H
BEGIN:VTIMEZONE
TZID:America/Los_Angeles
BEGIN:DAYLIGHT
TZOFFSETFROM:-0800
TZOFFSETTO:-0700
TZNAME:PDT
DTSTART:20240310T100000
END:DAYLIGHT
BEGIN:STANDARD
TZOFFSETFROM:-0700
TZOFFSETTO:-0800
TZNAME:PST
DTSTART:20241103T090000
END:STANDARD
BEGIN:DAYLIGHT
TZOFFSETFROM:-0800
TZOFFSETTO:-0700
TZNAME:PDT
DTSTART:20250309T100000
END:DAYLIGHT
BEGIN:STANDARD
TZOFFSETFROM:-0700
TZOFFSETTO:-0800
TZNAME:PST
DTSTART:20251102T090000
END:STANDARD
BEGIN:DAYLIGHT
TZOFFSETFROM:-0800
TZOFFSETTO:-0700
TZNAME:PDT
DTSTART:20260308T100000
END:DAYLIGHT
BEGIN:STANDARD
TZOFFSETFROM:-0700
TZOFFSETTO:-0800
TZNAME:PST
DTSTART:20261101T090000
END:STANDARD
END:VTIMEZONE
BEGIN:VEVENT
DTSTART;VALUE=DATE:20250918
DTEND;VALUE=DATE:20250919
DTSTAMP:20260423T181955
CREATED:20250909T185803Z
LAST-MODIFIED:20250909T185803Z
UID:12808-1758153600-1758239999@dongchuacuuthe.us
SUMMARY:Thứ Năm Tuần XXIV Thường Niên Năm I
DESCRIPTION:BÀI ĐỌC I: 1 Tm 4\, 12-16 \n“Con hãy thận trọng giữ mình và giữ lấy giáo lý: như thế con sẽ cứu lấy chính mình con và những kẻ nghe lời con”. \nTrích thư thứ nhất của Thánh Phaolô Tông đồ gửi Timôthêu. \nCon thân mến\, chớ có ai khinh dể con vì con còn trẻ: nhưng con hãy nêu gương sáng cho các tín hữu\, trong lời nói\, cách ăn nết ở\, trong đức bác ái\, đức tin và đức thanh khiết. Cho tới khi cha đến\, con hãy chăm chú đọc sách\, khuyên bảo và dạy giáo lý. Con chớ quên lãng ân sủng trong con\, là ơn đã ban cho con bởi lời tiên tri cùng với việc đặt tay của bậc Lão thành. Con hãy suy ngắm những sự đó\, hãy để tâm đến các việc ấy\, để mọi người đều thấy rõ con đã tiến tới. Con hãy thận trọng giữ mình và giữ lấy giáo lý: hãy kiên trì trong những việc ấy. Vì khi con làm như vậy\, con sẽ cứu lấy chính mình con và những kẻ nghe lời con. Đó là lời Chúa.  \nĐÁP CA: Tv 110\, 7-8. 9. 10 \nĐáp: Vĩ đại thay công cuộc của Chúa (c. 2a). \nXướng: 1) Công cuộc tay Chúa làm ra đều chân thật và công chính\, mọi giới răn của người đều đáng cậy tin. Những giới răn đó được lập ra cho đến muôn ngàn đời\, được ban hành một cách chân thành và đoan chính. – Đáp. \n2) Chúa đã gởi tặng ơn giải phóng cho dân Người\, đã thiết lập lời minh ước tới muôn đời\, danh Người thực là thánh thiện và khả úy! – Đáp. \n3) Đầu sự khôn ngoan là tôn sợ Chúa\, bao nhiêu người thờ Chúa đều hành động cách khôn ngoan. Lời khen ngợi Chúa còn tồn tại tới muôn đời. – Đáp. \nALLELUIA: Tv 118\, 135 \nAlleluia\, alleluia! – Xin tỏ cho tôi tớ Chúa thấy long nhan hiền hậu\, và dạy bảo con những thánh chỉ của Chúa. – Alleluia. \nPHÚC ÂM: Lc 7\, 36-50 \n“Tội bà rất nhiều mà đã được tha rồi\, vì bà đã yêu mến nhiều”. \nTin Mừng Chúa Giêsu Kitô theo Thánh Luca. \nKhi ấy\, có một người biệt phái kia mời Chúa Giêsu đến dùng bữa với mình; Người vào nhà người biệt phái và vào bàn ăn. Chợt có một người đàn bà tội lỗi trong thành\, nghe biết Người đang dùng bữa trong nhà người biệt phái\, liền mang đến một bình bạch ngọc đựng thuốc thơm. Bấy giờ bà đứng phía chân Người\, khóc nức nở\, nước mắt ướt đẫm chân Người\, bà lấy tóc lau\, rồi hôn chân và xức thuốc thơm. Thấy thế\, người biệt phái đã mời Người\, tự nghĩ rằng: “Nếu ông này là tiên tri thì phải biết người đàn bà đang động đến mình là ai\, và thuộc hạng người nào chứ: là một đứa tội lỗi (mà)!” Nhưng Chúa Giêsu lên tiếng bảo ông rằng: “Hỡi Simon\, Tôi có điều muốn nói với ông”. Simon thưa: “Xin Thầy cứ nói”.  \n“Một người chủ nợ có hai con nợ\, một người nợ năm trăm đồng\, người kia nợ năm mươi. Vì cả hai không có gì trả\, nên chủ nợ tha cho cả hai. Vậy trong hai người đó\, người nào sẽ yêu chủ nợ nhiều hơn?” Simon đáp: “Tôi nghĩ là kẻ đã được tha nhiều hơn”. Chúa Giêsu bảo ông: “Ông đã xét đoán đúng”.  \nVà quay lại phía người đàn bà\, Người bảo Simon: “Ông thấy người đàn bà này chứ? Tôi đã vào nhà ông\, ông đã không đổ nước rửa chân Tôi\, còn bà này đã lấy nước mắt rửa chân Tôi\, rồi lấy tóc mình mà lau. Ông đã không hôn chào Tôi\, còn bà này từ lúc vào không ngớt hôn chân Tôi. Ông đã không xức dầu trên đầu Tôi\, còn bà này đã lấy thuốc thơm xức chân Tôi. Vì vậy\, Tôi bảo ông\, tội bà rất nhiều mà đã được tha rồi\, vì bà đã yêu mến nhiều. Kẻ được tha ít\, thì yêu mến ít”.  \nRồi Người bảo người đàn bà: “Tội con đã được tha rồi”. Những người đồng bàn liền nghĩ trong lòng rằng: “Ông này là ai mà lại tha tội được?” Và Người nói với người đàn bà: “Đức tin con đã cứu con\, con hãy về bình an”. Đó là lời Chúa.
URL:https://dongchuacuuthe.us/calendar/thu-nam-tuan-xxiv-thuong-nien-nam-i/
END:VEVENT
END:VCALENDAR