BEGIN:VCALENDAR
VERSION:2.0
PRODID:-//Dòng Chúa Cứu Thế Hải Ngoại - ECPv6.15.20//NONSGML v1.0//EN
CALSCALE:GREGORIAN
METHOD:PUBLISH
X-ORIGINAL-URL:https://dongchuacuuthe.us
X-WR-CALDESC:Events for Dòng Chúa Cứu Thế Hải Ngoại
REFRESH-INTERVAL;VALUE=DURATION:PT1H
X-Robots-Tag:noindex
X-PUBLISHED-TTL:PT1H
BEGIN:VTIMEZONE
TZID:America/Los_Angeles
BEGIN:DAYLIGHT
TZOFFSETFROM:-0800
TZOFFSETTO:-0700
TZNAME:PDT
DTSTART:20240310T100000
END:DAYLIGHT
BEGIN:STANDARD
TZOFFSETFROM:-0700
TZOFFSETTO:-0800
TZNAME:PST
DTSTART:20241103T090000
END:STANDARD
BEGIN:DAYLIGHT
TZOFFSETFROM:-0800
TZOFFSETTO:-0700
TZNAME:PDT
DTSTART:20250309T100000
END:DAYLIGHT
BEGIN:STANDARD
TZOFFSETFROM:-0700
TZOFFSETTO:-0800
TZNAME:PST
DTSTART:20251102T090000
END:STANDARD
BEGIN:DAYLIGHT
TZOFFSETFROM:-0800
TZOFFSETTO:-0700
TZNAME:PDT
DTSTART:20260308T100000
END:DAYLIGHT
BEGIN:STANDARD
TZOFFSETFROM:-0700
TZOFFSETTO:-0800
TZNAME:PST
DTSTART:20261101T090000
END:STANDARD
END:VTIMEZONE
BEGIN:VEVENT
DTSTART;VALUE=DATE:20250913
DTEND;VALUE=DATE:20250914
DTSTAMP:20260423T182057
CREATED:20250909T185608Z
LAST-MODIFIED:20250909T185608Z
UID:12802-1757721600-1757807999@dongchuacuuthe.us
SUMMARY:Thứ Bảy Tuần XXIII Thường Niên Năm I
DESCRIPTION:BÀI ĐỌC I: 1 Tm 1\, 15-17 \n“Người đã đến trong thế gian này để cứu độ những người tội lỗi”. \nTrích thư thứ nhất của Thánh Phaolô Tông đồ gửi Timôthêu. \nLời nói chân thật và đáng tiếp nhận mọi đàng là: Đức Giêsu Kitô đã đến trong thế gian này\, để cứu độ những người tội lỗi\, trong số ấy\, cha là người thứ nhất. Vì thế\, cha được hưởng nhờ ơn thương xót\, là Đức Giêsu Kitô tỏ ra tất cả lòng khoan dung trong cha trước hết\, để nêu gương cho những ai sẽ tin vào Người hầu được sống đời đời. (Nguyện) danh dự và vinh quang (quy về) Thiên Chúa độc nhất\, hằng sống\, vô hình\, là Vua muôn đời! Amen. Đó là lời Chúa \nĐÁP CA: Tv 112\, 1-2. 3-4. 5a và 6-7 \nĐáp: Nguyện danh Chúa được chúc tụng đến muôn đời (x. c. 2). \nXướng: 1) Hãy ngợi khen\, hỡi những người tôi tớ Chúa\, chư vị hãy ngợi khen danh Chúa. Nguyện danh Chúa được chúc tụng từ bây giờ và cho đến muôn đời. – Đáp. \n2) Từ mặt trời mọc lên tới khi lặn xuống\, nguyện cho danh Chúa được ngợi khen. Chúa siêu việt trên hết thảy chư dân\, trên muôn cõi trời\, là vinh quang của Chúa. – Đáp. \n3) Ai được như Thiên Chúa chúng tôi\, Người để mắt nhìn coi khắp cả trên trời dưới đất? Người nâng kẻ hèn hạ lên khỏi trần ai\, và rước người nghèo khó khỏi nơi phẩn thổ. – Đáp. \nALLELUIA: x. Cv 16\, 14b \nAlleluia\, alleluia! – Lạy Chúa\, xin hãy mở lòng chúng con\, để chúng con nghe lời của Con Chúa. – Alleluia. \nPHÚC ÂM: Lc 6\, 43-49 \n“Tại sao các con gọi Thầy ‘Lạy Chúa\, lạy Chúa’\, mà không thi hành điều Thầy dạy bảo?” \nTin Mừng Chúa Giêsu Kitô theo Thánh Luca. \nKhi ấy\, Chúa Giêsu phán cùng các môn đệ rằng: “Không có cây nào tốt mà sinh trái xấu\, và cũng không có cây nào xấu mà sinh trái tốt. Thật vậy\, cứ xem trái thì biết cây. Người ta không hái trái vả nơi bụi gai\, và người ta cũng không hái trái nho nơi cây dâu đất. Người tốt phát ra điều tốt từ kho tàng tốt của lòng mình\, và kẻ xấu phát ra điều xấu từ kho tàng xấu của nó\, vì lòng đầy thì miệng mới nói ra. Tại sao các con gọi Thầy: ‘Lạy Chúa\, lạy Chúa’\, mà các con không thi hành điều Thầy dạy bảo? Ai đến cùng Thầy\, thì nghe lời Thầy và đem ra thực hành. Thầy sẽ chỉ cho các con biết người ấy giống ai. Người ấy giống như người xây nhà: ông ta đào sâu và đặt nền móng trên đá. Khi có trận lụt\, dù nước ùa vào nhà\, cũng không làm cho nó lay chuyển\, vì nhà đó được đặt nền trên đá. Trái lại\, kẻ nghe mà không đem ra thực hành\, thì giống như người xây nhà ngay trên mặt đất mà không có nền móng. Khi sóng nước ùa vào nhà\, nó liền sụp đổ\, và nhà đó bị hư hại nặng nề”. Đó là lời Chúa.
URL:https://dongchuacuuthe.us/calendar/thu-bay-tuan-xxiii-thuong-nien-nam-i-2/
END:VEVENT
END:VCALENDAR