BEGIN:VCALENDAR
VERSION:2.0
PRODID:-//Dòng Chúa Cứu Thế Hải Ngoại - ECPv6.15.20//NONSGML v1.0//EN
CALSCALE:GREGORIAN
METHOD:PUBLISH
X-ORIGINAL-URL:https://dongchuacuuthe.us
X-WR-CALDESC:Events for Dòng Chúa Cứu Thế Hải Ngoại
REFRESH-INTERVAL;VALUE=DURATION:PT1H
X-Robots-Tag:noindex
X-PUBLISHED-TTL:PT1H
BEGIN:VTIMEZONE
TZID:America/Los_Angeles
BEGIN:DAYLIGHT
TZOFFSETFROM:-0800
TZOFFSETTO:-0700
TZNAME:PDT
DTSTART:20240310T100000
END:DAYLIGHT
BEGIN:STANDARD
TZOFFSETFROM:-0700
TZOFFSETTO:-0800
TZNAME:PST
DTSTART:20241103T090000
END:STANDARD
BEGIN:DAYLIGHT
TZOFFSETFROM:-0800
TZOFFSETTO:-0700
TZNAME:PDT
DTSTART:20250309T100000
END:DAYLIGHT
BEGIN:STANDARD
TZOFFSETFROM:-0700
TZOFFSETTO:-0800
TZNAME:PST
DTSTART:20251102T090000
END:STANDARD
BEGIN:DAYLIGHT
TZOFFSETFROM:-0800
TZOFFSETTO:-0700
TZNAME:PDT
DTSTART:20260308T100000
END:DAYLIGHT
BEGIN:STANDARD
TZOFFSETFROM:-0700
TZOFFSETTO:-0800
TZNAME:PST
DTSTART:20261101T090000
END:STANDARD
END:VTIMEZONE
BEGIN:VEVENT
DTSTART;VALUE=DATE:20250909
DTEND;VALUE=DATE:20250910
DTSTAMP:20260423T182057
CREATED:20250909T185341Z
LAST-MODIFIED:20250909T185341Z
UID:12794-1757376000-1757462399@dongchuacuuthe.us
SUMMARY:Thứ Ba Tuần XXIII Thường Niên Năm I
DESCRIPTION:BÀI ĐỌC I: Cl 2\, 6-15 \n“Chúa đã cho anh em được chung sống với Người\, Người đã ân xá mọi tội lỗi của anh em”. \nTrích thư Thánh Phaolô Tông đồ gửi tín hữu Côlôxê. \nAnh em thân mến\, như anh em đã nhận lãnh Chúa Giêsu Kitô\, anh em hãy sống trong Người\, hãy đâm rễ và xây dựng trong Người\, và kiên trì trong lòng tin\, như anh em đã học biết\, hãy đầy lòng cảm tạ trong Người.  \nAnh em hãy cẩn thận\, đừng để ai lấy triết lý và những mánh khoé gian giảo mà lừa dối anh em\, theo truyền thống loài người\, theo những yếu tố phàm trần\, chứ không theo Đức Kitô; nơi Người chứa đựng tất cả sự viên mãn của bản tính Thiên Chúa\, và trong Người\, anh em cũng được sung mãn\, chính Người là Đầu mọi thủ lãnh và quyền năng. Trong Người\, anh em đã chịu cắt bì\, một phép cắt bì không do tay người phàm cất khỏi xác thịt\, nhưng là phép cắt bì của Đức Kitô. Nhờ phép rửa tội\, anh em đã được mai táng làm một với Đức Kitô\, anh em cũng được sống lại với Người\, bởi đã tin vào quyền năng Thiên Chúa\, Đấng đã cho Người từ cõi chết sống lại.  \nAnh em vốn đã chết vì tội lỗi anh em và bởi không cắt bì tính xác thịt của anh em\, (nhưng) Thiên Chúa đã cho anh em được chung sống với Người. Người đã ân xá mọi tội lỗi chúng ta\, đã huỷ bỏ văn tự bất lợi cho chúng ta\, vì (nó) làm cho chúng ta bị kết án; Người đã huỷ bỏ bản văn tự đó bằng cách đóng đinh nó vào thập giá. Người đã tước quyền những kẻ chấp chính và những kẻ cầm quyền. Người đã mạnh bạo điệu chúng ra và toàn thắng chúng trong bản thân Người. Đó là lời Chúa. \nĐÁP CA: Tv 144\, 1-2. 8-9. 10-11 \nĐáp: Chúa hảo tâm với hết mọi loài (c. 9a). \nXướng: 1) Lạy Chúa con\, lạy Thiên Chúa\, con sẽ ca khen Chúa\, và con sẽ chúc tụng danh Chúa tới muôn đời. Hằng ngày con sẽ chúc tụng Chúa\, và con sẽ khen ngợi danh Chúa tới muôn đời. – Đáp. \n2) Chúa nhân ái và từ bi\, chậm bất bình và giàu ân sủng. Chúa hảo tâm với hết mọi loài\, và từ bi với mọi công cuộc của Chúa. – Đáp. \n3) Lạy Chúa\, mọi công cuộc của Chúa hãy ca ngợi Chúa\, và các thánh nhân của Ngài hãy chúc tụng Ngài. Thiên hạ hãy nói lên vinh quang nước Chúa\, và hãy đề cao quyền năng của Ngài. – Đáp. \nALLELUIA: Pl 2\, 15-16 \nAlleluia\, alleluia! – Anh em hãy tích trữ lời ban sự sống. Anh em hãy chiếu sáng như những vì sao ở giữa thế gian. – Alleluia. \nPHÚC ÂM: Lc 6\, 12-19 \n“Suốt đêm\, Người cầu nguyện\, Người chọn mười hai vị mà Người gọi là Tông đồ”. \nTin Mừng Chúa Giêsu Kitô theo Thánh Luca. \nTrong những ngày ấy\, Chúa Giêsu lên núi cầu nguyện\, và suốt đêm\, Người cầu nguyện cùng Thiên Chúa. Sáng ngày\, Người gọi các môn đệ và chọn mười hai vị mà Người gọi là Tông đồ: Đó là Simon\, mà Người đặt tên là Phêrô\, và em ông là Anrê\, Giacôbê và Gioan\, Philipphê và Bartôlômêô\, Matthêu và Tôma\, Giacôbê con ông Alphê và Simon cũng gọi là Nhiệt Thành\, Giuđa con ông Giacôbê và Giuđa Iscariốt là kẻ phản bội.  \nNgười đi xuống với các ông\, và dừng lại trên một khoảng đất bằng phẳng\, có nhóm đông môn đệ cùng đoàn lũ dân chúng đông đảo từ khắp xứ Giuđêa\, Giêrusalem và miền duyên hải Tyrô và Siđôn đến nghe Người giảng và để được chữa lành mọi bệnh tật. Cả những người bị quỷ ô uế hành hạ cũng được chữa khỏi\, và tất cả đám đông tìm cách chạm tới Người\, vì tự nơi Người phát xuất một sức mạnh chữa lành mọi người. Đó là lời Chúa.
URL:https://dongchuacuuthe.us/calendar/thu-ba-tuan-xxiii-thuong-nien-nam-i/
END:VEVENT
END:VCALENDAR