BEGIN:VCALENDAR
VERSION:2.0
PRODID:-//Dòng Chúa Cứu Thế Hải Ngoại - ECPv6.15.20//NONSGML v1.0//EN
CALSCALE:GREGORIAN
METHOD:PUBLISH
X-WR-CALNAME:Dòng Chúa Cứu Thế Hải Ngoại
X-ORIGINAL-URL:https://dongchuacuuthe.us
X-WR-CALDESC:Events for Dòng Chúa Cứu Thế Hải Ngoại
REFRESH-INTERVAL;VALUE=DURATION:PT1H
X-Robots-Tag:noindex
X-PUBLISHED-TTL:PT1H
BEGIN:VTIMEZONE
TZID:America/Los_Angeles
BEGIN:DAYLIGHT
TZOFFSETFROM:-0800
TZOFFSETTO:-0700
TZNAME:PDT
DTSTART:20240310T100000
END:DAYLIGHT
BEGIN:STANDARD
TZOFFSETFROM:-0700
TZOFFSETTO:-0800
TZNAME:PST
DTSTART:20241103T090000
END:STANDARD
BEGIN:DAYLIGHT
TZOFFSETFROM:-0800
TZOFFSETTO:-0700
TZNAME:PDT
DTSTART:20250309T100000
END:DAYLIGHT
BEGIN:STANDARD
TZOFFSETFROM:-0700
TZOFFSETTO:-0800
TZNAME:PST
DTSTART:20251102T090000
END:STANDARD
BEGIN:DAYLIGHT
TZOFFSETFROM:-0800
TZOFFSETTO:-0700
TZNAME:PDT
DTSTART:20260308T100000
END:DAYLIGHT
BEGIN:STANDARD
TZOFFSETFROM:-0700
TZOFFSETTO:-0800
TZNAME:PST
DTSTART:20261101T090000
END:STANDARD
END:VTIMEZONE
BEGIN:VEVENT
DTSTART;VALUE=DATE:20250906
DTEND;VALUE=DATE:20250907
DTSTAMP:20260423T181949
CREATED:20250901T055835Z
LAST-MODIFIED:20250901T055835Z
UID:12710-1757116800-1757203199@dongchuacuuthe.us
SUMMARY:Thứ Bảy Tuần XXII Thường Niên Năm I
DESCRIPTION:BÀI ĐỌC I: Cl 1\, 21-23 \n“Người đã giao hoà anh em\, để làm cho anh em nên thánh thiện và tinh tuyền”. \nTrích thư Thánh Phaolô Tông đồ gửi tín hữu Côlôxê. \nAnh em thân mến\, xưa kia anh em là những kẻ xa lạ và thù nghịch trong tư tưởng và trong hành động xấu xa. Nhưng hiện nay\, Thiên Chúa đã giao hoà anh em trong xác thịt của Đức Kitô\, nhờ cái chết của Người\, làm cho anh em nên thánh thiện\, tinh tuyền\, không có gì đáng trách trước mặt Người\, miễn là anh em được xây dựng\, kiên trì trong đức tin\, bền vững và không lay chuyển khỏi lòng trông cậy vào Tin Mừng\, mà anh em đã được nghe biết và đã được loan báo cho mọi tạo vật dưới bầu trời\, là Tin Mừng mà chính tôi\, Phaolô\, là người phục vụ. Đó là lời Chúa. \nĐÁP CA: Tv 53\, 3-4. 6 và 8 \nĐáp: Kìa\, Thiên Chúa phù trợ tôi (c. 6a). \nXướng: 1) Ôi Thiên Chúa\, xin cứu sống con nhân danh Ngài\, và xin sử dụng uy quyền phán quyết cho con! Ôi Thiên Chúa\, xin nghe tiếng con cầu\, xin lắng tai nghe lời miệng con xin. – Đáp. \n2) Kìa\, Thiên Chúa phù trợ tôi\, Chúa đang nâng đỡ tâm hồn tôi. Con sẽ tự nguyện hiến dâng lễ vật lên Chúa\, lạy Chúa\, con sẽ ca tụng danh Ngài\, vì danh Ngài thiện hảo. – Đáp. \nALLELUIA: Tv 110\, 8ab \nAlleluia\, alleluia! – Lạy Chúa\, mọi giới răn Chúa được lập ra cho tới muôn ngàn đời. – Alleluia. \nPHÚC ÂM: Lc 6\, 1-5 \n“Tại sao các ông làm điều không được phép làm trong ngày Sabbat?” \nTin Mừng Chúa Giêsu Kitô theo Thánh Luca. \nTrong một ngày Sabbat\, khi Chúa Giêsu đi qua đồng lúa\, thì các môn đệ bứt bông lúa miến\, vò xát trong tay\, rồi ăn. Có mấy người biệt phái nói với các ông rằng: “Tại sao các ông làm điều không được phép làm trong ngày Sabbat?” Chúa Giêsu trả lời họ rằng: “Các ông chưa đọc điều Đavit đã làm khi ông và các người tuỳ tùng bị đói sao? Ngài đã vào đền thờ Thiên Chúa\, lấy bánh dâng hiến mà ăn và cho các người bạn tuỳ tùng ăn\, bánh đó họ không được phép ăn\, nhưng chỉ dành cho các trưởng tế mà thôi”. Và Người bảo họ rằng: “Con Người làm chủ cả ngày Sabbat”. Đó là lời Chúa.
URL:https://dongchuacuuthe.us/calendar/thu-bay-tuan-xxii-thuong-nien-nam-i-2/
END:VEVENT
END:VCALENDAR