BEGIN:VCALENDAR
VERSION:2.0
PRODID:-//Dòng Chúa Cứu Thế Hải Ngoại - ECPv6.15.20//NONSGML v1.0//EN
CALSCALE:GREGORIAN
METHOD:PUBLISH
X-WR-CALNAME:Dòng Chúa Cứu Thế Hải Ngoại
X-ORIGINAL-URL:https://dongchuacuuthe.us
X-WR-CALDESC:Events for Dòng Chúa Cứu Thế Hải Ngoại
REFRESH-INTERVAL;VALUE=DURATION:PT1H
X-Robots-Tag:noindex
X-PUBLISHED-TTL:PT1H
BEGIN:VTIMEZONE
TZID:America/Los_Angeles
BEGIN:DAYLIGHT
TZOFFSETFROM:-0800
TZOFFSETTO:-0700
TZNAME:PDT
DTSTART:20240310T100000
END:DAYLIGHT
BEGIN:STANDARD
TZOFFSETFROM:-0700
TZOFFSETTO:-0800
TZNAME:PST
DTSTART:20241103T090000
END:STANDARD
BEGIN:DAYLIGHT
TZOFFSETFROM:-0800
TZOFFSETTO:-0700
TZNAME:PDT
DTSTART:20250309T100000
END:DAYLIGHT
BEGIN:STANDARD
TZOFFSETFROM:-0700
TZOFFSETTO:-0800
TZNAME:PST
DTSTART:20251102T090000
END:STANDARD
BEGIN:DAYLIGHT
TZOFFSETFROM:-0800
TZOFFSETTO:-0700
TZNAME:PDT
DTSTART:20260308T100000
END:DAYLIGHT
BEGIN:STANDARD
TZOFFSETFROM:-0700
TZOFFSETTO:-0800
TZNAME:PST
DTSTART:20261101T090000
END:STANDARD
END:VTIMEZONE
BEGIN:VEVENT
DTSTART;VALUE=DATE:20250903
DTEND;VALUE=DATE:20250904
DTSTAMP:20260423T181955
CREATED:20250901T055701Z
LAST-MODIFIED:20250901T055717Z
UID:12704-1756857600-1756943999@dongchuacuuthe.us
SUMMARY:Thứ Tư Tuần XXII Thường Niên Năm I
DESCRIPTION:BÀI ĐỌC I: Cl 1\, 1-8 \n“Lời chân thật đã đến với anh em\, như đã đến trong khắp thiên hạ”. \nKhởi đầu bức thư của Thánh Phaolô Tông đồ gửi tín hữu Côlôxê. \nPhaolô\, Tông đồ của Đức Giêsu Kitô do ý định của Thiên Chúa\, và anh Timôthêu\, kính gửi các thánh ở Côlôxê\, và anh em tín hữu trong Đức Giêsu Kitô. Nguyện xin ân sủng và bình an của Thiên Chúa là Cha chúng ta và của Chúa Giêsu Kitô\, ở cùng anh em.  \nChúng tôi hằng cảm tạ Thiên Chúa\, là Cha Đức Giêsu Kitô\, Chúa chúng ta\, khi chúng tôi cầu nguyện cho anh em\, bởi nghe biết lòng tin của anh em vào Đức Giêsu Kitô\, và lòng yêu mến của anh em đối với tất cả các thánh. Chúng tôi cảm tạ vì niềm hy vọng dành cho anh em trên trời\, mà anh em đã nghe biết trong lời chân thật của Tin Mừng. Tin Mừng đó đã đến với anh em\, như đã đến trong khắp thiên hạ\, sinh hoa kết quả và gia tăng nơi anh em\, từ ngày anh em đã nghe và nhận biết ơn Thiên Chúa trong chân lý. Như anh em đã thụ giáo cùng Êpaphra là đồng liêu rất yêu dấu của chúng tôi\, là kẻ trung tín giúp việc Đức Giêsu Kitô thay cho chúng tôi. Ông cũng đã tỏ cho chúng tôi biết lòng yêu mến của anh em trong Thánh Thần. Đó là lời Chúa. \nĐÁP CA: Tv 51\, 10. 11 \nĐáp: Tôi tin cậy vào lượng từ bi Chúa tới muôn đời (c. 10b). \nXướng: 1) Phần tôi như cây ô-liu xanh tốt trong nhà Thiên Chúa; tôi tin cậy vào lượng từ bi Chúa tới muôn đời. – Đáp. \n2) Tôi sẽ ca ngợi Chúa muôn đời vì Chúa đã hành động\, và tôi sẽ chúc tụng danh Ngài\, vì danh Ngài thiện hảo trước mặt chư tín hữu. – Đáp. \nALLELUIA: 2 Tm 1\, 10b \nAlleluia\, alleluia! – Đấng Cứu Chuộc chúng ta là Đức Giêsu Kitô\, đã dùng Tin Mừng tiêu diệt sự chết\, và chiếu soi sự sống. – Alleluia. \nPHÚC ÂM: Lc 4\, 38-44 \n“Ta còn phải rao giảng Tin Mừng cho các thành khác\, bởi chính vì thế mà Ta đã được sai đến”. \nTin Mừng Chúa Giêsu Kitô theo Thánh Luca. \nKhi ấy\, Chúa Giêsu chỗi dậy ra khỏi hội đường\, Người đến nhà Simon. Nhạc mẫu ông Simon phải cơn sốt nặng\, và người ta xin Người chữa bà ấy. Người đứng bên bà\, truyền lệnh cho cơn sốt\, và cơn sốt biến khỏi bà. Tức thì bà chỗi dậy\, và dọn bữa hầu các ngài. Khi mặt trời lặn\, mọi người có bệnh nhân đau những chứng bệnh khác nhau\, đều dẫn họ đến cùng Người. Người đặt tay trên từng bệnh nhân\, và chữa họ lành. Các quỷ xuất khỏi nhiều người và kêu lên rằng: “Ông là Con Thiên Chúa”. Nhưng Người quát bảo không cho chúng nói\, vì chúng biết chính Người là Đức Kitô.  \nĐến sáng ngày (hôm sau)\, Người ra đi vào hoang địa\, dân chúng liền đi tìm đến cùng Người\, họ cố cầm giữ Người lại\, kẻo Người rời bỏ họ. Người bảo họ rằng: “Ta còn phải rao giảng Tin Mừng nước Thiên Chúa cho những thành khác\, bởi chính vì thế mà Ta đã được sai đến”. Và Người giảng dạy trong các hội đường xứ Giuđêa. Đó là lời Chúa.
URL:https://dongchuacuuthe.us/calendar/thu-tu-tuan-xxii-thuong-nien-nam-i-2/
END:VEVENT
END:VCALENDAR