BEGIN:VCALENDAR
VERSION:2.0
PRODID:-//Dòng Chúa Cứu Thế Hải Ngoại - ECPv6.15.20//NONSGML v1.0//EN
CALSCALE:GREGORIAN
METHOD:PUBLISH
X-ORIGINAL-URL:https://dongchuacuuthe.us
X-WR-CALDESC:Events for Dòng Chúa Cứu Thế Hải Ngoại
REFRESH-INTERVAL;VALUE=DURATION:PT1H
X-Robots-Tag:noindex
X-PUBLISHED-TTL:PT1H
BEGIN:VTIMEZONE
TZID:America/Los_Angeles
BEGIN:DAYLIGHT
TZOFFSETFROM:-0800
TZOFFSETTO:-0700
TZNAME:PDT
DTSTART:20240310T100000
END:DAYLIGHT
BEGIN:STANDARD
TZOFFSETFROM:-0700
TZOFFSETTO:-0800
TZNAME:PST
DTSTART:20241103T090000
END:STANDARD
BEGIN:DAYLIGHT
TZOFFSETFROM:-0800
TZOFFSETTO:-0700
TZNAME:PDT
DTSTART:20250309T100000
END:DAYLIGHT
BEGIN:STANDARD
TZOFFSETFROM:-0700
TZOFFSETTO:-0800
TZNAME:PST
DTSTART:20251102T090000
END:STANDARD
BEGIN:DAYLIGHT
TZOFFSETFROM:-0800
TZOFFSETTO:-0700
TZNAME:PDT
DTSTART:20260308T100000
END:DAYLIGHT
BEGIN:STANDARD
TZOFFSETFROM:-0700
TZOFFSETTO:-0800
TZNAME:PST
DTSTART:20261101T090000
END:STANDARD
END:VTIMEZONE
BEGIN:VEVENT
DTSTART;VALUE=DATE:20250829
DTEND;VALUE=DATE:20250830
DTSTAMP:20260423T194618
CREATED:20250811T052022Z
LAST-MODIFIED:20250811T052022Z
UID:12503-1756425600-1756511999@dongchuacuuthe.us
SUMMARY:Lễ Thánh Gioan Tẩy Giả bị trảm quyết\, Lễ Nhớ
DESCRIPTION:Bài đọc Tiếng Anh \nBÀI ĐỌC I: Gr 1\, 17-19\n“Ngươi hãy nói cho họ biết tất cả những điều Ta truyền dạy cho ngươi: Đừng run sợ trước mặt họ”. \nTrích sách Tiên tri Giêrêmia. \nTrong những ngày ấy\, lời Chúa phán cùng tôi rằng: “Ngươi hãy thắt lưng\, hãy chỗi dậy\, và nói cho họ biết tất cả những điều Ta truyền dạy cho ngươi. Đừng run sợ trước mặt họ\, vì Ta không làm cho ngươi kinh hãi trước mặt họ. Hôm nay Ta làm cho ngươi nên một thành trì vững chắc\, một cây cột bằng sắt\, một vách thành bằng đồng trước mặt các vua Giuđa\, các hoàng tử\, các tư tế và dân chúng xứ này. Họ sẽ chiến đấu chống ngươi\, nhưng họ không thắng được ngươi\, vì Ta ở với ngươi để giải thoát ngươi”. Đó là lời Chúa. \nĐÁP CA: Tv 70\, 1-2. 3-4a. 5-6ab. 15ab và 17\nĐáp: Miệng con sẽ loan truyền sự Chúa công minh (c. 15a). \nXướng: 1) Lạy Chúa\, con tìm đến nương nhờ Ngài\, xin đừng để con tủi hổ muôn đời; theo đức công minh Chúa\, xin cứu nguy và giải thoát con\, xin ghé tai về bên con và giải cứu. – Đáp. \n2) Xin trở nên thạch động để con dung thân\, và chiến luỹ vững bền hầu cứu độ con: vì Chúa là Đá Tảng\, là chiến luỹ của con. Lạy Chúa con\, xin cứu con khỏi tay đứa ác. – Đáp. \n3) Bởi Ngài là Đấng con mong đợi\, thân lạy Chúa! Lạy Chúa\, Ngài là hy vọng của con từ hồi thanh xuân. Ngay từ trong bụng mẹ\, con đã nép mình vào Chúa; từ trong thai mẫu\, Chúa là Đấng bảo vệ con; con đã luôn luôn cậy trông vào Chúa. – Đáp. \n4) Miệng con sẽ loan truyền sự Chúa công minh\, và suốt ngày kể ra ơn Ngài giúp đỡ. Lạy Chúa\, Chúa đã dạy con từ hồi niên thiếu\, và tới bây giờ con còn kể (ra) những sự lạ của Ngài. – Đáp. \nALLELUIA: Mt 5\, 10\nAlleluia\, alleluia! – Phúc cho những ai bị bách hại vì lẽ công chính\, vì nước trời là của họ. – Alleluia. \nPHÚC ÂM: Mc 6\, 17-29\n“Con muốn đức vua ban ngay cho con cái đầu của Gioan Tẩy Giả đặt trên đĩa”. \nTin Mừng Chúa Giêsu Kitô theo Thánh Marcô. \nKhi ấy\, Hêrôđê đã sai đi bắt Gioan và giam ông trong ngục: nguyên do tại Hêrôđia\, vợ của Philipphê anh vua mà vua đã cưới lấy. Vì Gioan bảo Hêrôđê: “Nhà vua không được phép chiếm lấy vợ anh mình”. Phần Hêrôđia\, nàng toan mưu và muốn giết ông\, nhưng không thể làm gì được\, vì Hêrôđê kính nể Gioan\, biết ông là người chính trực và thánh thiện\, và giữ ông lại. Nghe ông nói\, vua rất phân vân\, nhưng lại vui lòng nghe. \nDịp thuận tiện xảy đến vào ngày sinh nhật Hêrôđê\, khi vua thết tiệc các quan đại thần trong triều\, các sĩ quan và những người vị vọng xứ Galilêa. Khi con gái nàng Hêrôđia tiến vào nhảy múa\, làm đẹp lòng Hêrôđê và các quan khách\, thì vua liền nói với thiếu nữ ấy rằng: “Con muốn gì\, cứ xin\, trẫm sẽ cho”\, và vua thề rằng: “Con xin bất cứ điều gì\, dù là nửa nước\, trẫm cũng cho”. Cô ra hỏi mẹ: “Con nên xin gì?” Mẹ cô đáp: “Xin đầu Gio-an Tẩy Giả”. Cô liền vội vàng trở vào xin vua: “Con muốn đức vua ban ngay cho con cái đầu Gioan Tẩy Giả đặt trên đĩa”. Vua buồn lắm\, nhưng vì lời thề và vì có các quan khách\, nên không muốn làm cho thiếu nữ đó buồn. Và lập tức\, vua sai một thị vệ đi lấy đầu Gioan và đặt trên đĩa. Viên thị vệ liền đi vào ngục chặt đầu Gioan\, và đặt trên đĩa trao cho thiếu nữ\, và thiếu nữ đem cho mẹ. \nNghe tin ấy\, các môn đệ Gioan đến lấy xác ông và mai táng trong mồ. Đó là lời Chúa.
URL:https://dongchuacuuthe.us/calendar/le-thanh-gioan-tay-gia-bi-tram-quyet-le-nho-2/
END:VEVENT
END:VCALENDAR