BEGIN:VCALENDAR
VERSION:2.0
PRODID:-//Dòng Chúa Cứu Thế Hải Ngoại - ECPv6.15.20//NONSGML v1.0//EN
CALSCALE:GREGORIAN
METHOD:PUBLISH
X-WR-CALNAME:Dòng Chúa Cứu Thế Hải Ngoại
X-ORIGINAL-URL:https://dongchuacuuthe.us
X-WR-CALDESC:Events for Dòng Chúa Cứu Thế Hải Ngoại
REFRESH-INTERVAL;VALUE=DURATION:PT1H
X-Robots-Tag:noindex
X-PUBLISHED-TTL:PT1H
BEGIN:VTIMEZONE
TZID:America/Los_Angeles
BEGIN:DAYLIGHT
TZOFFSETFROM:-0800
TZOFFSETTO:-0700
TZNAME:PDT
DTSTART:20240310T100000
END:DAYLIGHT
BEGIN:STANDARD
TZOFFSETFROM:-0700
TZOFFSETTO:-0800
TZNAME:PST
DTSTART:20241103T090000
END:STANDARD
BEGIN:DAYLIGHT
TZOFFSETFROM:-0800
TZOFFSETTO:-0700
TZNAME:PDT
DTSTART:20250309T100000
END:DAYLIGHT
BEGIN:STANDARD
TZOFFSETFROM:-0700
TZOFFSETTO:-0800
TZNAME:PST
DTSTART:20251102T090000
END:STANDARD
BEGIN:DAYLIGHT
TZOFFSETFROM:-0800
TZOFFSETTO:-0700
TZNAME:PDT
DTSTART:20260308T100000
END:DAYLIGHT
BEGIN:STANDARD
TZOFFSETFROM:-0700
TZOFFSETTO:-0800
TZNAME:PST
DTSTART:20261101T090000
END:STANDARD
END:VTIMEZONE
BEGIN:VEVENT
DTSTART;VALUE=DATE:20250821
DTEND;VALUE=DATE:20250822
DTSTAMP:20260423T194303
CREATED:20250811T051201Z
LAST-MODIFIED:20250811T052714Z
UID:12487-1755734400-1755820799@dongchuacuuthe.us
SUMMARY:Thánh Piô X\, giáo hoàng Lễ nhớ
DESCRIPTION:Bài đọc Tiếng Anh \nBÀI ĐỌC I: Tl 11\, 29-39a \n“Hễ người nào ra khỏi cửa nhà trước hết\, tôi sẽ dâng nó làm của lễ toàn thiêu”. \nTrích sách Thủ Lãnh. \nTrong những ngày ấy\, Thần Trí của Chúa ngự trên ông Giéphtê\, ông liền đi quanh đất Galaad\, Manassê\, (rồi) Maspha (của) Galaad\, và từ đó tiến sang đánh con cái Ammon. Ông thề hứa với Chúa rằng: “Nếu Chúa trao con cái Ammon vào tay con\, thì khi con từ đất con cái Ammon trở về bình an\, hễ người nào ra khỏi nhà con và đón tiếp con trước hết\, con sẽ dâng nó cho Chúa làm của lễ toàn thiêu”.  \nÔng Giéphtê liền trẩy sang đánh con cái Ammon\, Chúa đã trao chúng trong tay ông. Ông đã đánh phá hai mươi thành trong một trận ác liệt\, từ Arôê đến cửa thành Mennith\, và đến Abel Kêramim. Con cái Ammon bị con cái Israel hạ nhục. Khi ông Giéphtê trở về nhà ở Maspha\, người con gái duy nhất ra với hội hát trống phách đón rước ông\, vì ông chẳng có người con nào khác. Khi thấy đứa con gái\, ông liền xé áo mình ra mà kêu lên rằng: “Con ơi\, con làm khổ cha\, con cũng khổ nữa\, vì cha đã khấn hứa cùng Chúa\, và cha không thể làm gì khác được”. Người con gái đáp: “Cha ơi\, nếu cha đã khấn hứa cùng Chúa\, thì cha cứ làm cho con mọi điều cha đã thề hứa\, vì Chúa ban cho cha được trả thù và thắng kẻ thù của cha”. Cô lại nói với cha rằng: “Con chỉ xin cha điều này: xin cha cho con hai tháng\, để con cùng các bạn con đi quanh núi đồi mà than khóc tuổi thanh xuân của con”. Người cha đáp: “Con cứ đi”. Và ông đã cho cô đi hai tháng. Khi cô ra đi làm một với bạn nghĩa thiết của cô\, thì cô than khóc tuổi thanh xuân của cô trên núi đồi. Sau hai tháng\, cô trở về nhà cha cô\, và ông đã thi hành như ông đã thề hứa. Đó là lời Chúa. \nĐÁP CA: Tv 39\, 5. 7-8a. 8b-9. 10 \nĐáp: Lạy Chúa\, này con xin đến\, để thực thi ý Chúa (c. 8a & 9a). \nXướng: 1) Phúc thay người đặt niềm tin cậy vào Chúa\, không theo kẻ thờ thần tượng\, không hướng về chuyện gian tà. – Đáp. \n2) Hy sinh và lễ vật thì Chúa chẳng ưng\, nhưng Ngài đã mở tai con. Chúa không đòi hỏi hy lễ toàn thiêu và lễ đền tội\, bấy giờ con đã thưa: “Này con xin đến”. – Đáp. \n3) Như trong Quyển Vàng đã chép về con: lạy Chúa\, con sung sướng thực thi ý Chúa\, và pháp luật của Chúa ghi tận đáy lòng con. – Đáp. \n4) Con đã loan truyền đức công minh Chúa trong Đại Hội\, thực con đã chẳng ngậm môi\, lạy Chúa\, Chúa biết rồi. – Đáp. \nALLELUIA: Tv 147\, 12a và 15a \nAlleluia\, alleluia! – Giêrusalem\, hãy ngợi khen Chúa\, Đấng đã sai Lời Người xuống cõi trần ai. – Alleluia. \nPHÚC ÂM: Mt 22\, 1-14 \n“Các ngươi gặp bất cứ ai\, thì mời vào dự tiệc cưới”. \nTin Mừng Chúa Giêsu Kitô theo Thánh Matthêu. \nKhi ấy\, Chúa Giêsu lại phán cùng các đầu mục tư tế và kỳ lão trong dân những dụ ngôn này rằng: “Nước Trời giống như vua kia làm tiệc cưới cho hoàng tử. Vua sai đầy tớ đi gọi những người đã được mời dự tiệc cưới\, nhưng họ không chịu đến. Vua lại sai các đầy tớ khác mà rằng: ‘Hãy nói cùng những người đã được mời rằng: Này ta đã dọn tiệc sẵn rồi\, đã hạ bò và súc vật béo tốt rồi\, mọi sự đã sẵn sàng: xin mời các ông đến dự tiệc cưới’. Nhưng những người ấy đã không đếm xỉa gì và bỏ đi: người thì đi thăm trại\, người thì đi buôn bán\, những người khác thì bắt đầy tớ vua mà nhục mạ và giết đi. Khi vua nghe biết\, liền nổi cơn thịnh nộ\, sai binh lính đi tru diệt bọn sát nhân đó\, và thiêu huỷ thành phố của chúng. Bấy giờ vua nói với các đầy tớ rằng: ‘Tiệc cưới đã dọn sẵn sàng\, nhưng những kẻ đã được mời không đáng dự. Vậy các ngươi hãy ra các ngả đường\, gặp bất cứ ai\, thì mời vào dự tiệc cưới’. Các đầy tớ liền đi ra đường\, gặp ai bất luận tốt xấu\, đều quy tụ lại và phòng cưới chật ních khách dự tiệc.  \nĐoạn vua đi vào quan sát những người dự tiệc\, và thấy ở đó một người không mặc y phục lễ cưới. Vua liền nói với người ấy rằng: ‘Này bạn\, sao bạn vào đây mà lại không mặc y phục lễ cưới?’ Người ấy lặng thinh. Bấy giờ vua truyền cho các đầy tớ rằng: ‘Trói tay chân nó lại\, ném nó vào nơi tối tăm\, ở đó sẽ phải khóc lóc và nghiến răng!’ Vì những kẻ được gọi thì nhiều\, còn những kẻ được chọn thì ít”. Đó là lời Chúa.
URL:https://dongchuacuuthe.us/calendar/thu-nam-tuan-xx-thuong-nien-nam-i/
END:VEVENT
END:VCALENDAR