BEGIN:VCALENDAR
VERSION:2.0
PRODID:-//Dòng Chúa Cứu Thế Hải Ngoại - ECPv6.15.20//NONSGML v1.0//EN
CALSCALE:GREGORIAN
METHOD:PUBLISH
X-WR-CALNAME:Dòng Chúa Cứu Thế Hải Ngoại
X-ORIGINAL-URL:https://dongchuacuuthe.us
X-WR-CALDESC:Events for Dòng Chúa Cứu Thế Hải Ngoại
REFRESH-INTERVAL;VALUE=DURATION:PT1H
X-Robots-Tag:noindex
X-PUBLISHED-TTL:PT1H
BEGIN:VTIMEZONE
TZID:America/Los_Angeles
BEGIN:DAYLIGHT
TZOFFSETFROM:-0800
TZOFFSETTO:-0700
TZNAME:PDT
DTSTART:20240310T100000
END:DAYLIGHT
BEGIN:STANDARD
TZOFFSETFROM:-0700
TZOFFSETTO:-0800
TZNAME:PST
DTSTART:20241103T090000
END:STANDARD
BEGIN:DAYLIGHT
TZOFFSETFROM:-0800
TZOFFSETTO:-0700
TZNAME:PDT
DTSTART:20250309T100000
END:DAYLIGHT
BEGIN:STANDARD
TZOFFSETFROM:-0700
TZOFFSETTO:-0800
TZNAME:PST
DTSTART:20251102T090000
END:STANDARD
BEGIN:DAYLIGHT
TZOFFSETFROM:-0800
TZOFFSETTO:-0700
TZNAME:PDT
DTSTART:20260308T100000
END:DAYLIGHT
BEGIN:STANDARD
TZOFFSETFROM:-0700
TZOFFSETTO:-0800
TZNAME:PST
DTSTART:20261101T090000
END:STANDARD
END:VTIMEZONE
BEGIN:VEVENT
DTSTART;VALUE=DATE:20250820
DTEND;VALUE=DATE:20250821
DTSTAMP:20260423T194620
CREATED:20250811T051106Z
LAST-MODIFIED:20250811T051106Z
UID:12485-1755648000-1755734399@dongchuacuuthe.us
SUMMARY:Thứ Tư Tuần XX Thường Niên Năm I
DESCRIPTION:Bài đọc Tiếng Anh \nBÀI ĐỌC I: Tl 9\, 6-15 \n“Đang khi Chúa ngự trị giữa chúng tôi\, các ngươi đã nói:  ‘Xin cho một vua cai trị chúng tôi'”. \nTrích sách Thủ Lãnh. \nKhi ấy\, mọi người Sikem và tất cả các gia tộc thành Mêllô tụ họp lại\, rồi kéo nhau đến gần cây sồi ở Sikem\, và tôn Abimêlech lên làm vua.  \nKhi ông Giotham nghe tin ấy\, liền đi lên đứng trên đỉnh núi Garizim\, lớn tiếng kêu lên rằng: “Hỡi người Sikem\, hãy nghe ta\, để Thiên Chúa cũng nghe các ngươi. Các cây cối đều đến xức dầu phong một vị vua cai trị chúng\, và nói cùng cây ôliu rằng: ‘Hãy đi cai trị chúng tôi’. Cây ôliu đáp lại rằng: ‘Chớ thì ta có thể bỏ việc sản xuất dầu mà các thần minh và loài người quen dùng\, để được lên chức cai trị cây cối sao?’ Các cây cối nói cùng cây vả rằng: ‘Hãy đến cầm quyền cai trị chúng tôi’. Cây vả trả lời rằng: ‘Chớ thì ta có thể bỏ sự ngọt ngào của ta\, bỏ hoa trái ngon lành của ta\, để được lên chức cai trị các cây cối khác sao?’ Các cây cối nói với cây nho rằng: ‘Hãy đến cai trị chúng tôi’. Cây nho đáp rằng: ‘Chớ thì ta có thể bỏ việc cung cấp rượu\, là thứ làm cho Thiên Chúa và loài người được vui mừng\, để được lên chức cai trị các cây cối khác sao?’ Tất cả những cây cối nói với bụi gai rằng: ‘Hãy đến cai trị chúng tôi’. Bụi gai trả lời rằng: ‘Nếu các ngươi thật lòng đặt ta làm vua các ngươi\, thì các ngươi hãy đến nghỉ dưới bóng ta. Nhưng nếu các ngươi không muốn thì sẽ có lửa từ bụi gai phát ra thiêu huỷ các cây hương nam núi Liban'”. Đó là lời Chúa. \nĐÁP CA: Tv 20\, 2-3. 4-5. 6-7 \nĐáp: Lạy Chúa\, do quyền năng Chúa mà vua vui mừng (c. 2a). \nXướng: 1) Lạy Chúa\, do quyền năng Chúa mà vua vui mừng; do ơn Chúa phù trợ\, vua xiết bao hân hoan! Chúa đã ban cho sự lòng vua ao ước\, và điều môi miệng vua xin\, Chúa chẳng chối từ.- Đáp. \n2) Chúa đã tiên liệu cho vua được phước lộc may mắn\, đã đội triều thiên vàng ròng trên đầu vua. Nhờ Chúa giúp mà vua được vinh quang cao cả\, Chúa khoác lên người vua\, oai nghiêm với huy hoàng. – Đáp. \n3) Vua xin Chúa cho sống lâu\, thì Chúa đã ban cho một chuỗi ngày dài tới muôn muôn thuở. Chúa đã khiến vua nên mục tiêu chúc phúc tới muôn đời\, Chúa đã cho vua được hân hoan mừng rỡ trước thiên nhan. – Đáp. \nALLELUIA: Tv 118\, 135 \nAlleluia\, alleluia! – Xin Chúa tỏ cho tôi tớ Chúa thấy long nhan hiền hậu\, và dạy bảo con những thánh chỉ của Chúa. – Alleluia. \nPHÚC ÂM: Mt 20\, 1-16a \n“Hay mắt bạn ganh tị\, vì tôi nhân lành chăng”. \nTin Mừng Chúa Giêsu Kitô theo Thánh Matthêu. \nKhi ấy\, Chúa Giêsu phán cùng các môn đệ dụ ngôn này rằng: “Nước Trời giống như chủ nhà kia sáng sớm ra thuê người làm vườn nho mình. Khi đã thoả thuận với những người làm thuê về tiền công nhật là một đồng\, ông sai họ đến vườn của ông.  \n“Khoảng giờ thứ ba\, ông trở ra\, thấy có những người khác đứng không ngoài chợ\, ông bảo họ rằng: ‘Các ngươi cũng hãy đi làm vườn nho ta\, ta sẽ trả công cho các ngươi xứng đáng’. Họ liền đi. Khoảng giờ thứ sáu và thứ chín\, ông cũng trở ra và làm như vậy.  \n“Đến khoảng giờ thứ mười một ông lại trở ra\, và thấy có kẻ đứng đó\, thì bảo họ rằng: ‘Sao các ngươi đứng nhưng không ở đây suốt ngày như thế?’ Họ thưa rằng: ‘Vì không có ai thuê chúng tôi’. Ông bảo họ rằng: ‘Các ngươi cũng hãy đi làm vườn nho ta’.  \n“Đến chiều chủ vườn nho bảo người quản lý rằng: ‘Hãy gọi những kẻ làm thuê mà trả tiền công cho họ\, từ người đến sau hết tới người đến trước hết’. Vậy những người làm từ giờ thứ mười một đến\, lãnh mỗi người một đồng. Tới phiên những người đến làm trước\, họ tưởng sẽ lãnh được nhiều hơn; nhưng họ cũng chỉ lãnh mỗi người một đồng. Đang khi lãnh tiền\, họ lẩm bẩm trách chủ nhà rằng: ‘Những người đến sau hết chỉ làm có một giờ\, chúng tôi chịu nắng nôi khó nhọc suốt ngày mà ông kể họ bằng chúng tôi sao?’ Chủ nhà trả lời với một kẻ trong nhóm họ rằng: ‘Này bạn\, tôi không làm thiệt hại bạn đâu\, chớ thì bạn đã không thoả thuận với tôi một đồng sao? Bạn hãy lấy phần bạn mà đi về\, tôi muốn trả cho người đến sau hết bằng bạn\, nào tôi chẳng được phép làm như ý tôi muốn sao? Hay mắt bạn ganh tị\, vì tôi nhân lành chăng?’  \n“Như thế\, kẻ sau hết sẽ nên trước hết\, và kẻ trước hết sẽ nên sau hết”. Đó là lời Chúa.
URL:https://dongchuacuuthe.us/calendar/thu-tu-tuan-xx-thuong-nien-nam-i-2/
END:VEVENT
END:VCALENDAR