BEGIN:VCALENDAR
VERSION:2.0
PRODID:-//Dòng Chúa Cứu Thế Hải Ngoại - ECPv6.15.20//NONSGML v1.0//EN
CALSCALE:GREGORIAN
METHOD:PUBLISH
X-ORIGINAL-URL:https://dongchuacuuthe.us
X-WR-CALDESC:Events for Dòng Chúa Cứu Thế Hải Ngoại
REFRESH-INTERVAL;VALUE=DURATION:PT1H
X-Robots-Tag:noindex
X-PUBLISHED-TTL:PT1H
BEGIN:VTIMEZONE
TZID:America/Los_Angeles
BEGIN:DAYLIGHT
TZOFFSETFROM:-0800
TZOFFSETTO:-0700
TZNAME:PDT
DTSTART:20240310T100000
END:DAYLIGHT
BEGIN:STANDARD
TZOFFSETFROM:-0700
TZOFFSETTO:-0800
TZNAME:PST
DTSTART:20241103T090000
END:STANDARD
BEGIN:DAYLIGHT
TZOFFSETFROM:-0800
TZOFFSETTO:-0700
TZNAME:PDT
DTSTART:20250309T100000
END:DAYLIGHT
BEGIN:STANDARD
TZOFFSETFROM:-0700
TZOFFSETTO:-0800
TZNAME:PST
DTSTART:20251102T090000
END:STANDARD
BEGIN:DAYLIGHT
TZOFFSETFROM:-0800
TZOFFSETTO:-0700
TZNAME:PDT
DTSTART:20260308T100000
END:DAYLIGHT
BEGIN:STANDARD
TZOFFSETFROM:-0700
TZOFFSETTO:-0800
TZNAME:PST
DTSTART:20261101T090000
END:STANDARD
END:VTIMEZONE
BEGIN:VEVENT
DTSTART;VALUE=DATE:20250816
DTEND;VALUE=DATE:20250817
DTSTAMP:20260423T194719
CREATED:20250811T050842Z
LAST-MODIFIED:20250811T050842Z
UID:12479-1755302400-1755388799@dongchuacuuthe.us
SUMMARY:Thứ Bảy Tuần XIX Thường Niên Năm I
DESCRIPTION:Bài đọc Tiếng Anh \nBÀI ĐỌC I: Gs 24\, 14-29 \n“Hôm nay các ngươi hãy tuỳ ý chọn phải tôn thờ ai hơn”. \nTrích sách ông Giosuê. \nTrong những ngày ấy\, Giosuê nói với dân chúng rằng: “Giờ đây\, các ngươi hãy kính sợ Chúa và tôn thờ Người với tâm hồn thiện hảo và chân thành. Hãy loại bỏ những thần cha ông các ngươi đã tôn thờ trong xứ Mêsôpôtamia và ở Ai-cập\, mà tôn thờ Chúa. Còn nếu các ngươi không muốn tôn thờ Thiên Chúa\, thì cho các ngươi lựa chọn: hôm nay\, các ngươi hãy tùy ý chọn phải tôn thờ ai hơn: hoặc là các thần cha ông các ngươi đã tôn thờ ở Mêsôpôtamia\, hoặc các thần của người xứ Amôrê\, nơi các ngươi đang ở. Phần tôi và gia đình tôi\, chúng tôi sẽ tôn thờ Chúa”.  \nDân trả lời rằng: “Không thể có chuyện chúng tôi bỏ Chúa mà tôn thờ những thần ngoại. Chúa là Thiên Chúa chúng tôi\, chính Người đã dẫn chúng tôi và cha ông chúng tôi ra khỏi Ai-cập\, khỏi nhà nô lệ. Người đã làm những việc kỳ diệu cả thể trước mắt chúng tôi và đã gìn giữ chúng tôi suốt con đường chúng tôi đã đi\, giữa tất cả mọi dân chúng tôi đã đi qua. Chúa đã trục xuất tất cả những dân đó cũng như người Amôrê trên phần đất chúng tôi đã tiến vào. Vậy chúng tôi sẽ tôn thờ Chúa\, vì chính Người là Thiên Chúa chúng tôi”.  \nBấy giờ Giosuê nói với dân chúng rằng: “Các ngươi không thể tôn thờ Chúa được\, vì Người là Thiên Chúa chí thánh\, Thiên Chúa ghen tương\, sẽ không tha thứ những tội ác và lỗi lầm của các ngươi. Nếu các ngươi bỏ Chúa mà tôn thờ các thần ngoại\, Người sẽ trở lại giáng hoạ trên các ngươi và tiêu diệt các ngươi\, sau khi đã thi ân cho các ngươi”.  \nDân chúng thưa với Giosuê rằng: “Không phải như ông nói đâu\, nhưng chúng tôi sẽ tôn thờ Chúa”. Giosuê liền bảo dân chúng rằng: “Vậy các ngươi hãy tự làm chứng rằng: chính các ngươi đã chọn Chúa để tôn thờ Người”. Họ đáp: “Chúng tôi xin làm chứng”. Ông nói: “Vậy thì hãy loại bỏ những thần ngoại ra khỏi các ngươi và hướng lòng về Chúa là Thiên Chúa Israel”. Dân chúng thưa với Giosuê rằng: “Chúng tôi sẽ tôn thờ Chúa là Thiên Chúa chúng tôi\, và sẽ tuân phục các mệnh lệnh của Người”.  \nHôm ấy\, Giosuê lập giao ước\, ấn định quy chế và luật lệ cho dân ở Sikem. Giosuê ghi chép các lời đó vào sách Luật của Chúa\, rồi lấy một tảng đá thật lớn và dựng lên dưới cây sồi ở trong nơi thánh của Chúa\, và nói với toàn dân rằng: “Đây\, tảng đá này sẽ làm chứng cho các ngươi\, vì nó đã nghe mọi lời Chúa phán với các ngươi\, kẻo sau này các ngươi chối bỏ và lừa dối Chúa là Thiên Chúa các ngươi”. Sau đó\, Giosuê giải tán dân chúng và ai nấy trở về với phần đất của mình. Sau những sự việc đó\, Giosuê\, con ông Nun\, tôi tớ Chúa\, qua đời\, hưởng thọ một trăm mười tuổi. Đó là lời Chúa. \nĐÁP CA: Tv 15\, 1-2a và 5. 7-8. 11 \nĐáp: Lạy Chúa\, Chúa là phần gia nghiệp của con (x. c. 5a). \nXướng: 1) Xin bảo toàn con\, lạy Chúa\, vì con tìm nương tựa Chúa. Con thưa cùng Chúa: Ngài là Chúa tể con! Chúa là phần gia nghiệp và phần chén của con; chính Ngài nắm giữ vận mạng của con. – Đáp. \n2) Con chúc tụng Chúa vì đã ban cho con lời khuyên bảo. Đó là điều lòng con tự nhủ\, cả những lúc đêm khuya. Con luôn luôn đặt Chúa ở trước mặt con\, vì Chúa ngự bên hữu con\, con sẽ không nao núng. – Đáp. \n3) Chúa sẽ chỉ cho con biết đường lối trường sinh\, sự no đầy hoan hỉ ở trước thiên nhan\, sự khoái lạc bên tay hữu Chúa tới muôn muôn đời. – Đáp. \nALLELUIA: Tv 118\, 18 \nAlleluia\, alleluia! – Lạy Chúa\, xin mở rộng tầm con mắt con\, để con tuân cứ luật pháp của Chúa và để con hết lòng vâng theo luật đó. – Alleluia. \nPHÚC ÂM: Mt 19\, 13-15 \n“Đừng ngăn cấm các trẻ nhỏ đến với Ta\, vì Nước Trời là của những người giống như chúng”. \nTin Mừng Chúa Giêsu Kitô theo Thánh Matthêu. \nKhi ấy\, người ta đem những trẻ nhỏ đến cho Chúa Giêsu để Người đặt tay và cầu nguyện cho chúng. Các môn đệ liền quở trách chúng\, nhưng chúa Giêsu bảo: “Hãy để các trẻ nhỏ đến với Ta\, và đừng ngăn cấm chúng\, vì Nước Trời là của những người giống như chúng”. Sau khi Người đặt tay trên chúng\, thì Người đi khỏi nơi đó. Đó là lời Chúa.
URL:https://dongchuacuuthe.us/calendar/thu-bay-tuan-xix-thuong-nien-nam-i-2/
END:VEVENT
END:VCALENDAR