BEGIN:VCALENDAR
VERSION:2.0
PRODID:-//Dòng Chúa Cứu Thế Hải Ngoại - ECPv6.15.20//NONSGML v1.0//EN
CALSCALE:GREGORIAN
METHOD:PUBLISH
X-ORIGINAL-URL:https://dongchuacuuthe.us
X-WR-CALDESC:Events for Dòng Chúa Cứu Thế Hải Ngoại
REFRESH-INTERVAL;VALUE=DURATION:PT1H
X-Robots-Tag:noindex
X-PUBLISHED-TTL:PT1H
BEGIN:VTIMEZONE
TZID:America/Los_Angeles
BEGIN:DAYLIGHT
TZOFFSETFROM:-0800
TZOFFSETTO:-0700
TZNAME:PDT
DTSTART:20240310T100000
END:DAYLIGHT
BEGIN:STANDARD
TZOFFSETFROM:-0700
TZOFFSETTO:-0800
TZNAME:PST
DTSTART:20241103T090000
END:STANDARD
BEGIN:DAYLIGHT
TZOFFSETFROM:-0800
TZOFFSETTO:-0700
TZNAME:PDT
DTSTART:20250309T100000
END:DAYLIGHT
BEGIN:STANDARD
TZOFFSETFROM:-0700
TZOFFSETTO:-0800
TZNAME:PST
DTSTART:20251102T090000
END:STANDARD
BEGIN:DAYLIGHT
TZOFFSETFROM:-0800
TZOFFSETTO:-0700
TZNAME:PDT
DTSTART:20260308T100000
END:DAYLIGHT
BEGIN:STANDARD
TZOFFSETFROM:-0700
TZOFFSETTO:-0800
TZNAME:PST
DTSTART:20261101T090000
END:STANDARD
END:VTIMEZONE
BEGIN:VEVENT
DTSTART;VALUE=DATE:20250813
DTEND;VALUE=DATE:20250814
DTSTAMP:20260423T194718
CREATED:20250811T050616Z
LAST-MODIFIED:20250811T050616Z
UID:12472-1755043200-1755129599@dongchuacuuthe.us
SUMMARY:Thứ Tư Tuần XIX Thường Niên Năm I
DESCRIPTION:Bài đọc Tiếng Anh \nBÀI ĐỌC I: Đnl 34\, 1-12 \n“Môsê qua đời tại đó như Chúa đã truyền dạy\, và không còn tiên tri nào như ông đứng lên nữa”. \nTrích sách Đệ Nhị Luật. \nTrong những ngày ấy\, ông Môsê từ đồng bằng Moab đi lên núi Nêbô\, ngọn núi Phasga\, ngay trước mặt thành Giêricô. Và Chúa cho ông thấy khắp xứ Galaad cho đến Đan\, cả miền Nephtali\, đất Ephraim và Manassê\, cả xứ Giuđa cho đến Biển Tây\, phần đất phía nam vùng đồng bằng rộng lớn Giêricô\, là thành cây chà là\, cho đến Sêgor. Chúa phán cùng ông rằng: “Đây là Đất Ta đã thề hứa với Abraham\, Isaac và Giacóp bằng những lời này: ‘Ta sẽ ban nó cho con cháu ngươi’. Ta đã cho ngươi thấy tận mắt xứ ấy\, nhưng ngươi sẽ không được qua đến đó”.  \nMôsê\, tôi tớ của Chúa\, đã qua đời tại đó\, trên đất Moab\, như Chúa đã truyền dạy. Ông được chôn cất trong thung lũng tại xứ Moab\, ngay trước mặt thành Phegor. Mãi đến nay\, không ai biết ngôi mộ của ông. Khi Môsê qua đời\, ông được một trăm hai mươi tuổi: mắt vẫn chưa mờ và răng vẫn chưa lung lay. Con cái Israel thương khóc ông suốt ba mươi ngày trong đồng bằng Moab. Ngày thọ tang Môsê chấm dứt\, thì Giosuê\, con ông Nun\, được đầy tinh thần khôn ngoan\, vì Môsê đã đặt tay trên ông. Con cái Israel vâng lời ông\, thi hành mệnh lệnh Chúa đã truyền cho Môsê.  \nVề sau\, trong Israel không còn tiên tri nào như Môsê đứng lên nữa: ông là người Thiên Chúa từng quen mặt. Biết bao dấu lạ\, kỳ công Chúa đã sai ông làm trong đất Ai-cập\, chống lại Pharaon cùng tất cả triều thần và xứ sở vua ấy. Môsê đã tác oai và làm những việc kỳ diệu vĩ đại trước mắt toàn thể Israel. Đó là lời Chúa. \nĐÁP CA: Tv 65\, 1-3a. 5 và 8. 16-17 \nĐáp: Chúc tụng Chúa là Đấng đã ban cho linh hồn chúng tôi được sống (c. 20a & 9a). \nXướng: 1) Toàn thể đất nước\, hãy reo mừng Thiên Chúa\, hãy ca ngợi vinh quang danh Người; hãy kính dâng Người lời khen ngợi hiển vinh. Hãy thưa cùng Thiên Chúa: kinh ngạc thay sự nghiệp Chúa. – Đáp. \n2) Hãy tới và nhìn coi sự nghiệp của Thiên Chúa. Người thi thố những chuyện kinh ngạc giữa con cái người ta! Hỡi chư dân\, hãy chúc tụng Thiên Chúa chúng tôi\, và loan truyền lời ca khen Người. – Đáp. \n3) Phàm ai tôn sợ Chúa\, hãy đến\, hãy nghe tôi kể lại\, Chúa đã làm cho linh hồn tôi những điều trọng đại biết bao. Tôi đã mở miệng kêu lên chính Chúa\, và lưỡi tôi đã ngợi khen Người. – Đáp. \nALLELUIA: Gc 1\, 21 \nAlleluia\, alleluia! – Anh em hãy khiêm nhu nhận lãnh lời giao ước trong lòng\, lời đó có thể cứu thoát linh hồn anh em. – Alleluia. \nPHÚC ÂM: Mt 18\, 15-20 \n“Nếu nó nghe ngươi\, thì ngươi đã lợi được người anh em”. \nTin Mừng Chúa Giêsu Kitô theo Thánh Matthêu. \nKhi ấy\, Chúa Giêsu phán cùng các môn đệ rằng: “Nếu anh em con lỗi phạm\, hãy đi sửa dạy nó\, riêng con và nó thôi. Nếu nó nghe con\, thì con đã lợi được người anh em. Nếu nó không nghe lời con\, hãy đem theo một hoặc hai người nữa\, để mọi việc được giải quyết nhờ lời hai hoặc ba nhân chứng. Nếu nó không nghe họ\, hãy trình với cộng đoàn. Và nếu nó cũng không nghe cộng đoàn\, con hãy kể nó như người ngoại giáo và như người thu thuế.  \n“Thầy bảo thật các con\, những gì các con cầm buộc dưới đất thì trên trời cũng cầm buộc\, và những gì các con tháo gỡ dưới đất thì trên trời cũng tháo gỡ.  \n“Thầy cũng bảo thật các con\, nếu hai người trong các con\, ở dưới đất\, mà hiệp lời cầu xin bất cứ điều gì\, thì Cha Thầy\, Đấng ngự trên trời\, sẽ ban cho họ điều đó. Vì ở đâu có hai hoặc ba người tụ họp nhân danh Thầy\, thì Thầy ở giữa những người ấy”. Đó là lời Chúa.
URL:https://dongchuacuuthe.us/calendar/thu-tu-tuan-xix-thuong-nien-nam-i-2/
END:VEVENT
END:VCALENDAR