BEGIN:VCALENDAR
VERSION:2.0
PRODID:-//Dòng Chúa Cứu Thế Hải Ngoại - ECPv6.15.20//NONSGML v1.0//EN
CALSCALE:GREGORIAN
METHOD:PUBLISH
X-WR-CALNAME:Dòng Chúa Cứu Thế Hải Ngoại
X-ORIGINAL-URL:https://dongchuacuuthe.us
X-WR-CALDESC:Events for Dòng Chúa Cứu Thế Hải Ngoại
REFRESH-INTERVAL;VALUE=DURATION:PT1H
X-Robots-Tag:noindex
X-PUBLISHED-TTL:PT1H
BEGIN:VTIMEZONE
TZID:America/Los_Angeles
BEGIN:DAYLIGHT
TZOFFSETFROM:-0800
TZOFFSETTO:-0700
TZNAME:PDT
DTSTART:20240310T100000
END:DAYLIGHT
BEGIN:STANDARD
TZOFFSETFROM:-0700
TZOFFSETTO:-0800
TZNAME:PST
DTSTART:20241103T090000
END:STANDARD
BEGIN:DAYLIGHT
TZOFFSETFROM:-0800
TZOFFSETTO:-0700
TZNAME:PDT
DTSTART:20250309T100000
END:DAYLIGHT
BEGIN:STANDARD
TZOFFSETFROM:-0700
TZOFFSETTO:-0800
TZNAME:PST
DTSTART:20251102T090000
END:STANDARD
BEGIN:DAYLIGHT
TZOFFSETFROM:-0800
TZOFFSETTO:-0700
TZNAME:PDT
DTSTART:20260308T100000
END:DAYLIGHT
BEGIN:STANDARD
TZOFFSETFROM:-0700
TZOFFSETTO:-0800
TZNAME:PST
DTSTART:20261101T090000
END:STANDARD
END:VTIMEZONE
BEGIN:VEVENT
DTSTART;VALUE=DATE:20250808
DTEND;VALUE=DATE:20250809
DTSTAMP:20260423T194620
CREATED:20250726T154026Z
LAST-MODIFIED:20250726T154026Z
UID:12440-1754611200-1754697599@dongchuacuuthe.us
SUMMARY:Thứ Sáu Tuần XVIII Thường Niên Năm I
DESCRIPTION:Bài đọc Tiếng Anh \nBÀI ĐỌC I: Đnl 4\, 32-40 \n“Người đã yêu thương cha ông các ngươi và sau đó đã tuyển chọn con cháu các ông ấy”. \nTrích sách Đệ Nhị Luật.  \nÔng Môsê nói cùng dân chúng rằng: “Các ngươi hãy tìm hiểu những thời xa xưa trước kia\, từ khi Thiên Chúa tác thành con người trên mặt đất\, từ chân trời này đến chân trời nọ\, có bao giờ xảy ra một việc vĩ đại như thế này chăng? Có bao giờ người ta đã nghe thấy những việc lạ lùng như vậy chăng? Có bao giờ một dân tộc đã nghe lời Thiên Chúa từ trong lửa phán ra như các ngươi đã nghe mà còn sống chăng? Có bao giờ Chúa đã dùng sự thử thách\, dấu chỉ\, điềm lạ\, chiến tranh\, cánh tay quyền năng mạnh mẽ và những thị kiến khủng khiếp\, để chọn lấy cho mình một dân tộc giữa các dân tộc khác\, như Chúa là Thiên Chúa các ngươi đã làm tất cả các điều đó trước mặt các ngươi trong đất Ai-cập chăng? Tất cả những điều đó\, Người chỉ cho các ngươi xem thấy\, để các ngươi biết rằng Chúa là Thiên Chúa thật\, và ngoài Người\, không có chúa nào khác. Từ trên trời\, Người cho các ngươi nghe tiếng Người; ở dưới đất\, Người cho các ngươi thấy đám lửa to lớn của Người; và từ giữa đám lửa ấy\, các ngươi đã nghe lời Người\, vì Người đã yêu thương cha ông các ngươi và sau đó đã tuyển chọn con cháu các ông ấy. Người đã dẫn các ngươi ra khỏi Ai-cập khi Người dùng quyền năng cao cả mà đi trước mặt các ngươi\, để tiêu diệt trước mặt các ngươi những dân tộc lớn mạnh hơn các ngươi\, và đem các ngươi vào trong xứ của họ và ban đất của họ cho các ngươi làm gia nghiệp\, như các ngươi vẫn thấy hiện nay. Vậy hôm nay các ngươi hãy nhận biết và suy niệm trong lòng rằng: Trên trời dưới đất\, chính Chúa là Thiên Chúa\, chứ không có Chúa nào khác. Hãy tuân giữ các lề luật và giới răn mà hôm nay chính ta truyền dạy cho các ngươi\, hầu cho các ngươi và con cháu mai sau được hạnh phúc\, và tồn tại trên phần đất mà Chúa là Thiên Chúa sẽ ban cho các ngươi”. Đó là lời Chúa. \nĐÁP CA: Tv 76\, 12-13. 14-15. 16 và 21 \nĐáp: Tôi hồi tưởng lại những việc làm của Chúa (c. 12a). \nXướng: 1) Tôi hồi tưởng lại những việc làm của Chúa; tôi cũng nhớ những điều kỳ diệu thuở trước của Ngài. Tôi nghiền ngẫm về mọi việc làm của Chúa\, và tôi suy tư về những đại sự của Ngài. – Đáp. \n2) Ôi Thiên Chúa\, đường lối của Ngài thánh thiện; có thần minh nào vĩ đại như Thiên Chúa chúng tôi? Ngài là Thiên Chúa làm nên những điều kỳ diệu\, làm sáng tỏ quyền năng ở giữa chư dân. – Đáp. \n3) Ngài đã ra tay thục mạng dân Ngài\, thục mạng con cháu của Giacóp và Giuse. Nhờ tay Môi-sen và Aaron\, Chúa chăn dắt dân Ngài như thể đoàn chiên. – Đáp. \nALLELUIA: Tv 94\, 8ab \nAlleluia\, alleluia! – Ước chi hôm nay các bạn nghe tiếng Chúa\, và đừng cứng lòng. – Alleluia. \nPHÚC ÂM: Mt 16\, 24-28 \n“Người ta sẽ lấy gì mà đổi được sự sống mình”. \nTin Mừng Chúa Giêsu Kitô theo Thánh Matthêu.  \nKhi ấy\, Chúa Giêsu phán cùng các môn đệ rằng: “Nếu ai muốn theo Thầy\, thì hãy từ bỏ mình đi\, và vác thập giá mình mà theo Thầy. Vì chưng\, ai muốn cứu mạng sống mình thì sẽ mất; còn ai đành mất mạng sống mình vì Ta\, thì sẽ được sự sống. Nếu ai được lợi cả thế gian mà thiệt hại sự sống mình\, thì được ích gì? Hoặc người ta sẽ lấy gì mà đổi được sự sống mình?  \n“Bởi vì Con Người sẽ đến trong vinh quang của Cha Người\, cùng với các thiên thần của Người\, và bấy giờ\, Người sẽ trả công cho mỗi người tuỳ theo việc họ làm. Thật\, Thầy bảo các con: trong những kẻ đang đứng đây\, có người sẽ không nếm sự chết trước khi xem thấy Con Người đến trong Nước Người”. Đó là lời Chúa.
URL:https://dongchuacuuthe.us/calendar/thu-sau-tuan-xviii-thuong-nien-nam-i-2/
END:VEVENT
END:VCALENDAR