BEGIN:VCALENDAR
VERSION:2.0
PRODID:-//Dòng Chúa Cứu Thế Hải Ngoại - ECPv6.15.20//NONSGML v1.0//EN
CALSCALE:GREGORIAN
METHOD:PUBLISH
X-ORIGINAL-URL:https://dongchuacuuthe.us
X-WR-CALDESC:Events for Dòng Chúa Cứu Thế Hải Ngoại
REFRESH-INTERVAL;VALUE=DURATION:PT1H
X-Robots-Tag:noindex
X-PUBLISHED-TTL:PT1H
BEGIN:VTIMEZONE
TZID:America/Los_Angeles
BEGIN:DAYLIGHT
TZOFFSETFROM:-0800
TZOFFSETTO:-0700
TZNAME:PDT
DTSTART:20240310T100000
END:DAYLIGHT
BEGIN:STANDARD
TZOFFSETFROM:-0700
TZOFFSETTO:-0800
TZNAME:PST
DTSTART:20241103T090000
END:STANDARD
BEGIN:DAYLIGHT
TZOFFSETFROM:-0800
TZOFFSETTO:-0700
TZNAME:PDT
DTSTART:20250309T100000
END:DAYLIGHT
BEGIN:STANDARD
TZOFFSETFROM:-0700
TZOFFSETTO:-0800
TZNAME:PST
DTSTART:20251102T090000
END:STANDARD
BEGIN:DAYLIGHT
TZOFFSETFROM:-0800
TZOFFSETTO:-0700
TZNAME:PDT
DTSTART:20260308T100000
END:DAYLIGHT
BEGIN:STANDARD
TZOFFSETFROM:-0700
TZOFFSETTO:-0800
TZNAME:PST
DTSTART:20261101T090000
END:STANDARD
END:VTIMEZONE
BEGIN:VEVENT
DTSTART;VALUE=DATE:20250730
DTEND;VALUE=DATE:20250731
DTSTAMP:20260423T194618
CREATED:20250628T013317Z
LAST-MODIFIED:20250628T013317Z
UID:12301-1753833600-1753919999@dongchuacuuthe.us
SUMMARY:Thứ Tư Tuần XVII Thường Niên Năm I
DESCRIPTION:Bài đọc Tiếng Anh \nBÀI ĐỌC I: Xh 34\, 29-35 \n“Thấy mặt ông Môsê\, họ sợ không dám đến gần”. \nTrích sách Xuất Hành.  \nKhi ông Môsê từ trên núi Sinai đi xuống\, ông mang hai bia đá chứng từ; và ông không biết do sự đàm đạo với Chúa\, mặt ông sáng láng rực rỡ. Nhưng ông Aaron và con cái Israel thấy mặt ông Môsê sáng láng rực rỡ\, thì sợ không dám đến gần. Ông Môsê gọi họ\, thì cả Aaron lẫn các thủ lãnh hội đường mới quay lại. Sau khi ông nói chuyện với họ\, tất cả con cái Israel mới đến gần ông. Ông truyền lại cho họ tất cả những điều ông đã nghe Chúa phán trên núi Sinai. Nói xong\, ông lấy khăn che mặt mình. Khi ông vào trước mặt Chúa và đàm đạo với Người\, thì ông cất khăn cho đến lúc ông trở ra và bấy giờ ông thuật lại cho con cái Israel những điều Chúa đã truyền dạy ông. Lúc ông Môsê ra đi\, họ thấy mặt ông sáng láng rực rỡ; nhưng khi ông nói với họ\, ông che mặt ông lại. Đó là lời Chúa. \nĐÁP CA: Tv 98\, 5. 6. 7. 9 \nĐáp: Thiên Chúa\, Chúa chúng ta\, là Đấng Thánh (c. 9c). \nXướng: 1) Hãy cao rao Chúa là Thiên Chúa chúng ta. Hãy sấp mình dưới bệ kê chân Người; đây là bệ ngọc chí thánh. – Đáp. \n2) Trong hàng tư tế của Người có Môsê và Aaron\, và có Samuel trong số người cầu đảo danh Người. Các ông kêu cầu Chúa và chính Người nhậm lời các ông. – Đáp. \n3) Trong cột mây\, bấy giờ Người phán bảo; các ông đã nghe những huấn lệnh của Người\, và chỉ thị Người đã truyền cho các ông giữ. – Đáp. \n4) Hãy cao rao Chúa là Thiên Chúng chúng ta; hãy sấp mình trên núi thánh của Người: vì Thiên Chúa\, Chúa chúng ta\, là Đấng Thánh. – Đáp. \nALLELUIA: 1 Sm 3\, 9 \nAlleluia\, alleluia! – Lạy Chúa\, xin hãy phán\, vì tôi tớ Chúa đang lắng tai nghe: Chúa có lời ban sự sống đời đời. – Alleluia. \nPHÚC ÂM: Mt 13\, 44-46 \n“Anh bán tất cả những gì anh có mà mua thửa ruộng đó”. \nTin Mừng Chúa Giêsu Kitô theo Thánh Matthêu.  \nKhi ấy\, Chúa Giêsu phán cùng dân chúng rằng: “Nước trời giống như kho tàng chôn giấu trong ruộng\, người kia tìm được\, vội chôn vùi xuống\, vui mừng trở về bán tất cả những gì anh có mà mua thửa ruộng ấy. Nước trời cũng giống như người buôn nọ đi tìm ngọc quý. Tìm được một viên ngọc quý\, anh trở về bán mọi của cải mà mua viên ngọc ấy. Đó là lời Chúa.
URL:https://dongchuacuuthe.us/calendar/thu-tu-tuan-xvii-thuong-nien-nam-i-2/
END:VEVENT
END:VCALENDAR