BEGIN:VCALENDAR
VERSION:2.0
PRODID:-//Dòng Chúa Cứu Thế Hải Ngoại - ECPv6.15.20//NONSGML v1.0//EN
CALSCALE:GREGORIAN
METHOD:PUBLISH
X-WR-CALNAME:Dòng Chúa Cứu Thế Hải Ngoại
X-ORIGINAL-URL:https://dongchuacuuthe.us
X-WR-CALDESC:Events for Dòng Chúa Cứu Thế Hải Ngoại
REFRESH-INTERVAL;VALUE=DURATION:PT1H
X-Robots-Tag:noindex
X-PUBLISHED-TTL:PT1H
BEGIN:VTIMEZONE
TZID:America/Los_Angeles
BEGIN:DAYLIGHT
TZOFFSETFROM:-0800
TZOFFSETTO:-0700
TZNAME:PDT
DTSTART:20240310T100000
END:DAYLIGHT
BEGIN:STANDARD
TZOFFSETFROM:-0700
TZOFFSETTO:-0800
TZNAME:PST
DTSTART:20241103T090000
END:STANDARD
BEGIN:DAYLIGHT
TZOFFSETFROM:-0800
TZOFFSETTO:-0700
TZNAME:PDT
DTSTART:20250309T100000
END:DAYLIGHT
BEGIN:STANDARD
TZOFFSETFROM:-0700
TZOFFSETTO:-0800
TZNAME:PST
DTSTART:20251102T090000
END:STANDARD
BEGIN:DAYLIGHT
TZOFFSETFROM:-0800
TZOFFSETTO:-0700
TZNAME:PDT
DTSTART:20260308T100000
END:DAYLIGHT
BEGIN:STANDARD
TZOFFSETFROM:-0700
TZOFFSETTO:-0800
TZNAME:PST
DTSTART:20261101T090000
END:STANDARD
END:VTIMEZONE
BEGIN:VEVENT
DTSTART;VALUE=DATE:20250729
DTEND;VALUE=DATE:20250730
DTSTAMP:20260423T194620
CREATED:20250628T013209Z
LAST-MODIFIED:20250628T013209Z
UID:12299-1753747200-1753833599@dongchuacuuthe.us
SUMMARY:Lễ 3 Thánh nữ Martha\, Maria và Lazarô\, Lễ Kính
DESCRIPTION:Bài đọc Tiếng Anh \nBÀI ĐỌC I:\ntheo ngày trong tuần\n  \nĐáp ca theo ngày trong tuần hoặc đề nghị dưới…  \nĐÁP CA: Tv 80\, 3-4. 5-6ab. 10-11ab \nĐáp: Hãy reo mừng Thiên Chúa là Đấng phù trợ chúng ta (c. 2a). \nXướng: 1) Hãy hoà nhạc và đánh trống râm ran; dạo đàn cầm êm ái cùng với thất huyền. Hãy rúc tù và lên mừng ngày trăng mới\, trong buổi trăng rằm\, ngày đại lễ của chúng ta. – Đáp. \n2) Vì đó là điều đã thiết lập cho Israel; đó là huấn lệnh của Thiên Chúa nhà Giacóp. Người đã đặt ra luật này cho nhà Giuse\, khi họ cất gót lên đường lìa xa Ai-cập. – Đáp. \n3) Ở nơi ngươi đừng có một chúa tể nào khác; ngươi cũng đừng thờ tự một chúa tể ngoại lai: vì Ta là Chúa\, là Thiên Chúa của ngươi\, Ta đã đưa ngươi ra ngoài Ai-cập. – Đáp. \nALLELUIA: x. Lc 2\, 25c\nAlleluia\, alleluia! – Chúa phán: “Ta là ánh sáng thế gian; ai theo Ta\, sẽ có ánh sáng ban sự sống. – Alleluia. \nPHÚC ÂM: Ga 11\, 19-27\n“Con đã tin Thầy là Đấng Kitô\, Con Thiên Chúa hằng sống”. \nTin Mừng Chúa Giêsu Kitô theo Thánh Gioan. \nKhi ấy\, nhiều người Do-thái đến nhà Martha và Maria để an ủi hai bà vì người em đã chết. Khi hay tin Chúa Giêsu đến\, Martha đi đón Người\, còn Maria vẫn ngồi nhà. Martha thưa Chúa Giêsu: “Thưa Thầy\, nếu Thầy có mặt ở đây thì em con không chết. Tuy nhiên\, ngay cả bây giờ\, con biết Thầy xin gì cùng Thiên Chúa\, Thiên Chúa cũng sẽ ban cho Thầy”. Chúa Giêsu nói: “Em con sẽ sống lại”. Martha thưa: “Con biết ngày tận thế\, khi kẻ chết sống lại\, thì em con sẽ sống lại”. Chúa Giêsu nói: “Ta là sự sống lại và là sự sống\, ai tin Ta\, dầu có chết cũng sẽ được sống. Và kẻ nào sống mà tin Ta\, sẽ không chết bao giờ. Con có tin điều đó không?” Bà thưa: “Thưa Thầy: vâng\, con đã tin Thầy là Đấng Kitô\, Con Thiên Chúa hằng sống đã đến trong thế gian”. Đó là lời Chúa. \nHoặc đọc: Lc 10\, 38-42 \n“Martha đã đón Chúa vào nhà mình\, Maria đã chọn phần tốt nhất”. \nTin Mừng Chúa Giêsu Kitô theo Thánh Luca. \nKhi ấy\, Chúa Giêsu vào một làng kia\, và có một phụ nữ tên là Martha rước Người vào nhà mình. Bà có người em gái tên là Maria ngồi bên chân Chúa mà nghe lời Người. Martha bận rộn với việc thết đãi khách. Bà đứng lại thưa Người rằng: “Lạy Thầy\, em con để con hầu hạ một mình mà Thầy không quan tâm sao? Xin Thầy bảo em con giúp con với”. Nhưng Chúa đáp: “Martha\, Martha\, con lo lắng bối rối về nhiều chuyện. Chỉ có một sự cần mà thôi: Maria đã chọn phần tốt nhất\, và sẽ không bị ai lấy mất”. Đó là lời Chúa.
URL:https://dongchuacuuthe.us/calendar/le-3-thanh-nu-martha-maria-va-lazaro-le-kinh/
END:VEVENT
END:VCALENDAR