BEGIN:VCALENDAR
VERSION:2.0
PRODID:-//Dòng Chúa Cứu Thế Hải Ngoại - ECPv6.15.20//NONSGML v1.0//EN
CALSCALE:GREGORIAN
METHOD:PUBLISH
X-WR-CALNAME:Dòng Chúa Cứu Thế Hải Ngoại
X-ORIGINAL-URL:https://dongchuacuuthe.us
X-WR-CALDESC:Events for Dòng Chúa Cứu Thế Hải Ngoại
REFRESH-INTERVAL;VALUE=DURATION:PT1H
X-Robots-Tag:noindex
X-PUBLISHED-TTL:PT1H
BEGIN:VTIMEZONE
TZID:America/Los_Angeles
BEGIN:DAYLIGHT
TZOFFSETFROM:-0800
TZOFFSETTO:-0700
TZNAME:PDT
DTSTART:20240310T100000
END:DAYLIGHT
BEGIN:STANDARD
TZOFFSETFROM:-0700
TZOFFSETTO:-0800
TZNAME:PST
DTSTART:20241103T090000
END:STANDARD
BEGIN:DAYLIGHT
TZOFFSETFROM:-0800
TZOFFSETTO:-0700
TZNAME:PDT
DTSTART:20250309T100000
END:DAYLIGHT
BEGIN:STANDARD
TZOFFSETFROM:-0700
TZOFFSETTO:-0800
TZNAME:PST
DTSTART:20251102T090000
END:STANDARD
BEGIN:DAYLIGHT
TZOFFSETFROM:-0800
TZOFFSETTO:-0700
TZNAME:PDT
DTSTART:20260308T100000
END:DAYLIGHT
BEGIN:STANDARD
TZOFFSETFROM:-0700
TZOFFSETTO:-0800
TZNAME:PST
DTSTART:20261101T090000
END:STANDARD
END:VTIMEZONE
BEGIN:VEVENT
DTSTART;VALUE=DATE:20250728
DTEND;VALUE=DATE:20250729
DTSTAMP:20260423T194302
CREATED:20250628T013023Z
LAST-MODIFIED:20250628T013023Z
UID:12297-1753660800-1753747199@dongchuacuuthe.us
SUMMARY:Thứ Hai Tuần XVII Thường Niên Năm I
DESCRIPTION:Bài đọc Tiếng Anh \nBÀI ĐỌC I: Xh 32\, 15-24. 30-34 \n“Dân này đã phạm tội nặng nề\, và họ đúc bò vàng”. \nTrích sách Xuất Hành.  \nTrong những ngày ấy\, Môsê từ trên núi trở xuống\, Tay cầm bia đá có khắc chữ cả hai mặt; và đó là công trình của Thiên Chúa tác tạo\, vì chính Chúa đã khắc chữ vào hai bia đá đó. Bấy giờ Giosuê nghe tiếng dân chúng la lối om sòm\, nên thưa cùng Môsê rằng: “Có tiếng la giao chiến trong trại”. Môsê đáp: “Đó không phải là tiếng kêu la giao chiến\, cũng không phải tiếng kêu la thất trận\, nhưng tôi nghe tiếng người ta ca hát”. Khi đến gần trại\, người thấy con bê đực và những người múa. Người quá tức giận\, liền ném hai bia đá xuống chân núi và nó bể nát ra. Người đem đốt con bê chúng đã đúc\, rồi tán ra thành tro\, bỏ vào nước\, bắt con cái Israel phải uống.  \nNgười nói cùng Aaron rằng: “Dân này đã nói gì với ông mà ông để nó phạm tội nặng nề như thế?” Aaron thưa: “Xin ngài chớ tức giận\, nào ngài không biết dân này hay hướng chiều về đàng tội đó sao? Chúng đã nói với tôi rằng: ‘Xin ông hãy đúc cho chúng tôi những vị thần để dẫn dắt chúng tôi đi\, vì ông Môsê\, người dẫn chúng tôi ra khỏi đất Ai-cập\, chúng tôi không biết chuyện gì đã xảy đến cho ông’. Tôi liền nói với họ: ‘Ai trong các ngươi có vàng\, hãy mang đến cho tôi. Họ mang đến\, tôi quăng vàng vào lửa và đúc nên con bê này'”.  \nHôm sau Môsê nói với dân: “Các ngươi đã phạm một tội rất lớn\, nhưng bây giờ ta sắp lên với Giavê: có lẽ ta sẽ xin được Người xá tội cho các ngươi!” Môsê trở lại với Giavê và nói: “Phải! dân này đã phạm một tội rất lớn\, chúng đã làm cho mình những thần bằng vàng! Nhưng bây giờ\, ước gì Người miễn chấp tội chúng. Bằng không\, xin Người hãy xoá con đi khỏi sách Người đã viết”.  \nGiavê phán với Môsê: “Ai phạm tội chống lại Ta\, Ta sẽ xoá nó khỏi sách của Ta! Còn bây giờ\, ngươi hãy đi\, hãy dẫn dân đến nơi Ta đã phán với ngươi! Này thần sứ của Ta sẽ đi trước ngươi\, và đến ngày truy phạt của Ta\, Ta sẽ trừng phạt chúng vì tội của chúng”. Đó là lời Chúa.  \nĐÁP CA: Tv 105\, 19-20. 21-22. 23 \nĐáp: Hãy ca tụng Chúa\, bởi Người nhân hậu (c. 1a). \nXướng: 1) Dân chúng đúc hình bò con tại Horéb\, và lễ bái thần tượng đã đúc bằng vàng. Họ đem vinh quang của mình đánh đổi lấy hình tượng con bò ăn cỏ. – Đáp. \n2) Họ đã quên Thiên Chúa là Đấng cứu độ mình\, Đấng đã làm những điều trọng đại bên Ai-cập\, Đấng đã làm những điều kỳ diệu trên lãnh thổ họ Cam\, và những điều kinh ngạc nơi Biển Đỏ. – Đáp. \n3) Chúa đã nghĩ tới tiêu diệt họ cho rồi\, nếu như Môsê là người Chúa chọn\, không đứng ra cầu khẩn với Ngài\, để Ngài nguôi giận và đừng tiêu diệt họ. – Đáp. \nALLELUIA: Ga 17\, 17b và a \nAlleluia\, alleluia! – Lạy Chúa\, lời của Chúa là chân lý\, xin hãy thánh hoá chúng con trong sự thật. – Alleluia. \nPHÚC ÂM: Mt 13\, 31-35 \n“Hạt cải trở thành cây đến nỗi chim trời đến nương náu nơi ngành nó”. \nTin Mừng Chúa Giêsu Kitô theo Thánh Matthêu.  \nKhi ấy\, Chúa Giêsu phán một dụ ngôn khác cùng dân chúng rằng: “Nước trời giống như hạt cải người kia gieo trong ruộng mình. Hạt ấy bé nhỏ hơn mọi thứ hạt giống\, nhưng khi mọc lên\, thì lớn hơn mọi thứ rau cỏ\, rồi thành cây\, đến nỗi chim trời đến nương náu nơi ngành nó”.  \nNgười lại nói với họ một dụ ngôn khác nữa mà rằng: “Nước trời giống như nắm men người đàn bà kia lấy đem trộn vào ba đấu bột\, cho đến khi bột dậy men”.  \nChúa Giêsu dùng dụ ngôn mà phán những điều ấy với dân chúng. Người không phán điều gì với họ mà không dùng dụ ngôn\, để ứng nghiệm lời tiên tri đã chép rằng: “Ta sẽ mở miệng nói lời dụ ngôn: Ta sẽ tỏ ra những điều bí nhiệm từ lúc dựng nên thế gian”. Đó là lời Chúa.
URL:https://dongchuacuuthe.us/calendar/thu-hai-tuan-xvii-thuong-nien-nam-i-2/
END:VEVENT
END:VCALENDAR