BEGIN:VCALENDAR
VERSION:2.0
PRODID:-//Dòng Chúa Cứu Thế Hải Ngoại - ECPv6.15.20//NONSGML v1.0//EN
CALSCALE:GREGORIAN
METHOD:PUBLISH
X-ORIGINAL-URL:https://dongchuacuuthe.us
X-WR-CALDESC:Events for Dòng Chúa Cứu Thế Hải Ngoại
REFRESH-INTERVAL;VALUE=DURATION:PT1H
X-Robots-Tag:noindex
X-PUBLISHED-TTL:PT1H
BEGIN:VTIMEZONE
TZID:America/Los_Angeles
BEGIN:DAYLIGHT
TZOFFSETFROM:-0800
TZOFFSETTO:-0700
TZNAME:PDT
DTSTART:20240310T100000
END:DAYLIGHT
BEGIN:STANDARD
TZOFFSETFROM:-0700
TZOFFSETTO:-0800
TZNAME:PST
DTSTART:20241103T090000
END:STANDARD
BEGIN:DAYLIGHT
TZOFFSETFROM:-0800
TZOFFSETTO:-0700
TZNAME:PDT
DTSTART:20250309T100000
END:DAYLIGHT
BEGIN:STANDARD
TZOFFSETFROM:-0700
TZOFFSETTO:-0800
TZNAME:PST
DTSTART:20251102T090000
END:STANDARD
BEGIN:DAYLIGHT
TZOFFSETFROM:-0800
TZOFFSETTO:-0700
TZNAME:PDT
DTSTART:20260308T100000
END:DAYLIGHT
BEGIN:STANDARD
TZOFFSETFROM:-0700
TZOFFSETTO:-0800
TZNAME:PST
DTSTART:20261101T090000
END:STANDARD
END:VTIMEZONE
BEGIN:VEVENT
DTSTART;VALUE=DATE:20250724
DTEND;VALUE=DATE:20250725
DTSTAMP:20260423T210558
CREATED:20250628T011949Z
LAST-MODIFIED:20250628T011949Z
UID:12288-1753315200-1753401599@dongchuacuuthe.us
SUMMARY:Thứ Năm Tuần XVI Thường Niên Năm I
DESCRIPTION:Bài đọc Tiếng Anh \nBÀI ĐỌC I: Xh 19\, 1-2. 9-11. 16-20b \n“Chúa ngự xuống trên núi Sinai trước mặt toàn dân”.  \nTrích sách Xuất Hành.  \nTrong ngày ấy\, vào tháng thứ ba\, sau khi dân Israel ra khỏi xứ Ai-cập\, họ đến núi Sinai. Họ rời bỏ đất Raphiđim\, đi đến hoang địa Sinai\, đóng trại tại đây\, và dựng nhà xếp ở miền núi. Và Chúa phán cùng Môsê rằng: “Ngay bây giờ Ta đến cùng ngươi trong đám mây dày đặc\, để dân chúng nghe Ta nói với ngươi và tín nhiệm ngươi mãi mãi”. Vậy Môsê trình lên Chúa những lời dân chúng đã nói\, và Chúa phán cùng ông rằng: “Ngươi hãy đến cùng dân chúng\, thánh hoá họ hôm nay và ngày mai\, chúng phải giặt áo sạch sẽ và ngày thứ ba phải sẵn sàng. Vì trong ngày thứ ba\, Chúa sẽ ngự xuống trên núi Sinai trước mặt toàn dân”.  \nSáng sớm ngày thứ ba\, có sấm chớp\, và một đám mây dầy đặc bao phủ khắp núi\, rồi tiếng kèn vang lên khiến dân chúng trong trại phải kinh sợ. Bấy giờ Môsê dẫn dân chúng ra ngoài trại đứng dưới chân núi nghinh đón Thiên Chúa. Cả núi Sinai đều bốc khói\, vì Chúa ngự xuống trên núi trong ngọn lửa\, từ trên ngọn núi\, khói bốc lên như từ hoả lò\, và núi rung chuyển dữ dội. Tiếng kèn thổi mạnh lên dần dần và vang dội thật xa. Môsê thân thưa\, và Chúa đáp lại bằng những tiếng sấm sét.  \nChúa ngự xuống trên ngọn núi Sinai\, và gọi Môsê lên đỉnh núi. Đó là lời Chúa. \nĐÁP CA: Đn 3\, 52. 53. 54. 55. 56 \nĐáp: Chúa đáng ca ngợi và tôn vinh muôn đời (c. 52b). \nXướng: 1) Lạy Chúa là Thiên Chúa cha ông chúng con\, Chúa đáng chúc tụng\, đáng ca ngợi\, tôn vinh và tán tụng muôn đời. Chúc tụng thánh danh vinh quang Chúa\, đáng ca ngợi\, tôn vinh và tán tụng muôn đời. – Đáp.  \n2) Chúa đáng chúc tụng trong đền thánh vinh quang Chúa\, đáng ca ngợi và tôn vinh muôn đời. – Đáp.  \n3) Chúc tụng Chúa ngự trên ngai vương quyền Chúa\, đáng ca ngợi và tôn vinh muôn đời. – Đáp.  \n4) Chúc tụng Chúa\, Đấng nhìn thấu vực thẳm và ngự trên các Thần Vệ Binh\, đáng ca ngợi và tôn vinh muôn đời. – Đáp.  \n5) Chúc tụng Chúa ngự trên bầu trời\, đáng ca ngợi và tôn vinh muôn đời. – Đáp.  \nALLELUIA: Ga 15\, 15b \nAlleluia\, alleluia! – Chúa phán: “Thầy gọi các con là bạn hữu\, vì tất cả những gì Thầy đã nghe biết nơi Cha Thầy\, thì Thầy đã cho các con biết”. – Alleluia. \nPHÚC ÂM: Mt 13\, 10-17 \n“Về phần các con\, đã cho biết những mầu nhiệm Nước Trời\, còn họ thì không cho biết”. \nTin Mừng Chúa Giêsu Kitô theo Thánh Matthêu.  \nKhi ấy\, các môn đệ đến gần thưa Chúa Giêsu rằng: “Tại sao Thầy dùng dụ ngôn mà nói với họ?” Người đáp lại: “Về phần các con\, đã cho biết những mầu nhiệm Nước Trời\, còn họ thì không cho biết. Vì ai đã có\, thì ban thêm cho họ được dư dật; còn kẻ không có\, thì cái họ có cũng bị lấy đi. Bởi thế\, Thầy dùng dụ ngôn mà nói với họ: vì họ nhìn mà không thấy\, lắng tai mà không nghe và không hiểu chi hết. Thế mới ứng nghiệm lời tiên tri Isaia nói về họ rằng: ‘Các ngươi lắng tai nghe mà chẳng hiểu\, trố mắt nhìn mà chẳng thấy gì. Vì lòng dân này đã ra chai đá\, họ đã bịt tai\, và nhắm mắt lại\, kẻo mắt thấy được\, tai nghe được\, và lòng chúng hiểu được mà hối cải\, và Ta lại chữa chúng cho lành’.  \n“Phần các con\, phúc cho mắt các con vì được thấy; và phúc cho tai các con vì được nghe. Quả thật\, Thầy bảo các con: Nhiều vị tiên tri và nhiều đấng công chính đã ao ước trông thấy điều các con thấy\, mà không được thấy; mong ước nghe điều các con nghe\, mà không được nghe”. Đó là lời Chúa.
URL:https://dongchuacuuthe.us/calendar/thu-nam-tuan-xvi-thuong-nien-nam-i-2/
END:VEVENT
END:VCALENDAR