BEGIN:VCALENDAR
VERSION:2.0
PRODID:-//Dòng Chúa Cứu Thế Hải Ngoại - ECPv6.15.20//NONSGML v1.0//EN
CALSCALE:GREGORIAN
METHOD:PUBLISH
X-ORIGINAL-URL:https://dongchuacuuthe.us
X-WR-CALDESC:Events for Dòng Chúa Cứu Thế Hải Ngoại
REFRESH-INTERVAL;VALUE=DURATION:PT1H
X-Robots-Tag:noindex
X-PUBLISHED-TTL:PT1H
BEGIN:VTIMEZONE
TZID:America/Los_Angeles
BEGIN:DAYLIGHT
TZOFFSETFROM:-0800
TZOFFSETTO:-0700
TZNAME:PDT
DTSTART:20240310T100000
END:DAYLIGHT
BEGIN:STANDARD
TZOFFSETFROM:-0700
TZOFFSETTO:-0800
TZNAME:PST
DTSTART:20241103T090000
END:STANDARD
BEGIN:DAYLIGHT
TZOFFSETFROM:-0800
TZOFFSETTO:-0700
TZNAME:PDT
DTSTART:20250309T100000
END:DAYLIGHT
BEGIN:STANDARD
TZOFFSETFROM:-0700
TZOFFSETTO:-0800
TZNAME:PST
DTSTART:20251102T090000
END:STANDARD
BEGIN:DAYLIGHT
TZOFFSETFROM:-0800
TZOFFSETTO:-0700
TZNAME:PDT
DTSTART:20260308T100000
END:DAYLIGHT
BEGIN:STANDARD
TZOFFSETFROM:-0700
TZOFFSETTO:-0800
TZNAME:PST
DTSTART:20261101T090000
END:STANDARD
END:VTIMEZONE
BEGIN:VEVENT
DTSTART;VALUE=DATE:20250721
DTEND;VALUE=DATE:20250722
DTSTAMP:20260423T205906
CREATED:20250628T011603Z
LAST-MODIFIED:20250628T011603Z
UID:12282-1753056000-1753142399@dongchuacuuthe.us
SUMMARY:Thứ Hai Tuần XVI Thường Niên Năm I
DESCRIPTION:Bài đọc Tiếng Anh \nBÀI ĐỌC I: Xh 14\, 5-18 \n“Các ngươi biết rằng Ta là Chúa\, khi Ta tỏ vinh quang cho Pharaon”. \nTrích sách Xuất Hành.  \nTrong những ngày ấy\, người ta báo tin cho vua Ai-cập hay: dân chúng đã trốn đi rồi; Pharaon và quần thần của ông liền đổi lòng đối với dân chúng và nói: “Sao chúng ta lại để dân Israel ra đi\, còn ai phục dịch chúng ta nữa?” Vua chuẩn bị xe và đem toàn quân đi với mình. Vua đem theo sáu trăm xe hảo hạng và tất cả loại xe trong xứ Ai-cập\, cùng các vị chỉ huy toàn thể quân đội. Chúa để cho lòng Pharaon\, vua xứ Ai-cập\, ra cứng cỏi\, ông đuổi theo con cái Israel\, nhưng những người này ra đi cách hùng dũng. Những người Ai-cập theo dấu chân họ và bắt gặp họ đóng trại gần biển. Toàn thể kỵ binh\, chiến xa và bộ binh của Pharaon trú ở Phihahirô\, đối diện với Beelsêphon.  \nLúc Pharaon đến gần\, con cái Israel ngước mắt lên thấy quân Ai-cập đuổi theo mình. Họ quá khiếp sợ\, kêu lên cùng Chúa\, và nói cùng Môsê rằng: “Có lẽ ở Ai-cập không đủ đất để chôn chúng tôi hay sao\, mà ông đem chúng tôi lên chết trong sa mạc này? Ông dẫn chúng tôi ra khỏi Ai-cập với mục đích gì? Chẳng phải khi ở Ai-cập chúng tôi đã nói với ông lời này sao?\, là: “Ông hãy mặc chúng tôi làm nô lệ cho người Ai-cập\, còn hơn là chết trong sa mạc”. Môsê liền nói với dân chúng rằng: “Xin anh em đừng sợ\, hãy vững lòng\, và anh em sẽ thấy Thiên Chúa hôm nay của chúng ta thế nào? Vì chưng\, những người Ai-cập mà hiện giờ anh em thấy đây\, anh em sẽ không bao giờ thấy họ nữa. Chúa sẽ chiến đấu cho anh em\, nên xin anh em khỏi lo chi”.  \nChúa phán cùng Môsê rằng: “Có gì mà kêu đến Ta? Hãy bảo con cái Israel cứ lên đường. Còn ngươi đưa gậy lên và giơ tay trên biển\, hãy phân rẽ biển ra\, cho con cái Israel đi vào giữa lòng biển khô cạn. Còn Ta\, Ta sẽ làm cho lòng người Ai-cập ra chai đá\, chúng sẽ rượt theo sau các ngươi. Bấy giờ Ta sẽ tỏ vinh quang cho Pharaon\, toàn thể quân lực\, chiến xa và kỵ binh của vua ấy biết. Người Ai-cập sẽ biết Ta là Chúa khi Ta tỏ vinh quang cho Pharaon?\, chiến xa và kỵ binh của vua ấy”. Đó là lời Chúa. \nĐÁP CA: Xh 15\, 1-2. 3-4. 5-6 \nĐáp: Chúng ta hãy ca tụng Chúa\, vì Người uy linh cao cả (c. 1a). \nXướng: 1) Tôi sẽ ca tụng Chúa\, vì Người uy linh cao cả. Người đã ném ngựa và người xuống biển khơi. Chúa là sức mạnh và là khúc ca của tôi\, chính Người đã cho tôi được cứu thoát. Người là Thiên Chúa tôi\, tôi sẽ tôn vinh Người; Người là Chúa tổ phụ tôi\, tôi sẽ hát ca mừng Chúa. – Đáp. \n2) Chúa như là người chiến sĩ\, danh thánh Người thật toàn năng. Người đã ném xe cộ và đạo binh của Pharaon xuống biển\, và dìm xuống Biển Đỏ các tướng lãnh của ông. – Đáp. \n3) Các vực thẳm đã chôn sống họ\, họ rơi xuống đáy biển như tảng đá to. Lạy Chúa\, tay hữu Chúa biểu dương sức mạnh\, lạy Chúa\, tay hữu Chúa đánh tan quân thù. – Đáp. \nALLELUIA: Ga 10\, 27 \nAlleluia\, alleluia! – Chúa phán: “Con chiên Ta thì nghe tiếng Ta; Ta biết chúng và chúng theo Ta”. – Alleluia. \nPHÚC ÂM: Mt 12\, 38-42 \n“Nữ hoàng phương nam sẽ chỗi dậy lên án thế hệ này”. \nTin Mừng Chúa Giêsu Kitô theo Thánh Matthêu.  \nKhi ấy\, có mấy luật sĩ và biệt phái thưa cùng Chúa Giêsu rằng: “Lạy Thầy\, chúng tôi muốn thấy Thầy làm một dấu lạ”. Người trả lời: “Thế hệ hung ác gian dâm đòi một dấu lạ! Nhưng sẽ không cho dấu lạ nào\, trừ dấu lạ tiên tri Giona. Cũng như xưa tiên tri Giona ở trong bụng cá ba đêm ngày thế nào\, thì Con Người cũng sẽ ở trong lòng đất ba đêm ngày như vậy. Tới ngày phán xét\, dân thành Ninivê sẽ chỗi dậy cùng với thế hệ này và lên án nó\, vì họ đã nghe lời tiên tri Giona mà sám hối tội lỗi\, nhưng đây có Đấng cao trọng hơn Giona. Đến ngày phán xét\, nữ hoàng phương nam sẽ chỗi dậy cùng với thế hệ này và lên án nó: vì bà từ biên thuỳ trái đất đã đến nghe lời khôn ngoan của vua Salomon\, nhưng đây có Đấng cao trọng hơn Salomon”. Đó là lời Chúa.
URL:https://dongchuacuuthe.us/calendar/thu-hai-tuan-xvi-thuong-nien-nam-i-2/
END:VEVENT
END:VCALENDAR