BEGIN:VCALENDAR
VERSION:2.0
PRODID:-//Dòng Chúa Cứu Thế Hải Ngoại - ECPv6.15.20//NONSGML v1.0//EN
CALSCALE:GREGORIAN
METHOD:PUBLISH
X-ORIGINAL-URL:https://dongchuacuuthe.us
X-WR-CALDESC:Events for Dòng Chúa Cứu Thế Hải Ngoại
REFRESH-INTERVAL;VALUE=DURATION:PT1H
X-Robots-Tag:noindex
X-PUBLISHED-TTL:PT1H
BEGIN:VTIMEZONE
TZID:America/Los_Angeles
BEGIN:DAYLIGHT
TZOFFSETFROM:-0800
TZOFFSETTO:-0700
TZNAME:PDT
DTSTART:20240310T100000
END:DAYLIGHT
BEGIN:STANDARD
TZOFFSETFROM:-0700
TZOFFSETTO:-0800
TZNAME:PST
DTSTART:20241103T090000
END:STANDARD
BEGIN:DAYLIGHT
TZOFFSETFROM:-0800
TZOFFSETTO:-0700
TZNAME:PDT
DTSTART:20250309T100000
END:DAYLIGHT
BEGIN:STANDARD
TZOFFSETFROM:-0700
TZOFFSETTO:-0800
TZNAME:PST
DTSTART:20251102T090000
END:STANDARD
BEGIN:DAYLIGHT
TZOFFSETFROM:-0800
TZOFFSETTO:-0700
TZNAME:PDT
DTSTART:20260308T100000
END:DAYLIGHT
BEGIN:STANDARD
TZOFFSETFROM:-0700
TZOFFSETTO:-0800
TZNAME:PST
DTSTART:20261101T090000
END:STANDARD
END:VTIMEZONE
BEGIN:VEVENT
DTSTART;VALUE=DATE:20250712
DTEND;VALUE=DATE:20250713
DTSTAMP:20260423T221023
CREATED:20250628T005737Z
LAST-MODIFIED:20250628T005737Z
UID:12263-1752278400-1752364799@dongchuacuuthe.us
SUMMARY:Thứ Bảy tuần 14 thường niên\, năm 1
DESCRIPTION:Bài đọc Tiếng Anh \nBÀI ĐỌC I:    NĂM  I\nSt 49\, 29-33; 50\, 15-24   (Hr 49\, 29-33; 50\, 15-25)\n“Thiên Chúa sẽ thăm viếng anh em\, và dẫn anh em ra khỏi đất này”.\nTrích sách Sáng Thế.\nTrong những ngày ấy\, Giacóp trối lại cho các con rằng: “Cha sắp về sum họp cùng dân cha. Các con hãy chôn xác cha gần mồ cha ông\, trong hang đôi ngoài cánh đồng của Êphron\, người Hêthê\, ngang thung lũng Mambrê trong đất Canaan\, mà Abraham đã mua của Êphron\, người Hêthê\, để làm nghĩa trang. Nơi đó đã mai táng Abraham và bạn ông là Sara\, nơi đó cũng đã mai táng Isaac và bạn ông là bà Rébecca\, nơi đó cũng đã mai táng bà Lia”. Trối cho các con xong\, Giacóp rút chân lên giường và trút hơi thở\, trở về sum họp với dân người.\nKhi Giacóp đã qua đời\, anh em của Giuse lo sợ và nói với nhau rằng: “Có khi Giuse còn nhớ sự sỉ nhục đã phải chịu mà trả đũa lại điều ác mà chúng ta đã làm chăng?” Họ liền sai người đến nói với Giuse rằng: “Trước khi chết\, cha ngài đã trối lại cho chúng tôi là hãy lấy lời cha mà nói với người rằng: ‘Cha xin con hãy quên tội ác và lỗi lầm của các anh con đã làm cho con’. Chúng tôi cũng xin ngài tha thứ tội ác của các tôi tớ Thiên Chúa của cha ngài”. Nghe vậy\, Giuse bật khóc lên. Các anh em của Giuse đến sấp mình xuống đất mà nói rằng: “Chúng tôi là tôi tớ của ngài”. Giuse đáp rằng: “Anh em đừng sợ! Nào chúng ta có thể chống lại thánh ý Chúa sao? Các anh đã lo nghĩ sự dữ cho tôi\, nhưng Thiên Chúa đã đổi nó ra sự lành để tôi được vinh hiển như anh em thấy hôm nay và để cứu sống nhiều dân tộc. Anh em đừng sợ\, chính tôi sẽ nuôi dưỡng anh em và con cái anh em”. Ông đã an ủi và lấy lời êm dịu hiền lành mà nói với anh em.\nGiuse và gia quyến cha của ông đã cư ngụ trong nước Ai-cập\, và ông sống được một trăm mười tuổi. Ông đã được thấy con cái của Ephraim đến ba đời. Con cái của Makir\, là con của Manassê cũng đã sinh ra trên đầu gối Giuse. Các việc ấy đã qua đi\, Giuse đã nói cùng anh em: “Sau khi tôi chết\, Thiên Chúa sẽ thăm viếng anh em\, và dẫn anh em ra khỏi đất này và đưa đến đất mà Người đã thề hứa ban cho Abraham\, Isaac và Giacóp”.\nĐó là lời Chúa. \n  \nĐÁP CA: Tv 104\, 1-2. 3-4. 6-7\nĐáp:Các bạn khiêm cung\, các bạn tìm kiếm Chúa\, lòng các bạn hãy hồi sinh  (Tv 68\, 33). \nXướng: 1)Hãy ca tụng Chúa\, hãy hoan hô danh Người\, hãy kể ra sự nghiệp Chúa ở giữa chư dân. Hãy xướng ca\, đàn hát mừng Người\, hãy tường thuật mọi điều kỳ diệu của Chúa. –  Đáp. \n2)Hãy tự hào vì danh thánh của Người\, tâm hồn những ai tìm Chúa\, hãy mừng vui. Hãy coi trọng Chúa và quyền năng của Chúa\, hãy tìm kiếm thiên nhan Chúa luôn luôn.-  Đáp. \n3)Hỡi miêu duệ Abraham là tôi tớ của Người\, hỡi con cháu Giacóp\, những kẻ được Người kén chọn. Chính Chúa là Thiên Chúa chúng ta\, quyền cai trị của Người bao trùm khắp cả địa cầu. –  Đáp. \n  \nALLELUIA:  Tv 118\, 27\nAlleluia\, alleluia! – Xin Chúa cho con hiểu đường lối những huấn lệnh của Chúa\, và con suy gẫm các điều lạ lùng của Chúa. – Alleluia. \n  \nPHÚC ÂM:  Mt 10\, 24-33\n“Các con đừng sợ những kẻ giết được thân xác”.\nTin Mừng Chúa Giêsu Kitô theo Thánh Matthêu.\nKhi ấy\, Chúa Giêsu phán cùng các môn đệ rằng: “Môn đệ không hơn thầy\, và tôi tớ không hơn chủ mình. Môn đệ được bằng thầy\, tôi tớ được bằng chủ mình thì đã là khá rồi. Nếu họ đã gọi chủ nhà là Bêelgiêbul thì huống hồ là người nhà của Ngài. Vậy các con đừng sợ những người đó\, vì không có gì che giấu mà không bị thố lộ; và không có gì kín nhiệm mà không hề hay biết. Điều Thầy nói với các con trong bóng tối\, hãy nói nơi ánh sáng; và điều các con nghe rỉ tai\, hãy rao giảng trên mái nhà.\n“Các con đừng sợ kẻ giết được thân xác\, nhưng không thể giết được linh hồn. Các con hãy sợ Đấng có thể ném cả xác lẫn hồn xuống địa ngục. Nào người ta không bán hai chim sẻ với một đồng tiền đó sao? Thế mà không con nào rơi xuống đất mà Cha các con không biết đến. Phần các con\, tóc trên đầu các con đã được đếm cả rồi. Vậy các con đừng sợ: các con còn đáng giá hơn chim sẻ bội phần.\n“Vậy ai tuyên xưng Thầy trước mặt người đời\, thì Thầy sẽ tuyên xưng nó trước mặt Cha Thầy là Đấng ngự trên trời. Còn ai chối Thầy trước mặt người đời\, thì Thầy sẽ chối nó trước mặt Cha Thầy là Đấng ngự trên trời”. \nĐó là lời Chúa.
URL:https://dongchuacuuthe.us/calendar/thu-bay-tuan-14-thuong-nien-nam-1-2/
END:VEVENT
END:VCALENDAR