BEGIN:VCALENDAR
VERSION:2.0
PRODID:-//Dòng Chúa Cứu Thế Hải Ngoại - ECPv6.15.20//NONSGML v1.0//EN
CALSCALE:GREGORIAN
METHOD:PUBLISH
X-ORIGINAL-URL:https://dongchuacuuthe.us
X-WR-CALDESC:Events for Dòng Chúa Cứu Thế Hải Ngoại
REFRESH-INTERVAL;VALUE=DURATION:PT1H
X-Robots-Tag:noindex
X-PUBLISHED-TTL:PT1H
BEGIN:VTIMEZONE
TZID:America/Los_Angeles
BEGIN:DAYLIGHT
TZOFFSETFROM:-0800
TZOFFSETTO:-0700
TZNAME:PDT
DTSTART:20240310T100000
END:DAYLIGHT
BEGIN:STANDARD
TZOFFSETFROM:-0700
TZOFFSETTO:-0800
TZNAME:PST
DTSTART:20241103T090000
END:STANDARD
BEGIN:DAYLIGHT
TZOFFSETFROM:-0800
TZOFFSETTO:-0700
TZNAME:PDT
DTSTART:20250309T100000
END:DAYLIGHT
BEGIN:STANDARD
TZOFFSETFROM:-0700
TZOFFSETTO:-0800
TZNAME:PST
DTSTART:20251102T090000
END:STANDARD
BEGIN:DAYLIGHT
TZOFFSETFROM:-0800
TZOFFSETTO:-0700
TZNAME:PDT
DTSTART:20260308T100000
END:DAYLIGHT
BEGIN:STANDARD
TZOFFSETFROM:-0700
TZOFFSETTO:-0800
TZNAME:PST
DTSTART:20261101T090000
END:STANDARD
END:VTIMEZONE
BEGIN:VEVENT
DTSTART;VALUE=DATE:20250711
DTEND;VALUE=DATE:20250712
DTSTAMP:20260423T221023
CREATED:20250628T005629Z
LAST-MODIFIED:20250628T005629Z
UID:12261-1752192000-1752278399@dongchuacuuthe.us
SUMMARY:Thứ Sáu tuần 14 thường niên\, năm 1
DESCRIPTION:Bài đọc Tiếng Anh \nBÀI ĐỌC I:    NĂM  I\nSt 46\, 1-7. 28-30\n“Cha chết cũng vui lòng\, vì Cha đã trông thấy mặt con”.\nTrích sách Sáng Thế.\nTrong những ngày ấy\, ông Israel ra đi\, đem theo tất cả những gì ông có và đến Giếng Thề; tại đây ông dâng hy tế lên Thiên Chúa của Isaac\, cha của ông. Ban đêm trong một thị kiến\, ông nghe Chúa gọi ông và nói với ông rằng: “Hỡi Giacóp\, Giacóp!” Ông liền thưa: “Này con đây”. Thiên Chúa nói tiếp: “Ta là Thiên Chúa rất hùng mạnh của cha ngươi\, nên ngươi đừng sợ\, hãy xuống xứ Ai-cập\, vì ở đó Ta sẽ làm cho ngươi nên một dân tộc vĩ đại. Ta sẽ xuống đó với ngươi. Cũng chính Ta sẽ đưa ngươi trở về\, (sau khi) tay Giuse đã vuốt mắt cho ngươi”.\nBấy giờ Giacóp bỏ Giếng Thề mà đi: các con cái đưa ông và vợ con lên các xe Pharaon đã phái đến rước cha già và tất cả những gì ông có ở Canaan; ông sang Ai-cập với tất cả dòng dõi ông\, gồm con trai\, con gái và cháu chắt.\nBấy giờ Giacóp sai Giuđa đi trước báo tin cho Giuse biết mà đón rước cha tại Ghêsen. Khi ông đến đó\, thì Giuse thắng xe đi đón cha tại Ghêsen. Vừa thấy cha\, ông ôm cổ cha mà khóc. Giacóp nói với Giuse rằng: “Cha chết cũng vui lòng\, vì cha đã trông thấy mặt con và biết con còn sống”. \nĐó là lời Chúa. \n  \nĐÁP CA:  Tv 36\, 3-4. 18-19. 27-28. 39-40\nĐáp=Người hiền được Chúa ban ơn cứu độ (c. 39a).\n1)Hãy trông cậy Chúa và hãy làm lành\, để được cư ngụ trong đất nước\, thọ hưởng an ninh. Hãy hân hoan tin tưởng vào Chúa\, Người sẽ ban cho sự lòng bạn thỉnh cầu.\n2)Chúa chăm lo cho mạng sống người nhân đức\, và phần gia nghiệp họ còn mãi muôn đời. Ngày tai hoạ\, những người đó không tủi hổ\, và trong nạn đói\, họ sẽ được ăn no.\n3)Hãy tránh ác và hãy làm lành\, hầu được an cư tới ngàn thu\, bởi vì Chúa yêu điều chân lý\, và không bỏ rơi những tôi tớ trung thành.\n4)Người hiền được Chúa ban ơn cứu độ: trong cơn khốn khó\, Người là chỗ họ dung thân\, Chúa bang trợ và giải thoát họ. Người giải thoát và cứu họ khỏi lũ ác nhân\, vì họ đã nương tựa vào Người. \n  \nALLELUIA:  Tv 129\, 5\n-Con hy vọng rất nhiều vào Chúa\, linh hồn con trông cậy vào Chúa. – Alleluia. \n  \nPHÚC ÂM:  Mt 10\, 16-23\n“Không phải chính các con nói\, nhưng là Thánh Thần của Cha các con”.\nTin Mừng Chúa Giêsu Kitô theo Thánh Matthêu.\nKhi ấy\, Chúa Giêsu phán cùng các Tông đồ rằng: “Này\, Thầy sai các con đi như những con chiên ở giữa sói rừng. Vậy các con hãy ở khôn ngoan như con rắn và đơn sơ như bồ câu. Các con hãy coi chừng người đời\, vì họ sẽ nộp các con cho công nghị\, và sẽ đánh đập các con nơi hội đường của họ. Các con sẽ bị điệu đến nhà cầm quyền và vua chúa vì Thầy\, để làm chứng cho họ và cho dân ngoại được biết. Nhưng khi người ta bắt nộp các con\, thì các con đừng lo nghĩ phải nói thế nào và nói gì? Vì trong giờ ấy sẽ cho các con biết phải nói gì; vì chưng\, không phải chính các con nói\, nhưng là Thánh Thần của Cha các con nói trong các con.\n“Anh sẽ đem nộp giết em\, cha sẽ nộp con\, con cái sẽ chống lại với cha mẹ và làm cho cha mẹ phải chết. Vì danh Thầy\, các con sẽ bị mọi người ghen ghét\, nhưng ai bền đỗ đến cùng\, kẻ ấy sẽ được cứu độ. Khi người ta bắt bớ các con trong thành này\, thì hãy trốn sang thành khác. Thầy bảo thật các con: Các con sẽ không đi khắp hết các thành Israel trước khi Con Người đến”.\nĐó là lời Chúa.
URL:https://dongchuacuuthe.us/calendar/thu-sau-tuan-14-thuong-nien-nam-1-2/
END:VEVENT
END:VCALENDAR