BEGIN:VCALENDAR
VERSION:2.0
PRODID:-//Dòng Chúa Cứu Thế Hải Ngoại - ECPv6.15.20//NONSGML v1.0//EN
CALSCALE:GREGORIAN
METHOD:PUBLISH
X-ORIGINAL-URL:https://dongchuacuuthe.us
X-WR-CALDESC:Events for Dòng Chúa Cứu Thế Hải Ngoại
REFRESH-INTERVAL;VALUE=DURATION:PT1H
X-Robots-Tag:noindex
X-PUBLISHED-TTL:PT1H
BEGIN:VTIMEZONE
TZID:America/Los_Angeles
BEGIN:DAYLIGHT
TZOFFSETFROM:-0800
TZOFFSETTO:-0700
TZNAME:PDT
DTSTART:20240310T100000
END:DAYLIGHT
BEGIN:STANDARD
TZOFFSETFROM:-0700
TZOFFSETTO:-0800
TZNAME:PST
DTSTART:20241103T090000
END:STANDARD
BEGIN:DAYLIGHT
TZOFFSETFROM:-0800
TZOFFSETTO:-0700
TZNAME:PDT
DTSTART:20250309T100000
END:DAYLIGHT
BEGIN:STANDARD
TZOFFSETFROM:-0700
TZOFFSETTO:-0800
TZNAME:PST
DTSTART:20251102T090000
END:STANDARD
BEGIN:DAYLIGHT
TZOFFSETFROM:-0800
TZOFFSETTO:-0700
TZNAME:PDT
DTSTART:20260308T100000
END:DAYLIGHT
BEGIN:STANDARD
TZOFFSETFROM:-0700
TZOFFSETTO:-0800
TZNAME:PST
DTSTART:20261101T090000
END:STANDARD
END:VTIMEZONE
BEGIN:VEVENT
DTSTART;VALUE=DATE:20250706
DTEND;VALUE=DATE:20250707
DTSTAMP:20260423T205906
CREATED:20250627T232451Z
LAST-MODIFIED:20250628T013651Z
UID:12249-1751760000-1751846399@dongchuacuuthe.us
SUMMARY:Chúa Nhật XIV Thường Niên Năm C
DESCRIPTION:Bài đọc Tiếng Anh \nBÀI ĐỌC I: Is 66\, 10-14c \n“Đây Ta khiến sông bình an chảy vào nó”. \nTrích sách Tiên tri Isaia. \nCác ngươi hãy vui mừng với Giêrusalem\, và hết thảy những ai yêu quý nó\, hãy nhảy mừng vì nó. Hỡi các ngươi là những kẻ than khóc nó\, hãy hân hoan vui mừng với nó\, để các ngươi bú sữa no nê nơi vú an ủi của nó\, để các ngươi sung sướng bú đầy sữa vinh quang của nó. Vì chưng Chúa phán thế này: “Ta sẽ làm cho sự bình an chảy đến nó như con sông\, và vinh quang chư dân tràn tới như thác lũ. Các ngươi sẽ được bú sữa\, được ẵm vào lòng và được nâng niu trên đầu gối. Ta sẽ vỗ về các ngươi như người mẹ nâng niu con\, và tại Giêrusalem\, các ngươi sẽ được an ủi. Các ngươi sẽ xem thấy\, lòng các ngươi sẽ hân hoan\, và các ngươi sẽ nẩy nở như hoa cỏ\, và tôi tớ Chúa sẽ nhìn biết bàn tay của Chúa”. Đó là lời Chúa. \nĐÁP CA: Tv 65\, 1-3a. 4-5. 6-7a. 16 và 20 \nĐáp: Toàn thể đất nước\, hãy reo mừng Thiên Chúa (c. 1). \nXướng: 1) Toàn thể đất nước hãy reo mừng Thiên Chúa\, hãy ca ngợi vinh quang danh Người\, hãy kính dâng Người lời khen ngợi hiển vinh. Hãy thưa cùng Thiên Chúa: kinh ngạc thay sự nghiệp Chúa. – Đáp. \n2) Toàn thể đất nước thờ lạy và ca khen Ngài\, ca khen danh thánh của Ngài. Hãy tới và nhìn coi sự nghiệp của Thiên Chúa\, Người thi thố những chuyện kinh ngạc giữa con cái người ta! – Đáp. \n3) Người biến bể khơi thành nơi khô cạn\, người ta đã đi bộ tiến qua sông\, bởi đó ta hãy hân hoan trong Chúa. Với quyền năng\, Người thống trị tới muôn đời. – Đáp. \n4) Phàm ai tôn sợ Chúa\, hãy đến\, hãy nghe tôi kể lại\, Chúa đã làm cho linh hồn tôi những điều trọng đại biết bao! Chúc tụng Chúa là Đấng không hất hủi lời tôi nguyện\, và không rút lại lòng nhân hậu đối với tôi. – Đáp. \nBÀI ĐỌC II: Gl 6\, 14-18 \n“Tôi mang trong mình tôi những dấu thánh của Chúa Giêsu”. \nTrích thư Thánh Phaolô Tông đồ gửi tín hữu Galata. \nAnh em thân mến\, phần tôi\, ước gì tôi đừng khoe mình về một điều gì khác\, ngoại trừ về thập giá Đức Giêsu Kitô\, Chúa chúng ta. Nhờ cây thập giá mà thế gian đã chịu đóng đinh cho tôi\, và tôi cho thế gian. Vì chưng trong Đức Kitô\, có cắt bì hay không cũng chẳng có giá trị gì\, điều quan trọng là trở nên một tạo vật mới. Nguyện chúc bình an và lòng thương xót đối với những ai rập theo quy tắc đó\, và cho cả Israel của Thiên Chúa nữa. Từ nay trở đi\, ước gì không ai làm phiền tôi nữa; vì tôi mang trong mình tôi dấu thánh của Chúa Giêsu.  \nAnh em thân mến\, nguyện ân sủng của Đức Giêsu Kitô\, Chúa chúng ta\, ở cùng anh em! Amen. Đó là lời Chúa. \nALLELUIA: Ga 14\, 23 \nAlleluia\, alleluia! – Chúa phán: “Nếu ai yêu mến Thầy\, thì sẽ giữ lời Thầy\, và Cha Thầy sẽ yêu mến người ấy\, và Chúng Ta sẽ đến và ở trong người ấy”. – Alleluia. \nPHÚC ÂM: Lc 10\, 1-9 {hoặc 1-12. 17-20} \n“Sự bằng yên của các con sẽ đến trên người ấy”. \nTin Mừng Chúa Giêsu Kitô theo Thánh Luca. \nKhi ấy\, Chúa chọn thêm bảy mươi hai người nữa\, và sai các ông cứ từng hai người đi trước Người\, đến các thành và các nơi mà chính Người sẽ tới. Người bảo các ông rằng: “Lúa chín đầy đồng mà thợ gặt thì ít; vậy các con hãy xin chủ ruộng sai thợ đến gặt lúa của Người. Các con hãy đi. Này Ta sai các con như con chiên ở giữa sói rừng. Các con đừng mang theo túi tiền\, bao bị\, giầy dép\, và đừng chào hỏi ai dọc đường. Vào nhà nào\, trước tiên các con hãy nói: ‘Bình an cho nhà này’. Nếu ở đấy có con cái sự bình an\, thì sự bình an của các con sẽ đến trên người ấy. Bằng không\, sự bình an lại trở về với các con. Các con ở lại trong nhà đó\, ăn uống những thứ họ có\, vì thợ đáng được trả công. Các con đừng đi nhà này sang nhà nọ.  \n“Khi vào thành nào mà người ta tiếp các con\, các con hãy ăn những thức người ta dọn cho. Hãy chữa các bệnh nhân trong thành và nói với họ rằng: ‘Nước Thiên Chúa đã đến gần các ngươi’.  \n{“Khi vào thành nào mà người ta không tiếp đón các con\, thì hãy ra giữa các phố chợ và nói: ‘Cả đến bụi đất thành các ngươi dính vào chân chúng tôi\, chúng tôi cũng xin phủi trả lại các ngươi. Nhưng các ngươi hãy biết rõ điều này: Nước Thiên Chúa đã đến gần’. Ta bảo các con\, ngày ấy\, thành Sôđôma sẽ được xử khoan dung hơn thành này”.  \nBảy mươi hai ông trở về rất vui mừng và nói rằng: “Thưa Thầy\, nhân danh Thầy thì cả ma quỷ cũng vâng phục chúng con”. Người bảo: “Ta đã thấy Satan từ trời sa xuống như luồng chớp. Này Ta đã ban cho các con quyền giày đạp rắn rít\, bọ cạp\, mọi quyền phép của kẻ thù\, và không có gì có thể làm hại được các con. Dù vậy\, các con chớ vui mừng vì các thần phải vâng phục các con\, nhưng hãy vui mừng vì tên các con đã được ghi trên trời”.} Đó là lời Chúa.
URL:https://dongchuacuuthe.us/calendar/chua-nhat-xiv-thuong-nien-nam-c/
END:VEVENT
END:VCALENDAR