BEGIN:VCALENDAR
VERSION:2.0
PRODID:-//Dòng Chúa Cứu Thế Hải Ngoại - ECPv6.15.20//NONSGML v1.0//EN
CALSCALE:GREGORIAN
METHOD:PUBLISH
X-WR-CALNAME:Dòng Chúa Cứu Thế Hải Ngoại
X-ORIGINAL-URL:https://dongchuacuuthe.us
X-WR-CALDESC:Events for Dòng Chúa Cứu Thế Hải Ngoại
REFRESH-INTERVAL;VALUE=DURATION:PT1H
X-Robots-Tag:noindex
X-PUBLISHED-TTL:PT1H
BEGIN:VTIMEZONE
TZID:America/Los_Angeles
BEGIN:DAYLIGHT
TZOFFSETFROM:-0800
TZOFFSETTO:-0700
TZNAME:PDT
DTSTART:20240310T100000
END:DAYLIGHT
BEGIN:STANDARD
TZOFFSETFROM:-0700
TZOFFSETTO:-0800
TZNAME:PST
DTSTART:20241103T090000
END:STANDARD
BEGIN:DAYLIGHT
TZOFFSETFROM:-0800
TZOFFSETTO:-0700
TZNAME:PDT
DTSTART:20250309T100000
END:DAYLIGHT
BEGIN:STANDARD
TZOFFSETFROM:-0700
TZOFFSETTO:-0800
TZNAME:PST
DTSTART:20251102T090000
END:STANDARD
BEGIN:DAYLIGHT
TZOFFSETFROM:-0800
TZOFFSETTO:-0700
TZNAME:PDT
DTSTART:20260308T100000
END:DAYLIGHT
BEGIN:STANDARD
TZOFFSETFROM:-0700
TZOFFSETTO:-0800
TZNAME:PST
DTSTART:20261101T090000
END:STANDARD
END:VTIMEZONE
BEGIN:VEVENT
DTSTART;VALUE=DATE:20250704
DTEND;VALUE=DATE:20250705
DTSTAMP:20260423T205751
CREATED:20250627T232253Z
LAST-MODIFIED:20250627T232253Z
UID:12245-1751587200-1751673599@dongchuacuuthe.us
SUMMARY:Thứ Sáu Tuần XIII Thường Niên Năm I
DESCRIPTION:Bài đọc Tiếng Anh \nBÀI ĐỌC I: St 23\, 1-4. 19; 24\, 1-8. 62-67 \n“Isaac yêu thương Rêbecca\, cho nên ông tìm được niềm an ủi\, vì thương nhớ mẹ đã qua đời”. \nTrích sách Sáng Thế. \nBà Sara được một trăm hai mươi bảy tuổi thì qua đời tại thành Cariatharbê\, tức là Hêbron\, trong đất Canaan. Ông Abra-ham đến khóc lóc thương tiếc bạn mình. Khi lo việc chôn cất\, Abraham chỗi dậy nói với các con ông Hét rằng: “Tôi là ngoại bang\, là khách lạ giữa quý ông\, xin quý ông nhượng cho tôi một phần mộ để chôn xác người nhà tôi qua đời”. Rồi Abraham chôn cất bà Sara vợ ông trong Hang Đôi ngoài đồng ruộng\, đối diện với Mambrê\, tức Hêbron\, trong đất Canaan.  \nKhi ấy\, Abraham đã già nua\, và Chúa đã chúc lành cho ông trong mọi sự. Abraham nói với người đầy tớ lớn tuổi nhất trong nhà\, cũng là người quản lý mọi của cải của ông rằng: “Ngươi hãy đặt tay vào dưới bắp vế ta mà thề trước mặt Chúa là Thiên Chúa trời đất\, sẽ không cưới cho con ta một người vợ thuộc dân Canaan mà ta đang ở chung với họ đây. Ngươi hãy đi về quê họ hàng ta\, mà cưới vợ cho con ta là Isaac”. Người đầy tớ thưa lại: “Nếu người phụ nữ không muốn theo tôi về xứ này\, thì tôi có phải đem con trai ông về quê quán của ông chăng?” Abraham trả lời rằng: “Ngươi hãy cẩn thận chớ bao giờ dẫn con ta về đó: Chúa là Thiên Chúa\, đã đưa ta ra khỏi nhà cha ta và quê quán ta\, đã phán và thề hứa cùng ta rằng: ‘Ta sẽ ban đất này cho dòng dõi ngươi’. Thiên Chúa sẽ sai thiên thần đi trước mặt ngươi\, và ngươi cưới cho con trai ta một người vợ trong xứ đó. Nếu người phụ nữ không chịu theo ngươi về\, thì ngươi không còn mắc lời đoan thề mà ta bảo người đây. Chỉ có một điều là đừng dẫn con trai ta về nơi đó”. \nKhi ấy\, Isaac đi bách bộ trên đường dẫn đến cái giếng gọi là “Đấng Hằng Sống và Trông Thấy”\, vì ông cư ngụ tại mạn nam. Lúc gần tối\, Isaac đi ra ngoài cánh đồng để suy ngắm. Khi ngước mắt lên nhìn\, thấy những con lạc đà đang trở về từ đàng xa. Rêbecca cũng ngước mắt nhìn thấy Isaac\, nàng liền nhảy xuống khỏi lạc đà\, và hỏi người đầy tớ rằng: “Người đang đi trong cánh đồng để ra đón chúng ta là ai vậy?” Người đầy tớ đáp: “Người đó là chủ tôi đấy”. Nàng vội vàng lấy khăn che mặt. Người đầy tớ lại kể lại cho Isaac hay mọi việc mình đã làm. Isaac đưa Rêbecca vào nhà xếp của Sara mẹ ông\, ông lấy nàng làm vợ và yêu thương nàng lắm\, cho nên ông tìm được niềm an ủi bớt thương nhớ mẹ đã qua đời. Đó là lời Chúa. \nĐÁP CA: Tv 105\, 1-2. 3-4a. 4b-5 \nĐáp: Hãy ca tụng Chúa\, bởi Người nhân hậu (c. 1a). \nHoặc đọc: Alleluia. \nXướng: 1) Hãy ca tụng Chúa\, bởi Người nhân hậu\, vì đức từ bi Người tồn tại muôn đời. Ai nói cho hết được những hành động quyền năng của Chúa\, ai kể cho xiết mọi lời ngợi khen Người? – Đáp. \n2) Phúc cho ai tuân giữ những điều huấn lệnh\, và luôn luôn thực thi điều công chính. Lạy Chúa\, xin nhớ chúng con khi gia ân huệ cho dân Ngài. – Đáp. \n3) Xin mang ơn cứu độ đến thăm viếng chúng con\, để chúng con hân hoan vì hạnh phúc những người Chúa chọn\, được chung vui bởi niềm vui của dân Ngài\, và được hãnh diện cùng phần gia nghiệp của Ngài. – Đáp. \nALLELUIA: Tv 94\, 8ab \nAlleluia\, alleluia! – Ước chi hôm nay các bạn nghe tiếng Chúa\, và đừng cứng lòng. – Alleluia. \nPHÚC ÂM: Mt 9\, 9-13 \n“Người lành mạnh không cần đến thầy thuốc: Ta muốn lòng nhân từ\, chớ không phải là hy lễ”. \nTin Mừng Chúa Giêsu Kitô theo Thánh Matthêu. \nKhi ấy\, Chúa Giêsu đi ngang qua\, thấy một người ngồi ở bàn thu thuế\, tên là Matthêu. Người phán bảo ông: “Hãy theo Ta”. Ông ấy đứng dậy đi theo Người. Và xảy ra là khi Người ngồi dùng bữa trong nhà\, thì có nhiều người thu thuế và tội lỗi đến ngồi đồng bàn cùng Chúa Giêsu và các môn đệ của Người. Những người biệt phái thấy vậy\, liền nói với các môn đệ Người rằng: “Tại sao Thầy các ông lại ăn uống với những người thu thuế và tội lỗi như thế?” Nghe vậy\, Chúa Giêsu bảo rằng: “Người lành mạnh không cần đến thầy thuốc\, nhưng là người đau yếu! Các ông hãy đi học xem lời này có ý nghĩa gì: ‘Ta muốn lòng nhân từ\, chứ không phải là hy lễ’. Vì Ta không đến để kêu gọi người công chính\, nhưng kêu gọi người tội lỗi”. Đó là lời Chúa.
URL:https://dongchuacuuthe.us/calendar/thu-sau-tuan-xiii-thuong-nien-nam-i-2/
END:VEVENT
END:VCALENDAR