BEGIN:VCALENDAR
VERSION:2.0
PRODID:-//Dòng Chúa Cứu Thế Hải Ngoại - ECPv6.15.20//NONSGML v1.0//EN
CALSCALE:GREGORIAN
METHOD:PUBLISH
X-WR-CALNAME:Dòng Chúa Cứu Thế Hải Ngoại
X-ORIGINAL-URL:https://dongchuacuuthe.us
X-WR-CALDESC:Events for Dòng Chúa Cứu Thế Hải Ngoại
REFRESH-INTERVAL;VALUE=DURATION:PT1H
X-Robots-Tag:noindex
X-PUBLISHED-TTL:PT1H
BEGIN:VTIMEZONE
TZID:America/Los_Angeles
BEGIN:DAYLIGHT
TZOFFSETFROM:-0800
TZOFFSETTO:-0700
TZNAME:PDT
DTSTART:20240310T100000
END:DAYLIGHT
BEGIN:STANDARD
TZOFFSETFROM:-0700
TZOFFSETTO:-0800
TZNAME:PST
DTSTART:20241103T090000
END:STANDARD
BEGIN:DAYLIGHT
TZOFFSETFROM:-0800
TZOFFSETTO:-0700
TZNAME:PDT
DTSTART:20250309T100000
END:DAYLIGHT
BEGIN:STANDARD
TZOFFSETFROM:-0700
TZOFFSETTO:-0800
TZNAME:PST
DTSTART:20251102T090000
END:STANDARD
BEGIN:DAYLIGHT
TZOFFSETFROM:-0800
TZOFFSETTO:-0700
TZNAME:PDT
DTSTART:20260308T100000
END:DAYLIGHT
BEGIN:STANDARD
TZOFFSETFROM:-0700
TZOFFSETTO:-0800
TZNAME:PST
DTSTART:20261101T090000
END:STANDARD
END:VTIMEZONE
BEGIN:VEVENT
DTSTART;VALUE=DATE:20250702
DTEND;VALUE=DATE:20250703
DTSTAMP:20260423T205751
CREATED:20250627T232048Z
LAST-MODIFIED:20250627T232048Z
UID:12241-1751414400-1751500799@dongchuacuuthe.us
SUMMARY:Thứ Tư Tuần XIII Thường Niên Năm I
DESCRIPTION:Bài đọc Tiếng Anh \nBÀI ĐỌC I: St 21\, 5. 8-20 \n“Con của người nữ tỳ không được thừa hưởng gia tài cùng với con tôi”. \nTrích sách Sáng Thế. \nKhi Abraham được một trăm tuổi\, thì Isaac sinh ra. Đứa trẻ lớn lên và thôi bú. Ngày Isaac thôi bú\, Abraham thết tiệc linh đình.  \nBà Sara thấy con của Agar\, người đàn bà Ai-cập\, chơi với Isaac\, con của bà\, liền nói với Abraham rằng: “Hãy đuổi mẹ con người tì nữ này đi\, vì con của người đầy tớ không được thừa hưởng gia tài cùng với con tôi là Isaac”. Abraham lấy sự ấy làm đau lòng cho con mình. Chúa phán cùng Abraham rằng: “Ngươi đừng buồn vì con trẻ\, và con nữ tỳ của ngươi. Bất cứ Sara nói gì\, ngươi hãy nghe theo\, vì nhờ Isaac\, sẽ có một dòng dõi mang tên ngươi. Nhưng Ta cũng sẽ cho con trai của nữ tỳ trở thành một dân tộc lớn\, vì nó thuộc dòng dõi của ngươi”.  \nSáng sớm (hôm sau) Abraham chỗi dậy\, lấy bánh mì và bầu nước\, đặt lên vai người nữ tỳ\, trao con trẻ cho nàng rồi bảo nàng đi. Sau khi ra đi\, nàng đến rừng Bersabê. Và khi đã uống hết bầu nước\, nàng bỏ con trẻ dưới gốc cây trong rừng. Nàng ra ngồi cách xa đó khoảng tầm một tên bắn\, vì nàng nói: “Tôi chẳng nỡ thấy con tôi chết”. Và (khi) nàng ngồi đó\, thì bên trong đứa bé cất tiếng khóc. Chúa đã nghe tiếng khóc của đứa trẻ\, và thiên thần Chúa từ trời gọi Agar mà rằng: “Agar\, ngươi làm gì thế? Ngươi đừng sợ\, vì Thiên Chúa đã nghe tiếng đứa trẻ khóc từ chỗ nó đang nằm kia. Ngươi hãy chỗi dậy\, ẵm con đi\, và giữ chặt tay nó\, vì Ta sẽ cho nó trở thành một dân tộc vĩ đại”. Và Thiên Chúa mở mắt cho Agar\, nàng thấy một giếng nước và đến múc đầy bầu nước cho đứa trẻ uống. Chúa phù trợ đứa trẻ; nó lớn lên\, cư ngụ trong rừng vắng\, và trở thành người có tài bắn cung tên. Đó là lời Chúa. \nĐÁP CA: Tv 33\, 7-8. 10-11. 12-13 \nĐáp: Kìa người đau khổ cầu cứu và Chúa đã nghe (c. 7a). \nXướng: 1) Kìa người đau khổ cầu cứu và Chúa đã nghe\, và Người đã cứu họ khỏi mọi điều tai nạn. Thiên thần Chúa hạ trại đồn binh chung quanh những người sợ Chúa và bênh chữa họ. – Đáp.  \n2) Các thánh nhân của Chúa hãy tôn sợ Chúa\, vì người tôn sợ Chúa chẳng thiếu thốn chi. Bọn sang giàu đã sa cơ nghèo đói\, nhưng người tìm Chúa chẳng thiếu chi thiện hảo. – Đáp. \n3) Các đệ tử ơi\, hãy lại đây\, hãy nghe ta\, ta sẽ dạy các con biết tôn sợ Chúa. Ai là người yêu quý cuộc đời\, mong sống lâu để hưởng nhiều phúc lộc. – Đáp. \nALLELUIA: Tv 94\, 8ab \nAlleluia\, alleluia! – Ước gì hôm nay các bạn nghe tiếng Chúa\, và đừng cứng lòng. – Alleluia. \nPHÚC ÂM: Mt 8\, 28-34 \n“Ông đến lúc này để hành hạ các quỷ”. \nTin Mừng Chúa Giêsu Kitô theo Thánh Matthêu. \nKhi ấy\, Chúa Giêsu lên thuyền sang bờ bên kia\, đến miền Giêrasa\, thì gặp hai người bị quỷ ám từ các mồ mả đi ra; chúng hung dữ đến nỗi không ai dám qua lại đường ấy. Và chúng kêu lên rằng: “Lạy Ông Giêsu\, Con Thiên Chúa\, chúng tôi có can chi đến ông? Ông đến đây để hành hạ chúng tôi trước hạn định sao?” Cách đó không xa có một đàn heo lớn đang ăn. Các quỷ nài xin Người rằng: “Nếu ông đuổi chúng tôi ra khỏi đây\, thì xin cho chúng tôi nhập vào đàn heo”. Người bảo chúng rằng: “Cứ đi”. Chúng liền ra khỏi\, đi nhập vào đàn heo. Tức thì cả đàn heo\, từ bờ dốc thẳng\, nhào xuống biển và chết chìm dưới nước.  \nCác người chăn heo chạy trốn về thành\, báo tin ấy và nói về các người bị quỷ ám. Thế là cả thành kéo ra đón Chúa Giêsu. Khi gặp Người\, họ xin Người rời khỏi vùng của họ. Đó là lời Chúa.
URL:https://dongchuacuuthe.us/calendar/thu-tu-tuan-xiii-thuong-nien-nam-i-2/
END:VEVENT
END:VCALENDAR