BEGIN:VCALENDAR
VERSION:2.0
PRODID:-//Dòng Chúa Cứu Thế Hải Ngoại - ECPv6.15.20//NONSGML v1.0//EN
CALSCALE:GREGORIAN
METHOD:PUBLISH
X-WR-CALNAME:Dòng Chúa Cứu Thế Hải Ngoại
X-ORIGINAL-URL:https://dongchuacuuthe.us
X-WR-CALDESC:Events for Dòng Chúa Cứu Thế Hải Ngoại
REFRESH-INTERVAL;VALUE=DURATION:PT1H
X-Robots-Tag:noindex
X-PUBLISHED-TTL:PT1H
BEGIN:VTIMEZONE
TZID:America/Los_Angeles
BEGIN:DAYLIGHT
TZOFFSETFROM:-0800
TZOFFSETTO:-0700
TZNAME:PDT
DTSTART:20240310T100000
END:DAYLIGHT
BEGIN:STANDARD
TZOFFSETFROM:-0700
TZOFFSETTO:-0800
TZNAME:PST
DTSTART:20241103T090000
END:STANDARD
BEGIN:DAYLIGHT
TZOFFSETFROM:-0800
TZOFFSETTO:-0700
TZNAME:PDT
DTSTART:20250309T100000
END:DAYLIGHT
BEGIN:STANDARD
TZOFFSETFROM:-0700
TZOFFSETTO:-0800
TZNAME:PST
DTSTART:20251102T090000
END:STANDARD
BEGIN:DAYLIGHT
TZOFFSETFROM:-0800
TZOFFSETTO:-0700
TZNAME:PDT
DTSTART:20260308T100000
END:DAYLIGHT
BEGIN:STANDARD
TZOFFSETFROM:-0700
TZOFFSETTO:-0800
TZNAME:PST
DTSTART:20261101T090000
END:STANDARD
END:VTIMEZONE
BEGIN:VEVENT
DTSTART;VALUE=DATE:20250623
DTEND;VALUE=DATE:20250624
DTSTAMP:20260423T221211
CREATED:20250531T045308Z
LAST-MODIFIED:20250531T045334Z
UID:11985-1750636800-1750723199@dongchuacuuthe.us
SUMMARY:Thứ Hai Tuần XII Thường Niên Năm I
DESCRIPTION:Bài đọc Tiếng Anh \nBÀI ĐỌC I: St 12\, 1-9 \n“Abram ra đi như Chúa đã truyền dạy”. \nTrích sách Sáng Thế. \nKhi ấy\, Chúa phán cùng Abram rằng: “Ngươi hãy từ bỏ quê hương\, họ hàng và nhà cửa cha ngươi mà đi đến xứ Ta chỉ cho. Ta sẽ cho ngươi thành một dân lớn; Ta sẽ chúc lành cho ngươi\, và Ta sẽ cho danh ngươi nên lớn lao\, ngươi sẽ là một mối chúc lành. Ta sẽ chúc lành cho những ai chúc lành cho ngươi\, và sẽ chúc dữ cho ai chúc dữ cho ngươi. Nơi ngươi mọi dân nước sẽ được chúc phúc”. \nAbram ra đi như Chúa đã truyền dạy\, và có ông Lót đi theo. Khi bỏ đất Haran\, Abram được bảy mươi lăm tuổi. Ông đem Sarai\, vợ ông\, và Lót là cháu\, cùng với tất cả tài sản và gia nhân mà họ có ở Haran. Họ ra đi đến đất Canaan. Khi họ tới nơi\, Abram rảo qua các xứ cho đến Sikem\, thung lũng thời danh. Bấy giờ người Canaan đang ở xứ này.  \nChúa đã hiện ra với Abram và phán rằng: “Ta sẽ ban đất này cho dòng dõi ngươi”. Ông đã dựng ở đó một bàn thờ kính Thiên Chúa\, Đấng đã hiện ra với ông. Rồi từ nơi ấy\, ông đi đến núi ở phía đông Bêthel mà cắm trại: phía tây của trại là Bêthel và phía đông là Hai. Ông cũng dựng ở đó một bàn thờ kính Chúa\, và khấn cầu danh Chúa. Abram cứ tiến dần mãi về (Nageb ở) phía nam. Đó là lời Chúa. \nĐÁP CA: Tv 32\, 12-13. 18-19. 20 và 22 \nĐáp: Phúc thay dân tộc mà Chúa chọn làm cơ nghiệp riêng mình (c. 12b). \nXướng: 1) Phúc thay quốc gia mà Chúa là Chúa tể\, dân tộc mà Chúa chọn làm cơ nghiệp riêng mình. Tự trời cao Chúa nhìn xuống\, Người xem thấy hết thảy con cái người ta. – Đáp. \n2) Kìa Chúa để mắt coi những kẻ kính sợ Người\, nhìn xem những ai cậy trông ân sủng của Người\, để cứu gỡ họ khỏi tay thần chết\, và nuôi dưỡng họ trong cảnh cơ hàn. – Đáp. \n3) Linh hồn chúng con mong đợi Chúa\, chính Ngài là Đấng phù trợ và che chở chúng con. Lạy Chúa\, xin đổ lòng từ bi xuống trên chúng con\, theo như chúng con tin cậy ở nơi Ngài. – Đáp. \nALLELUIA: Ga 14\, 5 \nAlleluia\, alleluia! – Chúa phán: “Thầy là đường\, là sự thật và là sự sống\, không ai đến được với Cha mà không qua Thầy”. – Alleluia. \nPHÚC ÂM: Mt 7\, 1-5 \n“Hãy lấy cái đà khỏi mắt ngươi trước đã”. \nTin Mừng Chúa Giêsu Kitô theo Thánh Matthêu. \nKhi ấy\, Chúa Giêsu phán cùng các môn đệ rằng: “Các con đừng đoán xét để khỏi bị đoán xét. Các con đoán xét thể nào thì các con cũng bị đoán xét như vậy. Các con dùng đấu nào mà đong\, thì cũng sẽ đong lại cho các con bằng đấu ấy. Sao ngươi thấy cái rác trong mắt anh em\, mà không thấy cái đà trong mắt ngươi? Hoặc sao ngươi bảo anh em: ‘Để tôi lấy cái rác ra khỏi mắt anh’\, và này: cái đà đang ở trong mắt ngươi. Đồ giả hình\, hãy lấy cái đà khỏi mắt ngươi trước đã\, rồi ngươi sẽ thấy rõ để lấy cái rác ra khỏi mắt anh em ngươi”. Đó là lời Chúa.
URL:https://dongchuacuuthe.us/calendar/thu-hai-tuan-xii-thuong-nien-nam-i-2/
END:VEVENT
END:VCALENDAR