BEGIN:VCALENDAR
VERSION:2.0
PRODID:-//Dòng Chúa Cứu Thế Hải Ngoại - ECPv6.15.20//NONSGML v1.0//EN
CALSCALE:GREGORIAN
METHOD:PUBLISH
X-WR-CALNAME:Dòng Chúa Cứu Thế Hải Ngoại
X-ORIGINAL-URL:https://dongchuacuuthe.us
X-WR-CALDESC:Events for Dòng Chúa Cứu Thế Hải Ngoại
REFRESH-INTERVAL;VALUE=DURATION:PT1H
X-Robots-Tag:noindex
X-PUBLISHED-TTL:PT1H
BEGIN:VTIMEZONE
TZID:America/Los_Angeles
BEGIN:DAYLIGHT
TZOFFSETFROM:-0800
TZOFFSETTO:-0700
TZNAME:PDT
DTSTART:20240310T100000
END:DAYLIGHT
BEGIN:STANDARD
TZOFFSETFROM:-0700
TZOFFSETTO:-0800
TZNAME:PST
DTSTART:20241103T090000
END:STANDARD
BEGIN:DAYLIGHT
TZOFFSETFROM:-0800
TZOFFSETTO:-0700
TZNAME:PDT
DTSTART:20250309T100000
END:DAYLIGHT
BEGIN:STANDARD
TZOFFSETFROM:-0700
TZOFFSETTO:-0800
TZNAME:PST
DTSTART:20251102T090000
END:STANDARD
BEGIN:DAYLIGHT
TZOFFSETFROM:-0800
TZOFFSETTO:-0700
TZNAME:PDT
DTSTART:20260308T100000
END:DAYLIGHT
BEGIN:STANDARD
TZOFFSETFROM:-0700
TZOFFSETTO:-0800
TZNAME:PST
DTSTART:20261101T090000
END:STANDARD
END:VTIMEZONE
BEGIN:VEVENT
DTSTART;VALUE=DATE:20250616
DTEND;VALUE=DATE:20250617
DTSTAMP:20260423T221211
CREATED:20250531T045206Z
LAST-MODIFIED:20250531T045237Z
UID:11982-1750032000-1750118399@dongchuacuuthe.us
SUMMARY:Thứ Hai Tuần XI Thường Niên Năm I
DESCRIPTION:Bài đọc Tiếng Anh \nBÀI ĐỌC I: 2 Cr 6\, 1-10 \n“Chúng tôi chứng tỏ mình là những người phục vụ Thiên Chúa”. \nTrích thư thứ hai của Thánh Phaolô Tông đồ gửi tín hữu Côrintô. \nAnh em thân mến\, với tư cách là những người cộng sự với Chúa Giêsu\, chúng tôi khuyên anh em đừng nhận lấy ơn của Thiên Chúa một cách vô ích. Quả thật Chúa phán: “Dịp thuận tiện đến\, Ta đã nhậm lời ngươi\, vào ngày cứu thoát\, Ta đã cứu vớt ngươi”. Bây giờ là cơ hội thuận tiện\, giờ đây là ngày cứu thoát. Chúng tôi không hề làm cớ cho ai phải vấp phạm\, để công việc phục vụ của chúng tôi khỏi bị đàm tiếu. Nhưng trong mọi sự\, chúng tôi chứng tỏ mình là những người phục vụ Thiên Chúa\, với hết lòng kiên nhẫn: trong gian truân thiếu thốn\, nguy khốn\, đòn vọt\, tù đày\, biến loạn\, khó nhọc\, nhịn ăn\, nhịn ngủ với lòng thanh khiết\, am hiểu\, đại lượng\, dịu dàng\, bằng sức mạnh Thánh Thần\, bằng lòng yêu thương không giả dối\, bằng lời chân thật\, và bằng quyền năng Thiên Chúa; nhờ khí giới công chính bên tả bên hữu; trải qua vinh quang cũng như tủi nhục\, tiếng xấu cũng như tiếng tốt\, bị coi là phường bịp bợm\, mặc dầu là chân thành; bị coi là vô danh\, nhưng hằng được biết đến; bị coi là đang giẫy chết\, nhưng này chúng tôi vẫn sống; bị coi như bị gia hình\, mà nào đã chết đâu; bị coi như phải ưu sầu\, nhưng chúng tôi vẫn luôn an vui; bị coi là kẻ nghèo túng\, nhưng chúng tôi lại làm cho nhiều người được giàu có; bị coi như không có gì\, nhưng chúng tôi làm chủ tất cả. Đó là lời Chúa. \nĐÁP CA: Tv 97\, 1. 2-3ab. 3cd-4 \nĐáp: Chúa đã công bố ơn cứu độ của Người (c. 2a). \nXướng: 1) Hãy ca mừng Chúa một bài ca mới\, vì Người đã làm nên những điều huyền diệu. Tay hữu Người đã tạo cho Người cuộc chiến thắng\, cùng với cánh tay thánh thiện của Người. – Đáp. \n2) Chúa đã công bố ơn cứu độ của Người\, trước mặt chư dân Người tỏ rõ đức công minh. Người đã nhớ lại lòng nhân hậu và trung thành\, để sủng ái nhà Israel. – Đáp. \n3) Khắp nơi bờ cõi địa cầu đã nhìn thấy ơn cứu độ của Thiên Chúa chúng ta. Toàn thể địa cầu hãy reo mừng Chúa\, hãy hoan hỉ\, mừng vui và đàn ca. – Đáp. \nALLELUIA: 1 Sm 3\, 9  \nAlleluia\, alleluia! – Lạy Chúa\, xin hãy phán\, vì tôi tớ Chúa đang lắng tai nghe. Chúa có lời ban sự sống đời đời. – Alleluia. \nPHÚC ÂM: Mt 5\, 38-42 \n“Thầy bảo các con: đừng chống cự lại với kẻ hung ác”. \nTin Mừng Chúa Giêsu Kitô theo Thánh Matthêu. \nKhi ấy\, Chúa Giêsu phán cùng các môn đệ rằng: “Các con đã nghe bảo: ‘Mắt đền mắt\, răng đền răng’. Còn Thầy\, Thầy bảo các con: đừng chống cự lại với kẻ hung ác; trái lại\, nếu ai vả má bên phải của con\, thì hãy đưa má bên kia cho nó nữa. Và ai muốn kiện con để đoạt áo trong của con\, thì hãy trao cho nó cả áo choàng nữa. Và ai bắt con đi một dặm\, thì con hãy đi với nó hai dặm. Ai xin\, thì con hãy cho. Ai muốn vay mượn\, thì con đừng khước từ”. Đó là lời Chúa.
URL:https://dongchuacuuthe.us/calendar/thu-hai-tuan-xi-thuong-nien-nam-i-2/
END:VEVENT
END:VCALENDAR