BEGIN:VCALENDAR
VERSION:2.0
PRODID:-//Dòng Chúa Cứu Thế Hải Ngoại - ECPv6.15.20//NONSGML v1.0//EN
CALSCALE:GREGORIAN
METHOD:PUBLISH
X-ORIGINAL-URL:https://dongchuacuuthe.us
X-WR-CALDESC:Events for Dòng Chúa Cứu Thế Hải Ngoại
REFRESH-INTERVAL;VALUE=DURATION:PT1H
X-Robots-Tag:noindex
X-PUBLISHED-TTL:PT1H
BEGIN:VTIMEZONE
TZID:America/Los_Angeles
BEGIN:DAYLIGHT
TZOFFSETFROM:-0800
TZOFFSETTO:-0700
TZNAME:PDT
DTSTART:20240310T100000
END:DAYLIGHT
BEGIN:STANDARD
TZOFFSETFROM:-0700
TZOFFSETTO:-0800
TZNAME:PST
DTSTART:20241103T090000
END:STANDARD
BEGIN:DAYLIGHT
TZOFFSETFROM:-0800
TZOFFSETTO:-0700
TZNAME:PDT
DTSTART:20250309T100000
END:DAYLIGHT
BEGIN:STANDARD
TZOFFSETFROM:-0700
TZOFFSETTO:-0800
TZNAME:PST
DTSTART:20251102T090000
END:STANDARD
BEGIN:DAYLIGHT
TZOFFSETFROM:-0800
TZOFFSETTO:-0700
TZNAME:PDT
DTSTART:20260308T100000
END:DAYLIGHT
BEGIN:STANDARD
TZOFFSETFROM:-0700
TZOFFSETTO:-0800
TZNAME:PST
DTSTART:20261101T090000
END:STANDARD
END:VTIMEZONE
BEGIN:VEVENT
DTSTART;VALUE=DATE:20250615
DTEND;VALUE=DATE:20250616
DTSTAMP:20260423T221718
CREATED:20250531T044233Z
LAST-MODIFIED:20250531T044233Z
UID:11965-1749945600-1750031999@dongchuacuuthe.us
SUMMARY:Lễ Chúa Ba Ngôi Năm C
DESCRIPTION:Bài đọc Tiếng Anh \nBÀI ĐỌC I: Cn 8\, 22-31 \n“Khi địa cầu chưa sinh nở\, sự khôn ngoan đã được sinh thành”. \nTrích sách Châm Ngôn. \nĐây sự Khôn Ngoan của Thiên Chúa phán: “Chúa đã tạo thành nên ta là đầu sự việc của Người\, trước cả những sự việc Người đã làm rất xa xưa. Ta đã được thiết lập tự thuở đời đời\, ngay tự đầu tiên\, khi địa cầu chưa sinh nở. Ta đã được sinh thành khi chưa có vực sâu\, khi chưa từng có những dòng suối nước. Trước khi Chúa củng cố những ngọn núi cao\, trước khi có những quả đồi\, ta đã sinh ra rồi. Khi Người chưa tạo tác địa cầu\, đồng ruộng\, cũng chưa tạo nên hạt bụi đầu tiên của cõi trần ai. Khi Người xếp đặt muôn cõi trời\, có ta ở đó\, khi Người vạch ra vòng đai trên mặt vực sâu\, khi Người định chỗ cho mây trời trên cõi cao xa\, và những suối nước tự vực sâu vọt lên mạnh mẽ\, khi Người đặt cương giới cho biển cả để nước đừng có vượt quá cõi bờ\, khi Người đặt nền tảng cho trái đất\, bấy giờ ta làm việc ở sát bên Người. Và mọi ngày ta làm cho Người sung sướng\, luôn luôn nhàn du ở trước nhan Người. Ta nhàn du trên quả địa cầu\, và gặp thấy hạnh phúc ở giữa con cái loài người”. Đó là lời Chúa. \nĐÁP CA: Tv 8\, 4-5. 6-7. 8-9 \nĐáp: Lạy Chúa\, lạy Chúa chúng con\, lạ lùng thay danh Chúa khắp nơi hoàn cầu (c. 2a). \nXướng: 1) Khi con ngắm cõi trời\, công cuộc tay Chúa tạo ra\, vầng trăng và muôn tinh tú mà Chúa gầy dựng\, thì nhân loại là chi mà Chúa nhớ tới? con người là chi mà Chúa để ý chăm nom? – Đáp.  \n2) Chúa dựng nên con người kém thiên thần một chút\, Chúa trang sức con người bằng danh dự với vinh quang; Chúa ban cho quyền hành trên công cuộc tay Ngài sáng tạo\, Chúa đặt muôn vật dưới chân con người. – Đáp. \n3) Nào chiên\, nào bò\, thôi thì tất cả\, cho tới những muông thú ở đồng hoang\, chim trời với cá đại dương\, những gì lội khắp nẻo đường biển khơi. – Đáp.  \nBÀI ĐỌC II: Rm 5\, 1-5 \n“Thánh Thần ban cho chúng ta lòng mến Chúa”. \nTrích thư Thánh Phaolô Tông đồ gửi tín hữu Rôma. \nAnh em thân mến\, khi được đức tin công chính hoá\, chúng ta được bình an trong Chúa nhờ Đức Giêsu Kitô\, Chúa chúng ta\, Đấng cho chúng ta dùng đức tin mà tiến đến ân sủng\, và đứng vững ở đó\, và được hiển vinh trong niềm hy vọng vinh quang của con cái Chúa. Không những thế\, chúng ta còn được vinh hiển trong gian nan\, khi biết rằng gian nan rèn nhẫn nại\, nhẫn nại rèn nhân đức\, còn nhân đức rèn cậy trông. Nhưng cậy trông không đưa đến thất vọng\, vì lòng mến Chúa được Thánh Thần\, Đấng ban cho chúng ta\, đổ xuống lòng chúng ta. Đó là lời Chúa. \nALLELUIA: Kh 1\, 8 \nAlleluia\, alleluia! – Sáng danh Đức Chúa Cha\, và Đức Chúa Con\, và Đức Chúa Thánh Thần; sáng danh Thiên Chúa\, Đấng đang có\, đã có và sẽ đến. – Alleluia. \nPHÚC ÂM: Ga 16\, 12-15 \n“Tất cả những gì Cha có\, đều là của Thầy; Thánh Thần sẽ lãnh nhận từ nơi Thầy mà loan truyền cho các con”. \nTin Mừng Chúa Giêsu Kitô theo Thánh Gioan. \nKhi ấy\, Chúa Giêsu phán cùng các môn đệ rằng: “Thầy còn nhiều điều phải nói với các con\, nhưng bây giờ các con không thể lĩnh hội được. Khi Thần Chân lý đến\, Người sẽ dạy các con biết tất cả sự thật\, vì Người không tự mình mà nói\, nhưng Người nghe gì thì sẽ nói vậy\, và Người sẽ bảo cho các con biết những việc tương lai. Người sẽ làm vinh danh Thầy\, vì Người sẽ lãnh nhận từ nơi Thầy mà loan truyền cho các con. Tất cả những gì Cha có đều là của Thầy\, vì thế Thầy đã nói: Người sẽ lãnh nhận từ nơi Thầy mà loan truyền cho các con”. Đó là lời Chúa.
URL:https://dongchuacuuthe.us/calendar/le-chua-ba-ngoi-nam-c/
END:VEVENT
END:VCALENDAR