BEGIN:VCALENDAR
VERSION:2.0
PRODID:-//Dòng Chúa Cứu Thế Hải Ngoại - ECPv6.15.20//NONSGML v1.0//EN
CALSCALE:GREGORIAN
METHOD:PUBLISH
X-WR-CALNAME:Dòng Chúa Cứu Thế Hải Ngoại
X-ORIGINAL-URL:https://dongchuacuuthe.us
X-WR-CALDESC:Events for Dòng Chúa Cứu Thế Hải Ngoại
REFRESH-INTERVAL;VALUE=DURATION:PT1H
X-Robots-Tag:noindex
X-PUBLISHED-TTL:PT1H
BEGIN:VTIMEZONE
TZID:America/Los_Angeles
BEGIN:DAYLIGHT
TZOFFSETFROM:-0800
TZOFFSETTO:-0700
TZNAME:PDT
DTSTART:20240310T100000
END:DAYLIGHT
BEGIN:STANDARD
TZOFFSETFROM:-0700
TZOFFSETTO:-0800
TZNAME:PST
DTSTART:20241103T090000
END:STANDARD
BEGIN:DAYLIGHT
TZOFFSETFROM:-0800
TZOFFSETTO:-0700
TZNAME:PDT
DTSTART:20250309T100000
END:DAYLIGHT
BEGIN:STANDARD
TZOFFSETFROM:-0700
TZOFFSETTO:-0800
TZNAME:PST
DTSTART:20251102T090000
END:STANDARD
BEGIN:DAYLIGHT
TZOFFSETFROM:-0800
TZOFFSETTO:-0700
TZNAME:PDT
DTSTART:20260308T100000
END:DAYLIGHT
BEGIN:STANDARD
TZOFFSETFROM:-0700
TZOFFSETTO:-0800
TZNAME:PST
DTSTART:20261101T090000
END:STANDARD
END:VTIMEZONE
BEGIN:VEVENT
DTSTART;VALUE=DATE:20250613
DTEND;VALUE=DATE:20250614
DTSTAMP:20260423T221211
CREATED:20250531T050305Z
LAST-MODIFIED:20250531T050305Z
UID:12008-1749772800-1749859199@dongchuacuuthe.us
SUMMARY:Thứ Sáu Tuần X Thường Niên Năm I
DESCRIPTION:Bài đọc Tiếng Anh \nBÀI ĐỌC I: 2 Cr 4\, 7-15 \n“Đấng đã làm cho Đức Giêsu sống lại\, cũng sẽ làm cho chúng tôi được sống lại với Đức Giêsu và sẽ đặt chúng tôi bên Người làm một với anh em”. \nTrích thư thứ hai của Thánh Phaolô Tông đồ gửi tín hữu Côrintô. \nAnh em thân mến\, chúng ta chứa đựng kho tàng ấy trong những bình sành\, để biết rằng quyền lực vô song đó là của Thiên Chúa\, chứ không phải phát xuất tự chúng ta. Chúng ta chịu khổ cực tư bề\, nhưng không bị đè bẹp; chúng ta phải long đong\, nhưng không tuyệt vọng; chúng ta bị bắt bớ\, nhưng không bị bỏ rơi; bị quật ngã\, nhưng không bị tiêu diệt. Bởi vì chúng ta luôn mang trên thân xác mình sự chết của Đức Giêsu\, để sự sống của Đức Giêsu được tỏ hiện nơi thân xác chúng ta. Vì chưng\, mặc dầu đang sống\, nhưng vì Đức Giêsu\, chúng tôi luôn luôn nộp mình chịu chết\, để sự sống của Đức Giêsu được tỏ hiện trong thân xác hay chết của chúng tôi. Vậy sự chết hoành hành nơi chúng tôi\, còn sự sống hoạt động nơi anh em. Nhưng anh em hãy có một tinh thần đức tin\, như đã chép rằng: “Tôi đã tin\, nên tôi đã nói”\, và chúng tôi tin\, nên chúng tôi cũng nói\, bởi chúng tôi biết rằng Đấng đã làm cho Đức Giêsu sống lại\, cũng sẽ làm cho chúng tôi được sống lại với Đức Giêsu\, và sẽ đặt chúng tôi bên Người làm một với anh em. Mọi sự đều vì anh em\, để ân sủng càng tràn đầy\, bởi nhiều kẻ tạ ơn\, thì càng gia tăng vinh quang Thiên Chúa. Đó là lời Chúa. \nĐÁP CA: Tv 115\, 10-11. 15-16. 17-18 \nĐáp: Lạy Chúa\, con sẽ hiến dâng lời ca ngợi làm sinh lễ (c. 17a). \nHoặc đọc: Alleluia. \nXướng: 1) Tôi đã tin cậy ngay cả trong lúc tôi nói: “Tấm thân tôi trăm phần khổ cực!” Trong lúc kinh hoàng tôi đã thốt ra: “Hết mọi người đều giả dối”. – Đáp. \n2) Trước mặt Chúa thật là quý hoá cái chết của những bậc thánh nhân Ngài. Ôi lạy Chúa\, con là tôi tớ Chúa\, tôi tớ Ngài\, con trai của nữ tì Ngài\, Ngài đã bẻ gãy xiềng xích cho con. – Đáp. \n3) Con sẽ hiến dâng lời ca ngợi làm sinh lễ\, và con sẽ kêu cầu danh Chúa. Tôi sẽ giữ trọn lời khấn xin cùng Chúa\, trước mặt toàn thể dân Ngài. – Đáp. \nALLELUIA: Ga 1\, 14 và 22b \nAlleluia\, alleluia! – Ngôi lời đã làm người và ở giữa chúng ta. Những ai tiếp rước Người\, thì Người ban cho họ quyền làm con Thiên Chúa. – Alleluia. \n\nPHÚC ÂM: Mt 5\, 27-32 \n“Ai nhìn người nữ mà ước ao phạm tội\, thì đã ngoại tình với người ấy trong lòng rồi”. \nTin Mừng Chúa Giêsu Kitô theo Thánh Matthêu. \nKhi ấy\, Chúa Giêsu phán cùng các môn đệ rằng: “Các con đã nghe dạy người xưa rằng: ‘Chớ ngoại tình’. Phần Thầy\, Thầy bảo các con: Ai nhìn người nữ mà ước ao phạm tội\, thì đã ngoại tình với người ấy trong lòng rồi. Nếu mắt bên phải con làm con vấp phạm\, thì hãy móc quăng khỏi con đi: thà mất một chi thể còn lợi cho con hơn là toàn thân bị ném vào hoả ngục. Và nếu tay phải con làm con vấp phạm\, thì hãy chặt mà quăng đi\, vì thà mất một chi thể còn lợi cho con hơn là toàn thân bị ném vào hoả ngục.  \n“Có lời dạy rằng: ‘Ai bỏ vợ mình\, hãy trao cho vợ một giấy ly dị’. Phần Thầy\, Thầy bảo các con: bất cứ ai bỏ vợ mình-ngoại trừ vì lý do gian dâm-là làm cớ cho vợ ngoại tình; và ai cưới người vợ bị bỏ\, cũng phạm tội ngoại tình nữa”. Đó là lời Chúa.
URL:https://dongchuacuuthe.us/calendar/thu-sau-tuan-x-thuong-nien-nam-i/
END:VEVENT
END:VCALENDAR