BEGIN:VCALENDAR
VERSION:2.0
PRODID:-//Dòng Chúa Cứu Thế Hải Ngoại - ECPv6.15.20//NONSGML v1.0//EN
CALSCALE:GREGORIAN
METHOD:PUBLISH
X-WR-CALNAME:Dòng Chúa Cứu Thế Hải Ngoại
X-ORIGINAL-URL:https://dongchuacuuthe.us
X-WR-CALDESC:Events for Dòng Chúa Cứu Thế Hải Ngoại
REFRESH-INTERVAL;VALUE=DURATION:PT1H
X-Robots-Tag:noindex
X-PUBLISHED-TTL:PT1H
BEGIN:VTIMEZONE
TZID:America/Los_Angeles
BEGIN:DAYLIGHT
TZOFFSETFROM:-0800
TZOFFSETTO:-0700
TZNAME:PDT
DTSTART:20240310T100000
END:DAYLIGHT
BEGIN:STANDARD
TZOFFSETFROM:-0700
TZOFFSETTO:-0800
TZNAME:PST
DTSTART:20241103T090000
END:STANDARD
BEGIN:DAYLIGHT
TZOFFSETFROM:-0800
TZOFFSETTO:-0700
TZNAME:PDT
DTSTART:20250309T100000
END:DAYLIGHT
BEGIN:STANDARD
TZOFFSETFROM:-0700
TZOFFSETTO:-0800
TZNAME:PST
DTSTART:20251102T090000
END:STANDARD
BEGIN:DAYLIGHT
TZOFFSETFROM:-0800
TZOFFSETTO:-0700
TZNAME:PDT
DTSTART:20260308T100000
END:DAYLIGHT
BEGIN:STANDARD
TZOFFSETFROM:-0700
TZOFFSETTO:-0800
TZNAME:PST
DTSTART:20261101T090000
END:STANDARD
END:VTIMEZONE
BEGIN:VEVENT
DTSTART;VALUE=DATE:20250606
DTEND;VALUE=DATE:20250607
DTSTAMP:20260423T221205
CREATED:20250531T043503Z
LAST-MODIFIED:20250531T043503Z
UID:11952-1749168000-1749254399@dongchuacuuthe.us
SUMMARY:Thứ Sáu Tuần VII Phục Sinh
DESCRIPTION:Bài đọc Tiếng Anh \nBÀI ĐỌC I: Cv 25\, 13-21\n“Đức Giêsu đã chết mà Phaolô quả quyết là vẫn sống”. \nTrích sách Tông đồ Công vụ. \nTrong những ngày ấy\, vua Agrippa và Berni xuống Cêsarêa chào Phestô. Vì hai người lưu lại đó nhiều ngày\, nên Phestô đem chuyện Phaolô trình nhà vua rằng: “Ở đây có một người tù Phêlixê để lại. Lúc tôi ở Giêrusalem\, các thượng tế và kỳ lão Do-thái đã đến xin tôi lên án hắn. Tôi đã trả lời với họ rằng: ‘Người Rôma không có thói quen lên án người nào trước khi bị cáo đối diện với nguyên cáo\, và có cơ hội bào chữa để thanh minh tội mình’. Vậy họ liền đến đây\, ngày hôm sau tôi ngồi toà án\, truyền điệu bị cáo đến. Các nguyên cáo đều có mặt\, nhưng không đưa ra một tội trạng nào\, như tôi đã ngờ trước; họ chỉ tố cáo hắn mấy điều về mê tín\, về một Giêsu nào đó đã chết mà Phaolô quả quyết là vẫn sống. Đang phân vân về vấn đề ấy\, tôi hỏi hắn có muốn đi Giêrusalem để được xét xử tại đó về các điều ấy không. Nhưng Phaolô nại đến thẩm quyền của hoàng đế Augustô\, nên tôi đã truyền giữ hắn lại để nạp cho hoàng đế”. Đó là lời Chúa. \nĐÁP CA: Tv 102\, 1-2. 11-12. 19-20ab\nĐáp: Chúa thiết lập ngai vàng Người ở cõi cao xanh (c. 19a). \nHoặc đọc: Alleluia. \nXướng: 1) Linh hồn tôi ơi\, hãy chúc tụng Chúa\, và toàn thể con người tôi\, hãy chúc tụng thánh danh Người. Linh hồn tôi ơi\, hãy chúc tụng Chúa\, và chớ khá quên mọi ân huệ của Người. – Đáp. \n2) Cũng như trời xanh cao vượt trên trái đất\, lòng nhân Người còn siêu việt hơn thế trên kẻ kính sợ Người. Cũng như từ đông sang tây xa vời vợi\, Người đã ném tội lỗi xa khỏi chúng tôi. – Đáp. \n3) Chúa thiết lập ngai vàng Người ở cõi cao xanh\, và vương quyền Người phủ trị trên khắp muôn loài. Hãy chúc tụng Chúa đi\, chư vị thiên thần\, dũng lực hùng anh\, thi hành lời Chúa. – Đáp. \nALLELUIA: Ga 14\, 18\nAlleluia\, alleluia! – Chúa phán: “Thầy sẽ không bỏ các con mồ côi: Thầy sẽ đến với các con và lòng các con sẽ vui mừng”. – Alleluia. \nPHÚC ÂM: Ga 21\, 15-19\n“Con hãy chăn dắt các chiên mẹ và chiên con của Thầy” \nTin Mừng Chúa Giêsu Kitô theo Thánh Gioan. \nKhi Chúa Giêsu đã tỏ mình ra cho các môn đệ\, Người dùng bữa với các ông\, và hỏi Simon Phêrô rằng: “Simon\, con ông Gioan\, con có yêu mến Thầy hơn những người này không?” Ông đáp: “Thưa Thầy: Có\, Thầy biết con yêu mến Thầy”. Người bảo ông: “Con hãy chăn dắt các chiên con của Thầy”. \nNgười lại hỏi: “Simon\, con ông Gioan\, con có yêu mến Thầy không?” Ông đáp: “Thưa Thầy: Có\, Thầy biết con yêu mến Thầy”. Người bảo ông: “Con hãy chăn dắt các chiên con của Thầy”. \nNgười hỏi ông lần thứ ba: “Simon\, con ông Gioan\, con có yêu mến Thầy không?” Phêrô buồn phiền\, vì thấy Thầy hỏi lần thứ ba “Con có yêu mến Thầy không?” Ông đáp: “Thưa Thầy\, Thầy biết mọi sự: Thầy biết con yêu mến Thầy” Người bảo ông: “Con hãy chăn dắt các chiên mẹ của Thầy. Thật\, Thầy bảo thật cho con biết: khi con còn trẻ\, con tự thắt lưng lấy và đi đâu mặc ý\, nhưng khi con già\, con sẽ giang tay ra\, người khác sẽ thắt lưng cho con và dẫn con đến nơi con không muốn đến”. Chúa nói thế có ý ám chỉ Phêrô sẽ chết cách nào để làm sáng danh Thiên Chúa. Phán những lời ấy đoạn\, Người bảo ông: “Con hãy theo Thầy”. Đó là lời Chúa.
URL:https://dongchuacuuthe.us/calendar/thu-sau-tuan-vii-phuc-sinh-2/
END:VEVENT
END:VCALENDAR