BEGIN:VCALENDAR
VERSION:2.0
PRODID:-//Dòng Chúa Cứu Thế Hải Ngoại - ECPv6.15.20//NONSGML v1.0//EN
CALSCALE:GREGORIAN
METHOD:PUBLISH
X-WR-CALNAME:Dòng Chúa Cứu Thế Hải Ngoại
X-ORIGINAL-URL:https://dongchuacuuthe.us
X-WR-CALDESC:Events for Dòng Chúa Cứu Thế Hải Ngoại
REFRESH-INTERVAL;VALUE=DURATION:PT1H
X-Robots-Tag:noindex
X-PUBLISHED-TTL:PT1H
BEGIN:VTIMEZONE
TZID:America/Los_Angeles
BEGIN:DAYLIGHT
TZOFFSETFROM:-0800
TZOFFSETTO:-0700
TZNAME:PDT
DTSTART:20240310T100000
END:DAYLIGHT
BEGIN:STANDARD
TZOFFSETFROM:-0700
TZOFFSETTO:-0800
TZNAME:PST
DTSTART:20241103T090000
END:STANDARD
BEGIN:DAYLIGHT
TZOFFSETFROM:-0800
TZOFFSETTO:-0700
TZNAME:PDT
DTSTART:20250309T100000
END:DAYLIGHT
BEGIN:STANDARD
TZOFFSETFROM:-0700
TZOFFSETTO:-0800
TZNAME:PST
DTSTART:20251102T090000
END:STANDARD
BEGIN:DAYLIGHT
TZOFFSETFROM:-0800
TZOFFSETTO:-0700
TZNAME:PDT
DTSTART:20260308T100000
END:DAYLIGHT
BEGIN:STANDARD
TZOFFSETFROM:-0700
TZOFFSETTO:-0800
TZNAME:PST
DTSTART:20261101T090000
END:STANDARD
END:VTIMEZONE
BEGIN:VEVENT
DTSTART;VALUE=DATE:20250604
DTEND;VALUE=DATE:20250605
DTSTAMP:20260423T221206
CREATED:20250531T043301Z
LAST-MODIFIED:20250531T043614Z
UID:11948-1748995200-1749081599@dongchuacuuthe.us
SUMMARY:Thứ Tư Tuần VII Phục Sinh
DESCRIPTION:Bài đọc Tiếng Anh \nBÀI ĐỌC I: Cv 20\, 28-38\n“Tôi xin ký thác các ông cho Thiên Chúa\, Đấng có quyền năng kiến tạo và ban cho các ông được dự phần gia nghiệp”. \nTrích sách Tông đồ Công vụ. \nTrong những ngày ấy\, Phaolô nói với các trưởng giáo đoàn Êphêxô rằng: “Các ông hãy thận trọng\, và săn sóc đoàn chiên mà Thánh Thần đã đặt các ông làm giám quản điều khiển giáo đoàn của Chúa đã được Người cứu chuộc bằng máu. Phần tôi\, tôi biết rằng sau khi tôi đi rồi\, sẽ có những sói dữ đột nhập giữa các ông\, chúng không dung tha đoàn chiên; và ngay giữa các ông sẽ có những kẻ ăn nói xảo trá nổi dậy để lôi kéo các môn đồ theo họ. Vì thế\, các ông hãy tỉnh thức\, và nhớ rằng trong ba năm trời\, đêm ngày tôi không ngừng sa lệ mà khuyên bảo từng người. Và bây giờ\, tôi xin ký thác các ông cho Thiên Chúa và cho lời ân sủng của Người\, Người là Đấng có quyền năng kiến tạo và ban cho các ông được dự phần gia nghiệp làm một với tất cả mọi người đã được thánh hoá. Tôi đã không ham muốn bạc\, vàng\, hay y phục của ai hết\, như chính các ông đã biết. Những đồ gì tôi và những kẻ ở với tôi cần dùng\, thì chính hai bàn tay này đã làm ra. Bằng mọi cách\, tôi đã chỉ bảo cho các ông rằng phải làm việc như vậy\, để nâng đỡ những người yếu đuối\, và ghi nhớ lời Chúa Giêsu đã phán: ‘Cho thì có phúc hơn là nhận'”. \nNói xong\, ngài quỳ xuống cầu nguyện với mọi người. Ai nấy đều khóc lớn tiếng\, và ôm cổ Phaolô mà hôn\, họ đau buồn nhất là vì lời ngài vừa nói rằng họ sẽ không còn thấy mặt ngài nữa. Rồi họ tiễn đưa ngài xuống tàu. Đó là lời Chúa. \nĐÁP CA: Tv 67\, 29-30. 33-35a. 35b-36c\nĐáp: Chư quốc trần ai\, hãy ca khen Thiên Chúa (c. 33a). \nHoặc đọc: Alleluia. \nXướng: 1) Ôi Thiên Chúa\, xin tỏ ra quyền năng của Chúa. Ôi Thiên Chúa\, xin củng cố sự việc Chúa đã làm cho chúng con! Vì thánh đài của Chúa ở Giêrusalem\, các vua sẽ tiến dâng Ngài lễ vật. – Đáp. \n2) Chư quốc trần ai\, hãy ca khen Thiên Chúa\, hãy xướng lên bài ca mừng Chúa\, mừng Đấng ngự giá qua cõi trời\, cõi trời ngàn thu! Kìa Ngài lên tiếng\, tiếng nói quyền năng: “Các ngươi hãy nhìn biết quyền năng Thiên Chúa”. – Đáp. \n3) Oai nghiêm Ngài chiếu giãi trên Israel\, và quyền năng Ngài trên cõi nước mây. Từ thánh điện của Ngài\, Thiên Chúa đáng tôn sợ. Thiên Chúa của Israel\, chính Ngài ban cho dân Ngài được quyền năng và mãnh lực. – Đáp. \nALLELUIA: Mt 28\, 19 và 20\nAlleluia\, alleluia! – Chúa phán: “Các con hãy đi giảng dạy muôn dân: Thầy sẽ ở cùng các con mọi ngày cho đến tận thế”. – Alleluia. \nPHÚC ÂM: Ga 17\, 11b-19\n“Để chúng được nên một như Ta”. \nTin Mừng Chúa Giêsu Kitô theo Thánh Gioan. \nKhi ấy\, Chúa Giêsu ngước mắt lên trời cầu nguyện rằng: “Lạy Cha chí thánh\, xin hãy gìn giữ trong danh Cha những kẻ Cha đã ban cho Con\, để chúng được nên một như Ta. Khi Con còn ở với chúng\, Con đã gìn giữ chúng trong Cha. Con đã gìn giữ những kẻ Cha đã giao phó cho Con\, không một ai trong chúng bị mất\, trừ ra con người hư vong\, để lời Kinh Thánh được nên trọn. Bây giờ Con về cùng Cha\, và Con nói những điều này khi Con còn dưới thế\, để chúng được đầy sự vui mừng của Con trong lòng. \n“Con đã ban lời Cha cho chúng\, và thế gian đã ghét chúng\, vì chúng không thuộc về thế gian\, cũng như Con không thuộc về thế gian. Con không xin Cha đem chúng ra khỏi thế gian\, nhưng xin gìn giữ chúng cho khỏi sự dữ. Chúng không thuộc về thế gian\, cũng như Con không thuộc về thế gian. Xin hãy thánh hoá chúng trong chân lý: lời Cha là chân lý. Cũng như Cha đã sai Con vào thế gian\, thì Con cũng sai chúng vào thế gian. Và vì chúng\, Con đã tự thánh hoá\, để cả chúng cũng được thánh hoá trong chân lý”. Đó là lời Chúa.
URL:https://dongchuacuuthe.us/calendar/thu-tu-tuan-vii-phuc-sinh-2/
END:VEVENT
END:VCALENDAR