BEGIN:VCALENDAR
VERSION:2.0
PRODID:-//Dòng Chúa Cứu Thế Hải Ngoại - ECPv6.15.20//NONSGML v1.0//EN
CALSCALE:GREGORIAN
METHOD:PUBLISH
X-WR-CALNAME:Dòng Chúa Cứu Thế Hải Ngoại
X-ORIGINAL-URL:https://dongchuacuuthe.us
X-WR-CALDESC:Events for Dòng Chúa Cứu Thế Hải Ngoại
REFRESH-INTERVAL;VALUE=DURATION:PT1H
X-Robots-Tag:noindex
X-PUBLISHED-TTL:PT1H
BEGIN:VTIMEZONE
TZID:America/Los_Angeles
BEGIN:DAYLIGHT
TZOFFSETFROM:-0800
TZOFFSETTO:-0700
TZNAME:PDT
DTSTART:20240310T100000
END:DAYLIGHT
BEGIN:STANDARD
TZOFFSETFROM:-0700
TZOFFSETTO:-0800
TZNAME:PST
DTSTART:20241103T090000
END:STANDARD
BEGIN:DAYLIGHT
TZOFFSETFROM:-0800
TZOFFSETTO:-0700
TZNAME:PDT
DTSTART:20250309T100000
END:DAYLIGHT
BEGIN:STANDARD
TZOFFSETFROM:-0700
TZOFFSETTO:-0800
TZNAME:PST
DTSTART:20251102T090000
END:STANDARD
BEGIN:DAYLIGHT
TZOFFSETFROM:-0800
TZOFFSETTO:-0700
TZNAME:PDT
DTSTART:20260308T100000
END:DAYLIGHT
BEGIN:STANDARD
TZOFFSETFROM:-0700
TZOFFSETTO:-0800
TZNAME:PST
DTSTART:20261101T090000
END:STANDARD
END:VTIMEZONE
BEGIN:VEVENT
DTSTART;VALUE=DATE:20250602
DTEND;VALUE=DATE:20250603
DTSTAMP:20260423T221205
CREATED:20250531T043150Z
LAST-MODIFIED:20250531T043710Z
UID:11946-1748822400-1748908799@dongchuacuuthe.us
SUMMARY:Thứ Hai Tuần VII Phục Sinh
DESCRIPTION:Bài đọc Tiếng Anh \nBÀI ĐỌC I: Cv 19\, 1-8\n“Anh em tin mà đã nhận Thánh Thần chưa?” \nTrích sách Tông đồ Công vụ. \nXảy ra là khi Apollô ở Côrintô\, thì Phaolô đi miền thượng du\, rồi đến Êphêxô gặp một số môn đồ\, và ngài hỏi họ: “Anh em tin mà đã nhận Thánh Thần chưa?” Họ trả lời: “Nguyên việc có Thánh Thần hay không\, chúng tôi cũng chưa nghe nói”. Ngài lại hỏi: “Vậy các ngươi đã chịu phép rửa của ai?” Họ thưa: “Phép rửa của Gioan”. Phaolô liền bảo: “Gioan thanh tẩy dân chúng bằng phép rửa sám hối mà rằng: Hãy tin vào Đấng sẽ đến sau ông\, tức là Đức Giêsu”. Nghe vậy\, họ đã chịu phép rửa nhân danh Chúa Giêsu. Và khi Phaolô đặt tay trên họ\, thì Thánh Thần đến ngự xuống trên họ\, họ liền nói được nhiều thứ tiếng và nói tiên tri. Tất cả đàn ông chừng mười hai người. \nNgài vào hội đường\, và trong suốt ba tháng\, Ngài mạnh dạn rao giảng\, tranh luận và thuyết phục về nước Thiên Chúa. Đó là lời Chúa. \nĐÁP CA: Tv 67\, 2-3. 4-5ac. 6-7ab\nĐáp: Chư quốc trần ai\, hãy ca khen Thiên Chúa (c. 33a). \nHoặc đọc: Alleluia. \nXướng: 1) Thiên Chúa đứng lên\, quân thù của Người tan rã\, và những kẻ ghét Người chạy trốn khỏi long nhan. Như làn khói toả\, chúng rã tan\, như mẩu sáp ong gần lửa chảy ra\, những đứa ác nhân tiêu vong trước nhan Thiên Chúa. – Đáp. \n2) Những người hiền đức mừng rỡ hỉ hoan\, trước nhan Thiên Chúa họ mừng vui sung sướng. Hãy hát mừng Thiên Chúa\, hãy đàn ca danh Người\, danh hiệu Người là Chúa\, hãy mừng rỡ hân hoan trước nhan Người. – Đáp. \n3) Là Cha kẻ mồ côi\, là Đấng bênh vực người quả phụ\, Thiên Chúa ngự trong thánh điện của Người. Thiên Chúa tạo nhà cửa cho những người bị bỏ rơi\, dẫn đưa những người tù tội ra nơi thịnh đạt. – Đáp \nALLELUIA: Mt 28\, 19 và 20\nAlleluia\, alleluia! – Chúa phán: “Các con hãy đi giảng dạy muôn dân: Thầy sẽ ở cùng các con mọi ngày cho đến tận thế”. – Alleluia. \nPHÚC ÂM: Ga 16\, 29-33\n“Hãy can đảm lên\, Thầy đã thắng thế gian”. \nTin Mừng Chúa Giêsu Kitô theo Thánh Gioan. \nKhi ấy\, các môn đệ thưa Chúa Giêsu rằng: “Đúng thế\, bây giờ Thầy nói rõ ràng\, và không dùng dụ ngôn nữa. Bây giờ chúng con biết rằng Thầy biết mọi sự\, không cần có ai hỏi Thầy nữa. Bởi đó chúng con tin Thầy bởi Thiên Chúa mà ra”. Chúa Giêsu đáp lại các ông: “Bây giờ các con mới tin ư? Này đến giờ\, và đã đến rồi\, các con sẽ tản mát mỗi người một ngả\, bỏ mặc Thầy một mình. Nhưng Thầy không ở một mình đâu\, vì có Cha hằng ở với Thầy. Thầy nói với các con những điều đó để các con được bình an trong Thầy. Giữa thế gian\, các con sẽ phải đau khổ\, nhưng hãy can đảm lên\, Thầy đã thắng thế gian”. Đó là lời Chúa.
URL:https://dongchuacuuthe.us/calendar/thu-hai-tuan-vii-phuc-sinh-2/
END:VEVENT
END:VCALENDAR