BEGIN:VCALENDAR
VERSION:2.0
PRODID:-//Dòng Chúa Cứu Thế Hải Ngoại - ECPv6.15.20//NONSGML v1.0//EN
CALSCALE:GREGORIAN
METHOD:PUBLISH
X-ORIGINAL-URL:https://dongchuacuuthe.us
X-WR-CALDESC:Events for Dòng Chúa Cứu Thế Hải Ngoại
REFRESH-INTERVAL;VALUE=DURATION:PT1H
X-Robots-Tag:noindex
X-PUBLISHED-TTL:PT1H
BEGIN:VTIMEZONE
TZID:America/Los_Angeles
BEGIN:DAYLIGHT
TZOFFSETFROM:-0800
TZOFFSETTO:-0700
TZNAME:PDT
DTSTART:20240310T100000
END:DAYLIGHT
BEGIN:STANDARD
TZOFFSETFROM:-0700
TZOFFSETTO:-0800
TZNAME:PST
DTSTART:20241103T090000
END:STANDARD
BEGIN:DAYLIGHT
TZOFFSETFROM:-0800
TZOFFSETTO:-0700
TZNAME:PDT
DTSTART:20250309T100000
END:DAYLIGHT
BEGIN:STANDARD
TZOFFSETFROM:-0700
TZOFFSETTO:-0800
TZNAME:PST
DTSTART:20251102T090000
END:STANDARD
BEGIN:DAYLIGHT
TZOFFSETFROM:-0800
TZOFFSETTO:-0700
TZNAME:PDT
DTSTART:20260308T100000
END:DAYLIGHT
BEGIN:STANDARD
TZOFFSETFROM:-0700
TZOFFSETTO:-0800
TZNAME:PST
DTSTART:20261101T090000
END:STANDARD
END:VTIMEZONE
BEGIN:VEVENT
DTSTART;VALUE=DATE:20250531
DTEND;VALUE=DATE:20250601
DTSTAMP:20260423T232918
CREATED:20250512T051522Z
LAST-MODIFIED:20250512T051522Z
UID:11888-1748649600-1748735999@dongchuacuuthe.us
SUMMARY:Lễ Đức Mẹ Thăm Viếng\, LK
DESCRIPTION:Bài đọc Tiếng Anh\nBÀI ĐỌC I: Xp 3\, 14-18a\n“Vua Israel là Chúa ở giữa ngươi”. \nTrích sách Tiên tri Xôphônia. \nHỡi thiếu nữ Sion\, hãy cất tiếng ca! Hỡi Israel\, hãy hoan hỉ! Hỡi thiếu nữ Giêrusalem\, hãy hân hoan và hãy nhảy mừng hết tâm hồn! Chúa đã rút lại lời kết án ngươi\, và đã đẩy lui quân thù của ngươi. Vua Israel là Chúa ở giữa ngươi\, ngươi không còn sợ khổ cực nữa. \nTrong ngày đó\, ở Giêrusalem thiên hạ sẽ nói rằng: “Hỡi Sion\, đừng sợ! Tay đừng bủn rủn! Chúa là Thiên Chúa ngươi\, là Đấng mạnh mẽ ở giữa ngươi\, chính Người cứu thoát ngươi. Người hân hoan vui mừng vì ngươi. Với ngươi\, Người làm mới lại tình yêu của Người. Vì ngươi\, Người nhảy mừng trong tiếng reo vui\, như thuở tao phùng”. Đó là lời Chúa. \nHoặc đọc: Rm 12\, 9-16\n” Hãy giúp đỡ các thánh khi họ thiếu thốn\, và ân cần tiếp khách đỗ nhà”. \nTrích thư của Thánh Phaolô Tông đồ gửi tín hữu Rôma. \nAnh em thân mến\, đức ái không được giả hình: Hãy chê ghét điều ác và trìu mến điều lành. Hãy thương yêu nhau trong tình bác ái huynh đệ. Hãy nhân nhượng tôn kính nhau. Hãy siêng năng\, chớ biếng nhác: Hãy sốt mến trong tâm hồn và phụng sự Chúa. Hãy hân hoan trong niềm cậy trông\, nhẫn nại trong gian truân và kiên tâm cầu nguyện. Hãy giúp đỡ các thánh khi họ thiếu thốn\, và ân cần tiếp khách đỗ nhà. \nHãy chúc phúc cho những kẻ bắt bớ anh em: Hãy chúc phúc\, chứ đừng chúc dữ. Hãy vui mừng với kẻ vui mừng\, và khóc lóc với kẻ khóc lóc. Hãy đồng tâm hiệp ý với nhau: đừng tự cao tự đại\, một hãy ưa thích những sự hèn kém. Đừng tự đắc cho mình là khôn. Đó là lời Chúa. \nĐÁP CA: Is 12\, 2-3. 4bcd. 5-6\nĐáp: Đấng Thánh cao cả của Israel ở giữa ngươi (c. 6b). \nXướng: 1) Này là Thiên Chúa\, Đấng cứu độ tôi\, tôi sẽ tin tưởng hành động và không sợ hãi: vì Chúa là sức mạnh và là sự ngợi khen của tôi\, và Người đã đem lại cho tôi ơn cứu độ. – Đáp. \n2) Hãy tuyên xưng Chúa và kêu cầu thánh danh Người; hãy làm cho các dân tộc biết việc Chúa sáng tạo; hãy nhớ rằng danh Người thật cao sang. – Đáp. \n3) Hãy ca mừng Chúa\, vì người đã làm những việc trọng đại; hãy công bố việc đó trong khắp hoàn cầu. Hỡi dân thành Sion\, hãy nhảy mừng và ca ngợi\, vì Đấng Thánh cao cả của Israel ở giữa ngươi. – Đáp. \nALLELUIA: Lc 1\, 45\nAlleluia\, alleluia! – Hỡi Trinh Nữ Maria\, phúc cho Bà là kẻ đã tin rằng lời Chúa phán cùng Bà sẽ được thực hiện. – Alleluia. \nPHÚC ÂM: Lc 1\, 39-56\n“Bởi đâu tôi được Mẹ Chúa tôi đến viếng thăm tôi?” \nTin Mừng Chúa Giêsu Kitô theo Thánh Luca. \nTrong những ngày ấy\, Maria chỗi dậy\, vội vã ra đi lên miền núi\, đến một thành xứ Giuđêa. Bà vào nhà ông Giacaria và chào bà Elisabeth. Và khi bà Elisabeth nghe lời chào của Maria\, thì hài nhi nhảy mừng trong lòng bà\, và bà Elisabeth được đầy Chúa Thánh Thần\, bà kêu lớn tiếng rằng: \n“Bà được chúc phúc giữa các người phụ nữ\, và con lòng Bà được chúc phúc. Bởi đâu tôi được Mẹ Thiên Chúa tôi đến viếng thăm? Vì này tai tôi vừa nghe lời Bà chào\, thì hài nhi liền nhảy mừng trong lòng tôi. Phúc cho Bà là kẻ đã tin rằng lời Chúa phán cùng Bà sẽ được thực hiện”. \nVà Maria nói: “Linh hồn tôi ngợi khen Chúa\, và thần trí tôi hoan hỉ trong Thiên Chúa\, Đấng Cứu Độ tôi\, vì Chúa đã đoái nhìn đến phận hèn tớ nữ của Chúa. Này từ nay muôn thế hệ sẽ khen rằng tôi có phước\, vì Đấng toàn năng đã làm cho tôi những sự trọng đại và Danh Ngài là thánh. Lòng thương xót Chúa trải qua đời nọ đến đời kia dành cho những người kính sợ Chúa. \n“Chúa đã vung cánh tay ra oai thần lực\, dẹp tan những ai thần trí kiêu căng. Chúa lật đổ người quyền thế xuống khỏi ngai vàng và nâng cao những người phận nhỏ. Chúa đã cho người đói khát no đầy ơn phước\, và để người giàu có trở về tay không. Chúa đã săn sóc Israel tôi tớ Chúa\, bởi nhớ lại lòng thương xót của Ngài. Như Chúa đã phán cùng các tổ phụ chúng tôi\, cho Abraham và dòng dõi người đến muôn đời”. \nMaria ở lại với bà Elisabeth độ ba tháng\, đoạn Người trở về nhà mình. Đó là lời Chúa.
URL:https://dongchuacuuthe.us/calendar/le-duc-me-tham-vieng-lk/
END:VEVENT
END:VCALENDAR